{"text_format":"1","workbook":"xlsx","n_sheets":22,"sheets":["Forside 2018","J11 2018","G11 2018","J12 2018","G12 2018","Forside 2017","J11 2017","G11 2017","J12 2017","G12 2017","Oslo Skikrets 2017","J11 2016","G11 2016","J12 2016","G12 2016","Skikrets 2016","Statistikk 2013","J11 2013","G11 2013","J12 2013","G12 2013","Ark1"],"not_rendered":{"charts":0,"images":9,"macros":0,"external_links":0,"defined_names":5,"comments":0,"pivot_tables":0},"unopened":[],"bounds":{"document_bytes":16777216,"sheet_cells":100000,"rows_first":2000,"rows_last":500,"rows_between":2000,"halvings":0,"cell_chars":16384,"cell_head_chars":4096},"cells_cut":0,"cells_raw":0,"read":"whole","date_system":"1900"}

{"sheet":"Forside 2018","index":0,"n_rows":24,"n_cols":1,"rows_kept":24,"cut":false,"hidden":false,"merged":[]}
["Resultatliste Oslo Cup 2017"]
["Etter 4 av 8 renn"]
[]
[]
["- Oslo Cup arrangeres av Oslo Skikrets i samarbeid med IRS, Heming, Ready, Njård, HSIL og Kjelsås"]
["- 8 renn, arrangert av de samarbeidende klubbene, inngår i Oslo Cup "]
["- Det konkurreres i separate årsklasser, J11, G11, J12 og G12"]
["- Sammenlagtresultatene beregnes med World Cup poeng + deltakerpoeng."]
["- De fire beste resultatene er tellende sammenlagt, men alle deltakerpoengene teller med i totalresultatet"]
["- Premiering av de tre beste sammenlagt i hver klasse"]
[]
[]
["Poengsystem:"]
["- World Cup poeng for plasseringer (100 poeng for seier, 80 for andre plass osv). "]
["- De fire beste resultatene er tellende i sammendraget"]
["- Det gis 5 deltakerpoeng pr. renn, uanhengig av resultat og om resultatet er tellende i sammendraget"]
[]
[]
["Forklaring på overskriften i resultatlistene:"]
["- Plass = plassering i rennet "]
["- Res. = resultatpoeng etter World Cup skala "]
["- Del. = deltakerpoeng, 5 poeng for deltakelse "]
["- Tot. = totalpoeng for rennet, sum av resultatpoeng og deltakerpoeng "]
["- Resultater/poeng som ikke er tellende for de som har kjørt flere enn fire renn er markert/skravert med grått"]

{"sheet":"J11 2018","index":1,"n_rows":53,"n_cols":76,"rows_kept":53,"cut":false,"hidden":false,"merged":[[0,42,0,45],[2,26,2,29],[2,31,2,34],[2,36,2,39],[2,41,2,44],[3,62,3,64],[4,7,4,14],[4,17,4,24],[2,51,2,54],[2,56,2,59],[2,61,2,64],[3,27,3,29],[3,32,3,34],[3,37,3,39],[3,42,3,44],[3,47,3,49],[3,52,3,54],[3,57,3,59],[2,46,2,49]]}
["Resultatliste Oslo Cup 2018 - Jenter 11 år"]
[{"$f":"'Forside 2018'!A2","v":"Etter 4 av 8 renn"}]
[null,null,null,null,null,null,null,"IRS Rennet","Ljan Rennet","Njård Rennet","Ready Rennet","Telenor Arena Cup","Euro-tecfarten","Oslo Alpinfestival SL","Oslo Alpinfestival SSL",null,null,"IRS Rennet","Ljan Rennet","Njård Rennet","Ready Rennet","Telenor Arena Cup","Euro-tecfarten","Oslo Alpinfestival SL","Oslo Alpinfestival SSL",null,"--------IRS Rennet----------",null,null,null,null,"----------Ljan Rennet---------",null,null,null,null,"--------Njård Rennet----------",null,null,null,null,"--------Ready Rennet---------",null,null,null,null,"-----Telenor Arena Cup----",null,null,null,null,"------Euro-tecfarten--------",null,null,null,null,"---Oslo Alpinfestival SL---",null,null,null,null,"---Oslo Alpinfestival SSL---"]
[null,null,null,null,null,"Antall",null,"2016-02-04","2016-02-05","2016-02-10","2016-02-11","2016-02-15","2016-03-01","2017-03-11","2016-03-12",null,"Poeng","2016-02-04","2016-02-05","2016-02-10","2016-02-11","2016-02-15","2016-03-01","2017-03-11","2016-03-12",null,null,"--------Poeng--------",null,null,null,null,"--------Poeng--------",null,null,null,null,"-------Poeng---------",null,null,null,null,"-------Poeng---------",null,null,null,null,"-------Poeng---------",null,null,null,null,"-------Poeng---------",null,null,null,null,"-------Poeng---------",null,null,null,null,"-------Poeng---------",null,null,null,null,null,"Løpere med ","Løpere med ","Løpere med ","Løpere med ","Løpere med ","Løpere med ","Løpere med ","Løpere med "]
["Plass","Etternavn","Fornavn","Klubb","Poeng","renn",null,"------------------------------Plassering i rennene---------------------------------",null,null,null,null,null,null,null,null,"brutto","----------------Resultatpoeng hvis mer enn 4 renn----------------",null,null,null,null,null,null,null,null,"Plass","Res.","Del.","Tot.",null,"Plass","Res.","Del.","Tot.",null,"Plass","Res.","Del.","Tot.",null,"Plass","Res.","Del.","Tot.",null,"Plass","Res.","Del.","Tot.",null,"Plass","Res.","Del.","Tot.",null,"Plass","Res.","Del.","Tot.",null,"Plass","Res.","Del.","Tot.",null,"Plass","Poeng","8 renn","7 renn","6 renn","5 renn","4 renn","3 renn","2 renn","kun 1 renn"]
[{"$f":"IF(E6<E5,BO6,A5)","v":1},"Schei","Julie Haakaas","IRS",{"$f":"Q6","v":299},{"$f":"(IF(AC6=5,1,0)+IF(AH6=5,1,0)+IF(AM6=5,1,0)+IF(AR6=5,1,0)+IF(AW6=5,1,0)+IF(BA6=5,1,0)+IF(BG6=5,1,0)+IF(BL6=5,1,0))","v":4},null,{"$f":"IF(AA6=\"\",\"\",AA6)","v":1},{"$f":"IF(AF6=\"\",\"\",AF6)","v":1},{"$f":"IF(AK6=\"\",\"\",AK6)","v":4},{"$f":"IF(AP6=\"\",\"\",AP6)","v":9},{"$f":"IF(AU6=\"\",\"\",AU6)","v":""},{"$f":"IF(AZ6=\"\",\"\",AZ6)","v":""},{"$f":"IF(BE6=\"\",\"\",BE6)","v":""},{"$f":"IF(BJ6=\"\",\"\",BJ6)","v":""},null,{"$f":"AD6+AI6+AN6+AS6+AX6+BC6+BH6","v":299},{"$f":"IF($F6>=5,IF(AB6=\"\",\"\",AB6),\"\")","v":""},{"$f":"IF($F6>=5,IF(AG6=\"\",\"\",AG6),\"\")","v":""},{"$f":"IF($F6>=5,IF(AL6=\"\",\"\",AL6),\"\")","v":""},{"$f":"IF($F6>=5,IF(AQ6=\"\",\"\",AQ6),\"\")","v":""},{"$f":"IF($F6>=5,IF(AV6=\"\",\"\",AV6),\"\")","v":""},{"$f":"IF($F6>=5,IF(BA6=\"\",\"\",BA6),\"\")","v":""},{"$f":"IF($F6>=5,IF(BF6=\"\",\"\",BF6),\"\")","v":""},{"$f":"IF($F6>=5,IF(BK6=\"\",\"\",BK6),\"\")","v":""},null,1,{"$f":"IF(ISNUMBER(AA6),(VLOOKUP(AA6,$BO$6:$BP$50,2)),0)","v":100},{"$f":"IF(AA6<>\"\",5,0)","v":5},{"$f":"AB6+AC6","v":105},null,1,{"$f":"IF(ISNUMBER(AF6),(VLOOKUP(AF6,$BO$6:$BP$50,2)),0)","v":100},{"$f":"IF(AF6<>\"\",5,0)","v":5},{"$f":"AG6+AH6","v":105},null,4,{"$f":"IF(ISNUMBER(AK6),(VLOOKUP(AK6,$BO$6:$BP$50,2)),0)","v":50},{"$f":"IF(AK6<>\"\",5,0)","v":5},{"$f":"AL6+AM6","v":55},null,9,{"$f":"IF(ISNUMBER(AP6),(VLOOKUP(AP6,$BO$6:$BP$50,2)),0)","v":29},{"$f":"IF(AP6<>\"\",5,0)","v":5},{"$f":"AQ6+AR6","v":34},null,null,{"$f":"IF(ISNUMBER(AU6),(VLOOKUP(AU6,$BO$6:$BP$50,2)),0)","v":0},{"$f":"IF(AU6<>\"\",5,0)","v":0},{"$f":"AV6+AW6","v":0},null,null,{"$f":"IF(ISNUMBER(AZ6),(VLOOKUP(AZ6,$BO$6:$BP$50,2)),0)","v":0},{"$f":"IF(AZ6<>\"\",5,0)","v":0},{"$f":"BA6+BB6","v":0},null,null,{"$f":"IF(ISNUMBER(BE6),(VLOOKUP(BE6,$BO$6:$BP$50,2)),0)","v":0},{"$f":"IF(BE6<>\"\",5,0)","v":0},{"$f":"BF6+BG6","v":0},null,null,{"$f":"IF(ISNUMBER(BJ6),(VLOOKUP(BJ6,$BO$6:$BP$50,2)),0)","v":0},{"$f":"IF(BJ6<>\"\",5,0)","v":0},{"$f":"BK6+BL6","v":0},null,1,100,{"$f":"IF($F6=8,1,0)","v":0},{"$f":"IF($F6=7,1,0)","v":0},{"$f":"IF($F6=6,1,0)","v":0},{"$f":"IF($F6=5,1,0)","v":0},{"$f":"IF($F6=4,1,0)","v":1},{"$f":"IF($F6=3,1,0)","v":0},{"$f":"IF($F6=2,1,0)","v":0},{"$f":"IF($F6=1,1,0)","v":0}]
[2,"Grøndalen","Eira Marie","Ljan",257,4,null,2,2,8,5,"","","","",null,257,"","","","","","","","",null,2,80,5,85,null,2,80,5,85,null,8,32,5,37,null,5,45,5,50,null,null,0,0,0,null,null,0,0,0,null,null,0,0,0,null,null,0,0,0,null,2,80,{"$f":"IF($F7=8,1,0)","v":0},0,0,0,1,0,0,0]
[3,"Sande","Malene Louise Gaunt","Heming",210,2,null,"","",1,1,"","","","",null,210,"","","","","","","","",null,null,0,0,0,null,null,0,0,0,null,1,100,5,105,null,1,100,5,105,null,null,0,0,0,null,null,0,0,0,null,null,0,0,0,null,null,0,0,0,null,3,60,0,0,0,0,0,0,1,0]
[4,"Elmenhorst-Larsen","Sina","Ready",170,3,null,3,"",5,4,"","","","",null,170,"","","","","","","","",null,3,60,5,65,null,null,0,0,0,null,5,45,5,50,null,4,50,5,55,null,null,0,0,0,null,null,0,0,0,null,null,0,0,0,null,null,0,0,0,null,4,50,0,0,0,0,0,1,0,0]
[4,"Grobstok","Emilie Smedsrud","Ready",170,2,null,"","",2,2,"","","","",null,170,"","","","","","","","",null,null,0,0,0,null,null,0,0,0,null,2,80,5,85,null,2,80,5,85,null,null,0,0,0,null,null,0,0,0,null,null,0,0,0,null,null,0,0,0,null,5,45,0,0,0,0,0,0,1,0]
[6,"Bjørland","Vilde","Heming",110,2,null,4,4,"","","","","","",null,110,"","","","","","","","",null,4,50,5,55,null,4,50,5,55,null,null,0,0,0,null,null,0,0,0,null,null,0,0,0,null,null,0,0,0,null,null,0,0,0,null,null,0,0,0,null,6,40,0,0,0,0,0,0,1,0]
[6,"Semmelmann","Ellisif Marie","Heming",110,2,null,"","",6,3,"","","","",null,110,"","","","","","","","",null,null,0,0,0,null,null,0,0,0,null,6,40,5,45,null,3,60,5,65,null,null,0,0,0,null,null,0,0,0,null,null,0,0,0,null,null,0,0,0,null,7,36,0,0,0,0,0,0,1,0]
[8,"Borge-Andersen","Felin","Heming",82,2,null,"","",7,7,"","","","",null,82,"","","","","","","","",null,null,0,0,0,null,null,0,0,0,null,7,36,5,41,null,7,36,5,41,null,null,0,0,0,null,null,0,0,0,null,null,0,0,0,null,null,0,0,0,null,8,32,0,0,0,0,0,0,1,0]
[9,"Ingebrigtsen","Nora Haugmoen","Heming",79,2,null,"","",9,6,"","","","",null,79,"","","","","","","","",null,null,0,0,0,null,null,0,0,0,null,9,29,5,34,null,6,40,5,45,null,null,0,0,0,null,null,0,0,0,null,null,0,0,0,null,null,0,0,0,null,9,29,0,0,0,0,0,0,1,0]
[10,"Riiber","Kristiane","Heming",68,2,null,"","",10,8,"","","","",null,68,"","","","","","","","",null,null,0,0,0,null,null,0,0,0,null,10,26,5,31,null,8,32,5,37,null,null,0,0,0,null,null,0,0,0,null,null,0,0,0,null,null,0,0,0,null,10,26,0,0,0,0,0,0,1,0]
[11,"Dahl","Olea","Ljan",65,1,null,"",3,"","","","","","",null,65,"","","","","","","","",null,null,0,0,0,null,3,60,5,65,null,null,0,0,0,null,null,0,0,0,null,null,0,0,0,null,null,0,0,0,null,null,0,0,0,null,null,0,0,0,null,11,24,0,0,0,0,0,0,0,1]
[11,"Holter","Vilde Emilie","Ullensaker",65,1,null,"","",3,"","","","","",null,65,"","","","","","","","",null,null,0,0,0,null,null,0,0,0,null,3,60,5,65,null,null,0,0,0,null,null,0,0,0,null,null,0,0,0,null,null,0,0,0,null,null,0,0,0,null,12,22,0,0,0,0,0,0,0,1]
[13,"Braathen","Elisabeth Texnæs","Heming",56,2,null,"","",12,11,"","","","",null,56,"","","","","","","","",null,null,0,0,0,null,null,0,0,0,null,12,22,5,27,null,11,24,5,29,null,null,0,0,0,null,null,0,0,0,null,null,0,0,0,null,null,0,0,0,null,13,20,0,{"$f":"IF($F17=7,1,0)","v":0},{"$f":"IF($F17=6,1,0)","v":0},{"$f":"IF($F17=5,1,0)","v":0},{"$f":"IF($F17=4,1,0)","v":0},{"$f":"IF($F17=3,1,0)","v":0},{"$f":"IF($F17=2,1,0)","v":0},{"$f":"IF($F17=1,1,0)","v":1}]
[13,"Eskeland","Helen Olivia","Heming",56,2,null,"","",13,10,"","","","",null,56,"","","","","","","","",null,null,0,0,0,null,null,0,0,0,null,13,20,5,25,null,10,26,5,31,null,null,0,0,0,null,null,0,0,0,null,null,0,0,0,null,null,0,0,0,null,14,18,0,{"$f":"IF($F18=7,1,0)","v":0},{"$f":"IF($F18=6,1,0)","v":0},{"$f":"IF($F18=5,1,0)","v":0},{"$f":"IF($F18=4,1,0)","v":0},{"$f":"IF($F18=3,1,0)","v":0},{"$f":"IF($F18=2,1,0)","v":1},{"$f":"IF($F18=1,1,0)","v":0}]
[15,"Heggelund","Hedda Ramstad","Ullensaker",55,2,null,5,"dsq","","","","","","",null,55,"","","","","","","","",null,5,45,5,50,null,"dsq",0,5,5,null,null,0,0,0,null,null,0,0,0,null,null,0,0,0,null,null,0,0,0,null,null,0,0,0,null,null,0,0,0,null,15,16,0,{"$f":"IF($F19=7,1,0)","v":0},{"$f":"IF($F19=6,1,0)","v":0},{"$f":"IF($F19=5,1,0)","v":0},{"$f":"IF($F19=4,1,0)","v":0},{"$f":"IF($F19=3,1,0)","v":0},{"$f":"IF($F19=2,1,0)","v":1},{"$f":"IF($F19=1,1,0)","v":0}]
[16,"Ardem","Emilie Caroline","Kjelsås",48,2,null,"","",15,12,"","","","",null,48,"","","","","","","","",null,null,0,0,0,null,null,0,0,0,null,15,16,5,21,null,12,22,5,27,null,null,0,0,0,null,null,0,0,0,null,null,0,0,0,null,null,0,0,0,null,16,15,0,{"$f":"IF($F19=7,1,0)","v":0},{"$f":"IF($F19=6,1,0)","v":0},{"$f":"IF($F19=5,1,0)","v":0},{"$f":"IF($F19=4,1,0)","v":0},{"$f":"IF($F19=3,1,0)","v":0},{"$f":"IF($F19=2,1,0)","v":1},{"$f":"IF($F19=1,1,0)","v":0}]
[16,"Rivelsrud","Matilde Sofia","Heming",48,2,null,"","",14,13,"","","","",null,48,"","","","","","","","",null,null,0,0,0,null,null,0,0,0,null,14,18,5,23,null,13,20,5,25,null,null,0,0,0,null,null,0,0,0,null,null,0,0,0,null,null,0,0,0,null,17,14,0,0,0,0,0,0,1,0]
[16,"Roll","Celine Amelie Engebretsen","Ready",48,2,null,"","",11,17,"","","","",null,{"$f":"AD23+AI23+AN23+AS23+AX23+BC23+BH23","v":48},"","","","","","","","",null,null,0,0,0,null,null,0,0,0,null,11,24,5,29,null,17,14,5,19,null,null,0,0,0,null,null,0,0,0,null,null,0,0,0,null,null,0,0,0,null,18,13,0,0,0,0,0,0,1,0]
[19,"Hovdenak","Selma Stenersen","Njård",38,2,null,"","",18,16,"","","","",null,38,"","","","","","","","",null,null,0,0,0,null,null,0,0,0,null,18,13,5,18,null,16,15,5,20,null,null,0,0,0,null,null,0,0,0,null,null,0,0,0,null,null,0,0,0,null,19,12,0,0,0,0,0,0,1,0]
[20,"Danielsen","Hedvig Aabel","Heming",35,2,null,"","",19,18,"",{"$f":"IF(AZ25=\"\",\"\",AZ25)","v":""},{"$f":"IF(BE25=\"\",\"\",BE25)","v":""},{"$f":"IF(BJ25=\"\",\"\",BJ25)","v":""},null,35,"","","","",{"$f":"IF($F25>=5,IF(AV25=\"\",\"\",AV25),\"\")","v":""},{"$f":"IF($F25>=5,IF(BA25=\"\",\"\",BA25),\"\")","v":""},{"$f":"IF($F25>=5,IF(BF25=\"\",\"\",BF25),\"\")","v":""},{"$f":"IF($F25>=5,IF(BK25=\"\",\"\",BK25),\"\")","v":""},null,null,0,0,0,null,null,0,0,0,null,19,12,5,17,null,18,13,5,18,null,null,0,0,0,null,null,0,0,0,null,null,0,0,0,null,null,0,0,0,null,20,11,0,0,0,0,0,0,1,0]
[21,"Kristoffersen","Kajsa Dahl","Ready",33,2,null,"","",20,19,"","","","",null,33,"","","","",{"$f":"IF($F26>=5,IF(AV26=\"\",\"\",AV26),\"\")","v":""},{"$f":"IF($F26>=5,IF(BA26=\"\",\"\",BA26),\"\")","v":""},{"$f":"IF($F26>=5,IF(BF26=\"\",\"\",BF26),\"\")","v":""},{"$f":"IF($F26>=5,IF(BK26=\"\",\"\",BK26),\"\")","v":""},null,null,0,0,0,null,null,0,0,0,null,20,11,5,16,null,19,12,5,17,null,null,0,0,0,null,null,0,0,0,null,null,0,0,0,null,null,0,0,0,null,21,10,0,0,0,0,0,0,1,0]
[22,"Wilhelmsen","Victoria Pandher","Ready",28,2,null,"","","dnf",14,"","","","",null,28,"","","","","","","","",null,null,0,0,0,null,null,0,0,0,null,"dnf",0,5,5,null,14,18,5,23,null,null,0,0,0,null,null,0,0,0,null,null,0,0,0,null,null,0,0,0,null,22,9,0,0,0,0,0,0,1,0]
[23,"Kolbjørnsrud","Ingrid","Kjelsås",24,2,null,"","",17,"dnf","",{"$f":"IF(AZ28=\"\",\"\",AZ28)","v":""},{"$f":"IF(BE28=\"\",\"\",BE28)","v":""},{"$f":"IF(BJ28=\"\",\"\",BJ28)","v":""},null,24,"","","","","","","","",null,null,0,0,0,null,null,0,0,0,null,17,14,5,19,null,"dnf",0,5,5,null,null,0,0,0,null,null,0,0,0,null,null,0,0,0,null,null,0,0,0,null,23,8,0,{"$f":"IF($F23=7,1,0)","v":0},{"$f":"IF($F23=6,1,0)","v":0},{"$f":"IF($F23=5,1,0)","v":0},{"$f":"IF($F23=4,1,0)","v":0},{"$f":"IF($F23=3,1,0)","v":0},{"$f":"IF($F23=2,1,0)","v":1},{"$f":"IF($F23=1,1,0)","v":0}]
[24,"Christiansen","Aleksandra","Try",21,1,null,"","","",15,"","","","",null,21,"","","","","","","","",null,null,0,0,0,null,null,0,0,0,null,null,0,0,0,null,15,16,5,21,null,null,0,0,0,null,null,0,0,0,null,null,0,0,0,null,null,0,0,0,null,24,7,0,{"$f":"IF($F24=7,1,0)","v":0},{"$f":"IF($F24=6,1,0)","v":0},{"$f":"IF($F24=5,1,0)","v":0},{"$f":"IF($F24=4,1,0)","v":0},{"$f":"IF($F24=3,1,0)","v":0},{"$f":"IF($F24=2,1,0)","v":1},{"$f":"IF($F24=1,1,0)","v":0}]
[25,"Karlstrøm","Tomine","Heming",20,1,null,"","",16,"","","","","",null,20,"","","","","","","","",null,null,0,0,0,null,null,0,0,0,null,16,15,5,20,null,null,0,0,0,null,null,0,0,0,null,null,0,0,0,null,null,0,0,0,null,null,0,0,0,null,25,6,0,{"$f":"IF($F25=7,1,0)","v":0},{"$f":"IF($F25=6,1,0)","v":0},{"$f":"IF($F25=5,1,0)","v":0},{"$f":"IF($F25=4,1,0)","v":0},{"$f":"IF($F25=3,1,0)","v":0},{"$f":"IF($F25=2,1,0)","v":1},{"$f":"IF($F25=1,1,0)","v":0}]
[26,"Gras","Anais","Ljan",5,1,null,"","dsq","","","","","","",null,5,"","","","","","","","",null,null,0,0,0,null,"dsq",0,5,5,null,null,0,0,0,null,null,0,0,0,null,null,0,0,0,null,null,0,0,0,null,null,0,0,0,null,null,0,0,0,null,26,5,0,{"$f":"IF($F25=7,1,0)","v":0},{"$f":"IF($F25=6,1,0)","v":0},{"$f":"IF($F25=5,1,0)","v":0},{"$f":"IF($F25=4,1,0)","v":0},{"$f":"IF($F25=3,1,0)","v":0},{"$f":"IF($F25=2,1,0)","v":1},{"$f":"IF($F25=1,1,0)","v":0}]
[27,null,null,null,0,0,null,"","","","","","","","",null,0,"","","","","","","","",null,null,0,0,0,null,null,0,0,0,null,null,0,0,0,null,null,0,0,0,null,null,0,0,0,null,null,0,0,0,null,null,0,0,0,null,null,0,0,0,null,27,4,0,{"$f":"IF($F26=7,1,0)","v":0},{"$f":"IF($F26=6,1,0)","v":0},{"$f":"IF($F26=5,1,0)","v":0},{"$f":"IF($F26=4,1,0)","v":0},{"$f":"IF($F26=3,1,0)","v":0},{"$f":"IF($F26=2,1,0)","v":1},{"$f":"IF($F26=1,1,0)","v":0}]
[27,null,null,null,0,0,null,"","","","","","","","",null,0,"","","","","","","","",null,null,0,0,0,null,null,0,0,0,null,null,0,0,0,null,null,0,0,0,null,null,0,0,0,null,null,0,0,0,null,null,0,0,0,null,null,0,0,0,null,28,3,0,0,0,0,0,0,1,0]
[27,null,null,null,0,0,null,"","","","","","","","",null,0,"","","","","","","","",null,null,0,0,0,null,null,0,0,0,null,null,0,0,0,null,null,0,0,0,null,null,0,0,0,null,null,0,0,0,null,null,0,0,0,null,null,0,0,0,null,29,2,0,0,0,0,0,0,1,0]
[27,null,null,null,0,0,null,"","","","","","","","",null,0,"","","","","","","","",null,null,0,0,0,null,null,0,0,0,null,null,0,0,0,null,null,0,0,0,null,null,0,0,0,null,null,0,0,0,null,null,0,0,0,null,null,0,0,0,null,30,1,0,{"$f":"IF($F26=7,1,0)","v":0},{"$f":"IF($F26=6,1,0)","v":0},{"$f":"IF($F26=5,1,0)","v":0},{"$f":"IF($F26=4,1,0)","v":0},{"$f":"IF($F26=3,1,0)","v":0},{"$f":"IF($F26=2,1,0)","v":1},{"$f":"IF($F26=1,1,0)","v":0}]
[27,null,null,null,0,0,null,"","","","","","","","",null,0,"","","","",null,"","","",null,null,0,0,0,null,null,0,0,0,null,null,0,0,0,null,null,0,0,0,null,null,0,0,0,null,null,0,0,0,null,null,0,0,0,null,null,0,0,0,null,31,0,0,0,0,0,0,0,1,0]
[27,null,null,null,0,0,null,"","","","","",{"$f":"IF(AU37=\"\",\"\",AU37)","v":""},{"$f":"IF(AZ37=\"\",\"\",AZ37)","v":""},{"$f":"IF(BE37=\"\",\"\",BE37)","v":""},null,0,{"$f":"IF($F28>=5,IF(AB37=\"\",\"\",AB37),\"\")","v":""},{"$f":"IF($F28>=5,IF(AG37=\"\",\"\",AG37),\"\")","v":""},{"$f":"IF($F28>=5,IF(AL37=\"\",\"\",AL37),\"\")","v":""},{"$f":"IF($F28>=5,IF(AQ37=\"\",\"\",AQ37),\"\")","v":""},"",{"$f":"IF($F28>=5,IF(AV37=\"\",\"\",AV37),\"\")","v":""},{"$f":"IF($F28>=5,IF(BA37=\"\",\"\",BA37),\"\")","v":""},{"$f":"IF($F28>=5,IF(BF37=\"\",\"\",BF37),\"\")","v":""},null,null,0,0,0,null,null,0,0,0,null,null,0,0,0,null,null,0,0,0,null,null,0,0,0,null,null,0,0,0,null,null,0,0,0,null,null,0,0,0,null,32,0,0,0,0,0,0,0,1,0]
[27,null,null,null,0,0,null,"","","","","",{"$f":"IF(AU38=\"\",\"\",AU38)","v":""},{"$f":"IF(AZ38=\"\",\"\",AZ38)","v":""},{"$f":"IF(BE38=\"\",\"\",BE38)","v":""},null,0,{"$f":"IF($F29>=5,IF(AB38=\"\",\"\",AB38),\"\")","v":""},{"$f":"IF($F29>=5,IF(AG38=\"\",\"\",AG38),\"\")","v":""},{"$f":"IF($F29>=5,IF(AL38=\"\",\"\",AL38),\"\")","v":""},"","",{"$f":"IF($F29>=5,IF(AV38=\"\",\"\",AV38),\"\")","v":""},{"$f":"IF($F29>=5,IF(BA38=\"\",\"\",BA38),\"\")","v":""},{"$f":"IF($F29>=5,IF(BF38=\"\",\"\",BF38),\"\")","v":""},null,null,0,0,0,null,null,0,0,0,null,null,0,0,0,null,null,0,0,0,null,null,0,0,0,null,null,0,0,0,null,null,0,0,0,null,null,0,0,0,null,33,0,0,0,0,0,0,0,0,1]
[27,null,null,null,0,0,null,"","","","","",{"$f":"IF(AU39=\"\",\"\",AU39)","v":""},{"$f":"IF(AZ39=\"\",\"\",AZ39)","v":""},{"$f":"IF(BE39=\"\",\"\",BE39)","v":""},null,0,{"$f":"IF($F30>=5,IF(AB39=\"\",\"\",AB39),\"\")","v":""},{"$f":"IF($F30>=5,IF(AG39=\"\",\"\",AG39),\"\")","v":""},{"$f":"IF($F30>=5,IF(AL39=\"\",\"\",AL39),\"\")","v":""},"","",{"$f":"IF($F30>=5,IF(AV39=\"\",\"\",AV39),\"\")","v":""},{"$f":"IF($F30>=5,IF(BA39=\"\",\"\",BA39),\"\")","v":""},{"$f":"IF($F30>=5,IF(BF39=\"\",\"\",BF39),\"\")","v":""},null,null,0,0,0,null,null,0,0,0,null,null,0,0,0,null,null,0,0,0,null,null,0,0,0,null,null,0,0,0,null,null,0,0,0,null,null,0,0,0,null,34,0,0,0,0,0,0,0,0,1]
[27,null,null,null,0,0,null,"","","","","",{"$f":"IF(AU40=\"\",\"\",AU40)","v":""},{"$f":"IF(AZ40=\"\",\"\",AZ40)","v":""},{"$f":"IF(BE40=\"\",\"\",BE40)","v":""},null,0,{"$f":"IF($F31>=5,IF(AB40=\"\",\"\",AB40),\"\")","v":""},{"$f":"IF($F31>=5,IF(AG40=\"\",\"\",AG40),\"\")","v":""},{"$f":"IF($F31>=5,IF(AL40=\"\",\"\",AL40),\"\")","v":""},"","",{"$f":"IF($F31>=5,IF(AV40=\"\",\"\",AV40),\"\")","v":""},{"$f":"IF($F31>=5,IF(BA40=\"\",\"\",BA40),\"\")","v":""},{"$f":"IF($F31>=5,IF(BF40=\"\",\"\",BF40),\"\")","v":""},null,null,0,0,0,null,null,0,0,0,null,null,0,0,0,null,null,0,0,0,null,null,0,0,0,null,null,0,0,0,null,null,0,0,0,null,null,0,0,0,null,35,0,0,0,0,0,0,0,0,1]
[27,null,null,null,0,0,null,"","","","","",{"$f":"IF(AU41=\"\",\"\",AU41)","v":""},{"$f":"IF(AZ41=\"\",\"\",AZ41)","v":""},{"$f":"IF(BE41=\"\",\"\",BE41)","v":""},null,0,{"$f":"IF($F32>=5,IF(AB41=\"\",\"\",AB41),\"\")","v":""},{"$f":"IF($F32>=5,IF(AG41=\"\",\"\",AG41),\"\")","v":""},{"$f":"IF($F32>=5,IF(AL41=\"\",\"\",AL41),\"\")","v":""},"","",{"$f":"IF($F32>=5,IF(AV41=\"\",\"\",AV41),\"\")","v":""},{"$f":"IF($F32>=5,IF(BA41=\"\",\"\",BA41),\"\")","v":""},{"$f":"IF($F32>=5,IF(BF41=\"\",\"\",BF41),\"\")","v":""},null,null,0,0,0,null,null,0,0,0,null,null,0,0,0,null,null,0,0,0,null,null,0,0,0,null,null,0,0,0,null,null,0,0,0,null,null,0,0,0,null,36,0,0,0,0,0,0,0,0,0]
[null,null,null,null,null,null,null,{"$f":"IF(AA42=\"\",\"\",AA42)","v":""},{"$f":"IF(AF42=\"\",\"\",AF42)","v":""},{"$f":"IF(AK42=\"\",\"\",AK42)","v":""},{"$f":"IF(AP42=\"\",\"\",AP42)","v":""},{"$f":"IF(AU42=\"\",\"\",AU42)","v":""},{"$f":"IF(AU42=\"\",\"\",AU42)","v":""},{"$f":"IF(AZ42=\"\",\"\",AZ42)","v":""},{"$f":"IF(BE42=\"\",\"\",BE42)","v":""},null,{"$f":"AD42+AI42+AN42+AS42+AX42+BC42+BH42","v":0},{"$f":"IF($F33>=5,IF(AB42=\"\",\"\",AB42),\"\")","v":""},{"$f":"IF($F33>=5,IF(AG42=\"\",\"\",AG42),\"\")","v":""},{"$f":"IF($F33>=5,IF(AL42=\"\",\"\",AL42),\"\")","v":""},{"$f":"IF($F33>=5,IF(AQ42=\"\",\"\",AQ42),\"\")","v":""},"",{"$f":"IF($F33>=5,IF(AV42=\"\",\"\",AV42),\"\")","v":""},{"$f":"IF($F33>=5,IF(BA42=\"\",\"\",BA42),\"\")","v":""},{"$f":"IF($F33>=5,IF(BF42=\"\",\"\",BF42),\"\")","v":""},null,null,{"$f":"IF(ISNUMBER(AA42),(VLOOKUP(AA42,$BO$6:$BP$50,2)),0)","v":0},{"$f":"IF(AA42<>\"\",5,0)","v":0},{"$f":"AB42+AC42","v":0},null,null,{"$f":"IF(ISNUMBER(AF42),(VLOOKUP(AF42,$BO$6:$BP$50,2)),0)","v":0},{"$f":"IF(AF42<>\"\",5,0)","v":0},{"$f":"AG42+AH42","v":0},null,null,{"$f":"IF(ISNUMBER(AK42),(VLOOKUP(AK42,$BO$6:$BP$50,2)),0)","v":0},{"$f":"IF(AK42<>\"\",5,0)","v":0},{"$f":"AL42+AM42","v":0},null,null,{"$f":"IF(ISNUMBER(AP42),(VLOOKUP(AP42,$BO$6:$BP$50,2)),0)","v":0},{"$f":"IF(AP42<>\"\",5,0)","v":0},{"$f":"AQ42+AR42","v":0},null,null,{"$f":"IF(ISNUMBER(AU42),(VLOOKUP(AU42,$BO$6:$BP$50,2)),0)","v":0},{"$f":"IF(AU42<>\"\",5,0)","v":0},{"$f":"AV42+AW42","v":0},null,null,{"$f":"IF(ISNUMBER(AZ42),(VLOOKUP(AZ42,$BO$6:$BP$50,2)),0)","v":0},{"$f":"IF(AZ42<>\"\",5,0)","v":0},{"$f":"BA42+BB42","v":0},null,null,{"$f":"IF(ISNUMBER(BE42),(VLOOKUP(BE42,$BO$6:$BP$50,2)),0)","v":0},{"$f":"IF(BE42<>\"\",5,0)","v":0},{"$f":"BF42+BG42","v":0},null,null,{"$f":"IF(ISNUMBER(BJ42),(VLOOKUP(BJ42,$BO$6:$BP$50,2)),0)","v":0},{"$f":"IF(BJ42<>\"\",5,0)","v":0},{"$f":"BK42+BL42","v":0},null,37,0,0,0,0,0,0,0,0,0]
[null,null,null,null,null,null,null,"","","","","","","","",null,0,"","","","","","","","",null,null,0,0,0,null,null,0,0,0,null,null,0,0,0,null,null,0,0,0,null,null,0,0,0,null,null,0,0,0,null,null,0,0,0,null,null,0,0,0,null,38,0,0,0,0,0,0,0,0,0]
[null,null,null,null,null,null,null,"","","","","","","","",null,0,"","","","","","","","",null,null,0,0,0,null,null,0,0,0,null,null,0,0,0,null,null,0,0,0,null,null,0,0,0,null,null,0,0,0,null,null,0,0,0,null,null,0,0,0,null,39,0,0,0,0,0,0,0,0,0]
[null,null,null,null,null,null,null,"","","","","","","","",null,0,"","","","","","","","",null,null,0,0,0,null,null,0,0,0,null,null,0,0,0,null,null,0,0,0,null,null,0,0,0,null,null,0,0,0,null,null,0,0,0,null,null,0,0,0,null,40,0,0,0,0,0,0,0,0,0]
[null,null,null,null,null,null,null,"","","","","","","","",null,0,"","","","","","","","",null,null,0,0,0,null,null,0,0,0,null,null,0,0,0,null,null,0,0,0,null,null,0,0,0,null,null,0,0,0,null,null,0,0,0,null,null,0,0,0,null,41,0,0,0,0,0,0,0,0,0]
[null,null,null,null,null,null,null,"","","","","","","","",null,0,"","","","","","","","",null,null,0,0,0,null,null,0,0,0,null,null,0,0,0,null,null,0,0,0,null,null,0,0,0,null,null,0,0,0,null,null,0,0,0,null,null,0,0,0,null,42,0,0,0,0,0,0,0,0,0]
[null,null,null,null,null,null,null,"","","","","","","","",null,0,"","","","","","","","",null,null,0,0,0,null,null,0,0,0,null,null,0,0,0,null,null,0,0,0,null,null,0,0,0,null,null,0,0,0,null,null,0,0,0,null,null,0,0,0,null,43,0,0,0,0,0,0,0,0,0]
[null,null,null,null,null,null,null,"","","","","","","","",null,0,"","","","","","","","",null,null,0,0,0,null,null,0,0,0,null,null,0,0,0,null,null,0,0,0,null,null,0,0,0,null,null,0,0,0,null,null,0,0,0,null,null,0,0,0,null,44,0,0,0,0,0,0,0,0,0]
[null,null,null,null,null,null,null,"","","","","","","","",null,0,"","","","","","","","",null,null,null,null,null,null,null,null,null,0,null,null,null,null,0,null,null,null,null,0,null,null,null,null,0,null,null,null,null,0,null,null,null,null,0,null,null,null,null,0,null,45,0,0,0,0,0,0,0,0,0]
[null,null,null,null,null,null,null,"","","","","","","","",null,0,"","","","","","","","",null,null,null,null,null,null,null,null,null,0,null,null,null,null,0,null,null,null,null,0,null,null,null,null,0,null,null,null,null,0,null,null,null,null,0,null,null,null,null,0,null,46,0,0,{"$f":"IF($F42=7,1,0)","v":0},0,0,0,0,0,0]
[null,null,null,null,null,null,null,"","","","","","","","",null,0,"","","","","","","","",null,null,null,null,null,null,null,null,null,0,null,null,null,null,0,null,null,null,null,0,null,null,null,null,0,null,null,null,null,0,null,null,null,null,0,null,null,null,null,0,null,47,0,0,0,0,0,0,0,0,0]
[null,null,null,null,null,null,null,null,null,null,null,null,null,null,null,null,null,null,null,null,null,null,null,null,null,null,null,null,null,null,null,null,null,null,null,null,null,null,null,null,null,null,null,null,null,null,null,null,null,null,null,null,null,null,null,null,null,null,null,null,null,null,null,null,null,null,48,0]

{"sheet":"G11 2018","index":2,"n_rows":53,"n_cols":76,"rows_kept":53,"cut":false,"hidden":false,"merged":[[0,42,0,45],[2,26,2,29],[2,31,2,34],[2,36,2,39],[2,41,2,44],[3,62,3,64],[4,7,4,14],[4,17,4,24],[2,51,2,54],[2,56,2,59],[2,61,2,64],[3,27,3,29],[3,32,3,34],[3,37,3,39],[3,42,3,44],[3,47,3,49],[3,52,3,54],[3,57,3,59],[2,46,2,49]]}
["Resultatliste Oslo Cup 2018 - Gutter 11 år"]
[{"$f":"'Forside 2018'!A2","v":"Etter 4 av 8 renn"}]
[null,null,null,null,null,null,null,"IRS Rennet","Ljan Rennet","Njård Rennet","Ready Rennet","Telenor Arena Cup","Euro-tecfarten","Oslo Alpinfestival SL","Oslo Alpinfestival SSL",null,null,"IRS Rennet","Ljan Rennet","Njård Rennet","Ready Rennet","Telenor Arena Cup","Euro-tecfarten","Oslo Alpinfestival SL","Oslo Alpinfestival SSL",null,"--------IRS Rennet----------",null,null,null,null,"----------Ljan Rennet---------",null,null,null,null,"--------Njård Rennet----------",null,null,null,null,"--------Ready Rennet---------",null,null,null,null,"-----Telenor Arena Cup----",null,null,null,null,"------Euro-tecfarten--------",null,null,null,null,"---Oslo Alpinfestival SL---",null,null,null,null,"---Oslo Alpinfestival SSL---"]
[null,null,null,null,null,"Antall",null,"2016-02-04","2016-02-05","2016-02-10","2016-02-11","2016-02-15","2016-03-01","2017-03-11","2016-03-12",null,"Poeng","2016-02-04","2016-02-05","2016-02-10","2016-02-11","2016-02-15","2016-03-01","2017-03-11","2016-03-12",null,null,"--------Poeng--------",null,null,null,null,"--------Poeng--------",null,null,null,null,"-------Poeng---------",null,null,null,null,"-------Poeng---------",null,null,null,null,"-------Poeng---------",null,null,null,null,"-------Poeng---------",null,null,null,null,"-------Poeng---------",null,null,null,null,"-------Poeng---------",null,null,null,null,null,"Løpere med ","Løpere med ","Løpere med ","Løpere med ","Løpere med ","Løpere med ","Løpere med ","Løpere med "]
["Plass","Etternavn","Fornavn","Klubb","Poeng","renn",null,"------------------------------Plassering i rennene---------------------------------",null,null,null,null,null,null,null,null,"brutto","----------------Resultatpoeng hvis mer enn 4 renn----------------",null,null,null,null,null,null,null,null,"Plass","Res.","Del.","Tot.",null,"Plass","Res.","Del.","Tot.",null,"Plass","Res.","Del.","Tot.",null,"Plass","Res.","Del.","Tot.",null,"Plass","Res.","Del.","Tot.",null,"Plass","Res.","Del.","Tot.",null,"Plass","Res.","Del.","Tot.",null,"Plass","Res.","Del.","Tot.",null,"Plass","Poeng","8 renn","7 renn","6 renn","5 renn","4 renn","3 renn","2 renn","kun 1 renn"]
[{"$f":"IF(E6<E5,BO6,A5)","v":1},"Danielsen","Didrik Heggelund","Ullensaker",{"$f":"Q6","v":380},{"$f":"(IF(AC6=5,1,0)+IF(AH6=5,1,0)+IF(AM6=5,1,0)+IF(AR6=5,1,0)+IF(AW6=5,1,0)+IF(BA6=5,1,0)+IF(BG6=5,1,0)+IF(BL6=5,1,0))","v":4},null,{"$f":"IF(AA6=\"\",\"\",AA6)","v":1},{"$f":"IF(AF6=\"\",\"\",AF6)","v":1},{"$f":"IF(AK6=\"\",\"\",AK6)","v":2},{"$f":"IF(AP6=\"\",\"\",AP6)","v":2},{"$f":"IF(AU6=\"\",\"\",AU6)","v":""},{"$f":"IF(AZ6=\"\",\"\",AZ6)","v":""},{"$f":"IF(BE6=\"\",\"\",BE6)","v":""},{"$f":"IF(BJ6=\"\",\"\",BJ6)","v":""},null,{"$f":"AD6+AI6+AN6+AS6+AX6+BC6+BH6","v":380},{"$f":"IF($F6>=5,IF(AB6=\"\",\"\",AB6),\"\")","v":""},{"$f":"IF($F6>=5,IF(AG6=\"\",\"\",AG6),\"\")","v":""},{"$f":"IF($F6>=5,IF(AL6=\"\",\"\",AL6),\"\")","v":""},{"$f":"IF($F6>=5,IF(AQ6=\"\",\"\",AQ6),\"\")","v":""},{"$f":"IF($F6>=5,IF(AV6=\"\",\"\",AV6),\"\")","v":""},{"$f":"IF($F6>=5,IF(BA6=\"\",\"\",BA6),\"\")","v":""},{"$f":"IF($F6>=5,IF(BF6=\"\",\"\",BF6),\"\")","v":""},{"$f":"IF($F6>=5,IF(BK6=\"\",\"\",BK6),\"\")","v":""},null,1,{"$f":"IF(ISNUMBER(AA6),(VLOOKUP(AA6,$BO$6:$BP$50,2)),0)","v":100},{"$f":"IF(AA6<>\"\",5,0)","v":5},{"$f":"AB6+AC6","v":105},null,1,{"$f":"IF(ISNUMBER(AF6),(VLOOKUP(AF6,$BO$6:$BP$50,2)),0)","v":100},{"$f":"IF(AF6<>\"\",5,0)","v":5},{"$f":"AG6+AH6","v":105},null,2,{"$f":"IF(ISNUMBER(AK6),(VLOOKUP(AK6,$BO$6:$BP$50,2)),0)","v":80},{"$f":"IF(AK6<>\"\",5,0)","v":5},{"$f":"AL6+AM6","v":85},null,2,{"$f":"IF(ISNUMBER(AP6),(VLOOKUP(AP6,$BO$6:$BP$50,2)),0)","v":80},{"$f":"IF(AP6<>\"\",5,0)","v":5},{"$f":"AQ6+AR6","v":85},null,null,{"$f":"IF(ISNUMBER(AU6),(VLOOKUP(AU6,$BO$6:$BP$50,2)),0)","v":0},{"$f":"IF(AU6<>\"\",5,0)","v":0},{"$f":"AV6+AW6","v":0},null,null,{"$f":"IF(ISNUMBER(AZ6),(VLOOKUP(AZ6,$BO$6:$BP$50,2)),0)","v":0},{"$f":"IF(AZ6<>\"\",5,0)","v":0},{"$f":"BA6+BB6","v":0},null,null,{"$f":"IF(ISNUMBER(BE6),(VLOOKUP(BE6,$BO$6:$BP$50,2)),0)","v":0},{"$f":"IF(BE6<>\"\",5,0)","v":0},{"$f":"BF6+BG6","v":0},null,null,{"$f":"IF(ISNUMBER(BJ6),(VLOOKUP(BJ6,$BO$6:$BP$50,2)),0)","v":0},{"$f":"IF(BJ6<>\"\",5,0)","v":0},{"$f":"BK6+BL6","v":0},null,1,100,{"$f":"IF($F6=8,1,0)","v":0},{"$f":"IF($F6=7,1,0)","v":0},{"$f":"IF($F6=6,1,0)","v":0},{"$f":"IF($F6=5,1,0)","v":0},{"$f":"IF($F6=4,1,0)","v":1},{"$f":"IF($F6=3,1,0)","v":0},{"$f":"IF($F6=2,1,0)","v":0},{"$f":"IF($F6=1,1,0)","v":0}]
[{"$f":"IF(E7<E6,BO7,A6)","v":2},"Øslebø","Kristoffer","Ready",{"$f":"Q7","v":240},{"$f":"(IF(AC7=5,1,0)+IF(AH7=5,1,0)+IF(AM7=5,1,0)+IF(AR7=5,1,0)+IF(AW7=5,1,0)+IF(BA7=5,1,0)+IF(BG7=5,1,0)+IF(BL7=5,1,0))","v":4},null,{"$f":"IF(AA7=\"\",\"\",AA7)","v":3},{"$f":"IF(AF7=\"\",\"\",AF7)","v":3},{"$f":"IF(AK7=\"\",\"\",AK7)","v":4},{"$f":"IF(AP7=\"\",\"\",AP7)","v":4},{"$f":"IF(AU7=\"\",\"\",AU7)","v":""},{"$f":"IF(AZ7=\"\",\"\",AZ7)","v":""},{"$f":"IF(BE7=\"\",\"\",BE7)","v":""},{"$f":"IF(BJ7=\"\",\"\",BJ7)","v":""},null,{"$f":"AD7+AI7+AN7+AS7+AX7+BC7+BH7","v":240},{"$f":"IF($F7>=5,IF(AB7=\"\",\"\",AB7),\"\")","v":""},{"$f":"IF($F7>=5,IF(AG7=\"\",\"\",AG7),\"\")","v":""},{"$f":"IF($F7>=5,IF(AL7=\"\",\"\",AL7),\"\")","v":""},{"$f":"IF($F7>=5,IF(AQ7=\"\",\"\",AQ7),\"\")","v":""},{"$f":"IF($F7>=5,IF(AV7=\"\",\"\",AV7),\"\")","v":""},{"$f":"IF($F7>=5,IF(BA7=\"\",\"\",BA7),\"\")","v":""},{"$f":"IF($F7>=5,IF(BF7=\"\",\"\",BF7),\"\")","v":""},{"$f":"IF($F7>=5,IF(BK7=\"\",\"\",BK7),\"\")","v":""},null,3,{"$f":"IF(ISNUMBER(AA7),(VLOOKUP(AA7,$BO$6:$BP$50,2)),0)","v":60},{"$f":"IF(AA7<>\"\",5,0)","v":5},{"$f":"AB7+AC7","v":65},null,3,{"$f":"IF(ISNUMBER(AF7),(VLOOKUP(AF7,$BO$6:$BP$50,2)),0)","v":60},{"$f":"IF(AF7<>\"\",5,0)","v":5},{"$f":"AG7+AH7","v":65},null,4,{"$f":"IF(ISNUMBER(AK7),(VLOOKUP(AK7,$BO$6:$BP$50,2)),0)","v":50},{"$f":"IF(AK7<>\"\",5,0)","v":5},{"$f":"AL7+AM7","v":55},null,4,{"$f":"IF(ISNUMBER(AP7),(VLOOKUP(AP7,$BO$6:$BP$50,2)),0)","v":50},{"$f":"IF(AP7<>\"\",5,0)","v":5},{"$f":"AQ7+AR7","v":55},null,null,{"$f":"IF(ISNUMBER(AU7),(VLOOKUP(AU7,$BO$6:$BP$50,2)),0)","v":0},{"$f":"IF(AU7<>\"\",5,0)","v":0},{"$f":"AV7+AW7","v":0},null,null,{"$f":"IF(ISNUMBER(AZ7),(VLOOKUP(AZ7,$BO$6:$BP$50,2)),0)","v":0},{"$f":"IF(AZ7<>\"\",5,0)","v":0},{"$f":"BA7+BB7","v":0},null,null,{"$f":"IF(ISNUMBER(BE7),(VLOOKUP(BE7,$BO$6:$BP$50,2)),0)","v":0},{"$f":"IF(BE7<>\"\",5,0)","v":0},{"$f":"BF7+BG7","v":0},null,null,{"$f":"IF(ISNUMBER(BJ7),(VLOOKUP(BJ7,$BO$6:$BP$50,2)),0)","v":0},{"$f":"IF(BJ7<>\"\",5,0)","v":0},{"$f":"BK7+BL7","v":0},null,2,80,{"$f":"IF($F7=8,1,0)","v":0},0,0,0,1,0,0,0]
[{"$f":"IF(E8<E7,BO8,A7)","v":3},"Lien","Johan Oscar","Heming",{"$f":"Q8","v":210},{"$f":"(IF(AC8=5,1,0)+IF(AH8=5,1,0)+IF(AM8=5,1,0)+IF(AR8=5,1,0)+IF(AW8=5,1,0)+IF(BA8=5,1,0)+IF(BG8=5,1,0)+IF(BL8=5,1,0))","v":4},null,{"$f":"IF(AA8=\"\",\"\",AA8)","v":5},{"$f":"IF(AF8=\"\",\"\",AF8)","v":5},{"$f":"IF(AK8=\"\",\"\",AK8)","v":1},{"$f":"IF(AP8=\"\",\"\",AP8)","v":"dnf"},{"$f":"IF(AU8=\"\",\"\",AU8)","v":""},{"$f":"IF(AZ8=\"\",\"\",AZ8)","v":""},{"$f":"IF(BE8=\"\",\"\",BE8)","v":""},{"$f":"IF(BJ8=\"\",\"\",BJ8)","v":""},null,{"$f":"AD8+AI8+AN8+AS8+AX8+BC8+BH8","v":210},{"$f":"IF($F8>=5,IF(AB8=\"\",\"\",AB8),\"\")","v":""},{"$f":"IF($F8>=5,IF(AG8=\"\",\"\",AG8),\"\")","v":""},{"$f":"IF($F8>=5,IF(AL8=\"\",\"\",AL8),\"\")","v":""},{"$f":"IF($F8>=5,IF(AQ8=\"\",\"\",AQ8),\"\")","v":""},{"$f":"IF($F8>=5,IF(AV8=\"\",\"\",AV8),\"\")","v":""},{"$f":"IF($F8>=5,IF(BA8=\"\",\"\",BA8),\"\")","v":""},{"$f":"IF($F8>=5,IF(BF8=\"\",\"\",BF8),\"\")","v":""},{"$f":"IF($F8>=5,IF(BK8=\"\",\"\",BK8),\"\")","v":""},null,5,{"$f":"IF(ISNUMBER(AA8),(VLOOKUP(AA8,$BO$6:$BP$50,2)),0)","v":45},{"$f":"IF(AA8<>\"\",5,0)","v":5},{"$f":"AB8+AC8","v":50},null,5,{"$f":"IF(ISNUMBER(AF8),(VLOOKUP(AF8,$BO$6:$BP$50,2)),0)","v":45},{"$f":"IF(AF8<>\"\",5,0)","v":5},{"$f":"AG8+AH8","v":50},null,1,{"$f":"IF(ISNUMBER(AK8),(VLOOKUP(AK8,$BO$6:$BP$50,2)),0)","v":100},{"$f":"IF(AK8<>\"\",5,0)","v":5},{"$f":"AL8+AM8","v":105},null,"dnf",{"$f":"IF(ISNUMBER(AP8),(VLOOKUP(AP8,$BO$6:$BP$50,2)),0)","v":0},{"$f":"IF(AP8<>\"\",5,0)","v":5},{"$f":"AQ8+AR8","v":5},null,null,{"$f":"IF(ISNUMBER(AU8),(VLOOKUP(AU8,$BO$6:$BP$50,2)),0)","v":0},{"$f":"IF(AU8<>\"\",5,0)","v":0},{"$f":"AV8+AW8","v":0},null,null,{"$f":"IF(ISNUMBER(AZ8),(VLOOKUP(AZ8,$BO$6:$BP$50,2)),0)","v":0},{"$f":"IF(AZ8<>\"\",5,0)","v":0},{"$f":"BA8+BB8","v":0},null,null,{"$f":"IF(ISNUMBER(BE8),(VLOOKUP(BE8,$BO$6:$BP$50,2)),0)","v":0},{"$f":"IF(BE8<>\"\",5,0)","v":0},{"$f":"BF8+BG8","v":0},null,null,{"$f":"IF(ISNUMBER(BJ8),(VLOOKUP(BJ8,$BO$6:$BP$50,2)),0)","v":0},{"$f":"IF(BJ8<>\"\",5,0)","v":0},{"$f":"BK8+BL8","v":0},null,3,60,0,0,0,0,1,0,0,0]
[{"$f":"IF(E9<E8,BO9,A8)","v":4},"Hagen","Storm","Kjelsås",{"$f":"Q9","v":191},{"$f":"(IF(AC9=5,1,0)+IF(AH9=5,1,0)+IF(AM9=5,1,0)+IF(AR9=5,1,0)+IF(AW9=5,1,0)+IF(BA9=5,1,0)+IF(BG9=5,1,0)+IF(BL9=5,1,0))","v":3},null,{"$f":"IF(AA9=\"\",\"\",AA9)","v":""},{"$f":"IF(AF9=\"\",\"\",AF9)","v":2},{"$f":"IF(AK9=\"\",\"\",AK9)","v":7},{"$f":"IF(AP9=\"\",\"\",AP9)","v":3},{"$f":"IF(AU9=\"\",\"\",AU9)","v":""},{"$f":"IF(AZ9=\"\",\"\",AZ9)","v":""},{"$f":"IF(BE9=\"\",\"\",BE9)","v":""},{"$f":"IF(BJ9=\"\",\"\",BJ9)","v":""},null,{"$f":"AD9+AI9+AN9+AS9+AX9+BC9+BH9","v":191},{"$f":"IF($F9>=5,IF(AB9=\"\",\"\",AB9),\"\")","v":""},{"$f":"IF($F9>=5,IF(AG9=\"\",\"\",AG9),\"\")","v":""},{"$f":"IF($F9>=5,IF(AL9=\"\",\"\",AL9),\"\")","v":""},{"$f":"IF($F9>=5,IF(AQ9=\"\",\"\",AQ9),\"\")","v":""},{"$f":"IF($F9>=5,IF(AV9=\"\",\"\",AV9),\"\")","v":""},{"$f":"IF($F9>=5,IF(BA9=\"\",\"\",BA9),\"\")","v":""},{"$f":"IF($F9>=5,IF(BF9=\"\",\"\",BF9),\"\")","v":""},{"$f":"IF($F9>=5,IF(BK9=\"\",\"\",BK9),\"\")","v":""},null,null,{"$f":"IF(ISNUMBER(AA9),(VLOOKUP(AA9,$BO$6:$BP$50,2)),0)","v":0},{"$f":"IF(AA9<>\"\",5,0)","v":0},{"$f":"AB9+AC9","v":0},null,2,{"$f":"IF(ISNUMBER(AF9),(VLOOKUP(AF9,$BO$6:$BP$50,2)),0)","v":80},{"$f":"IF(AF9<>\"\",5,0)","v":5},{"$f":"AG9+AH9","v":85},null,7,{"$f":"IF(ISNUMBER(AK9),(VLOOKUP(AK9,$BO$6:$BP$50,2)),0)","v":36},{"$f":"IF(AK9<>\"\",5,0)","v":5},{"$f":"AL9+AM9","v":41},null,3,{"$f":"IF(ISNUMBER(AP9),(VLOOKUP(AP9,$BO$6:$BP$50,2)),0)","v":60},{"$f":"IF(AP9<>\"\",5,0)","v":5},{"$f":"AQ9+AR9","v":65},null,null,{"$f":"IF(ISNUMBER(AU9),(VLOOKUP(AU9,$BO$6:$BP$50,2)),0)","v":0},{"$f":"IF(AU9<>\"\",5,0)","v":0},{"$f":"AV9+AW9","v":0},null,null,{"$f":"IF(ISNUMBER(AZ9),(VLOOKUP(AZ9,$BO$6:$BP$50,2)),0)","v":0},{"$f":"IF(AZ9<>\"\",5,0)","v":0},{"$f":"BA9+BB9","v":0},null,null,{"$f":"IF(ISNUMBER(BE9),(VLOOKUP(BE9,$BO$6:$BP$50,2)),0)","v":0},{"$f":"IF(BE9<>\"\",5,0)","v":0},{"$f":"BF9+BG9","v":0},null,null,{"$f":"IF(ISNUMBER(BJ9),(VLOOKUP(BJ9,$BO$6:$BP$50,2)),0)","v":0},{"$f":"IF(BJ9<>\"\",5,0)","v":0},{"$f":"BK9+BL9","v":0},null,4,50,0,0,0,0,0,1,0,0]
[{"$f":"IF(E10<E9,BO10,A9)","v":5},"Hemminghytt","Fredrik","Lommedalen",{"$f":"Q10","v":172},{"$f":"(IF(AC10=5,1,0)+IF(AH10=5,1,0)+IF(AM10=5,1,0)+IF(AR10=5,1,0)+IF(AW10=5,1,0)+IF(BA10=5,1,0)+IF(BG10=5,1,0)+IF(BL10=5,1,0))","v":3},null,{"$f":"IF(AA10=\"\",\"\",AA10)","v":2},{"$f":"IF(AF10=\"\",\"\",AF10)","v":""},{"$f":"IF(AK10=\"\",\"\",AK10)","v":8},{"$f":"IF(AP10=\"\",\"\",AP10)","v":5},{"$f":"IF(AU10=\"\",\"\",AU10)","v":""},{"$f":"IF(AZ10=\"\",\"\",AZ10)","v":""},{"$f":"IF(BE10=\"\",\"\",BE10)","v":""},{"$f":"IF(BJ10=\"\",\"\",BJ10)","v":""},null,{"$f":"AD10+AI10+AN10+AS10+AX10+BC10+BH10","v":172},{"$f":"IF($F10>=5,IF(AB10=\"\",\"\",AB10),\"\")","v":""},{"$f":"IF($F10>=5,IF(AG10=\"\",\"\",AG10),\"\")","v":""},{"$f":"IF($F10>=5,IF(AL10=\"\",\"\",AL10),\"\")","v":""},{"$f":"IF($F10>=5,IF(AQ10=\"\",\"\",AQ10),\"\")","v":""},{"$f":"IF($F10>=5,IF(AV10=\"\",\"\",AV10),\"\")","v":""},{"$f":"IF($F10>=5,IF(BA10=\"\",\"\",BA10),\"\")","v":""},{"$f":"IF($F10>=5,IF(BF10=\"\",\"\",BF10),\"\")","v":""},{"$f":"IF($F10>=5,IF(BK10=\"\",\"\",BK10),\"\")","v":""},null,2,{"$f":"IF(ISNUMBER(AA10),(VLOOKUP(AA10,$BO$6:$BP$50,2)),0)","v":80},{"$f":"IF(AA10<>\"\",5,0)","v":5},{"$f":"AB10+AC10","v":85},null,null,{"$f":"IF(ISNUMBER(AF10),(VLOOKUP(AF10,$BO$6:$BP$50,2)),0)","v":0},{"$f":"IF(AF10<>\"\",5,0)","v":0},{"$f":"AG10+AH10","v":0},null,8,{"$f":"IF(ISNUMBER(AK10),(VLOOKUP(AK10,$BO$6:$BP$50,2)),0)","v":32},{"$f":"IF(AK10<>\"\",5,0)","v":5},{"$f":"AL10+AM10","v":37},null,5,{"$f":"IF(ISNUMBER(AP10),(VLOOKUP(AP10,$BO$6:$BP$50,2)),0)","v":45},{"$f":"IF(AP10<>\"\",5,0)","v":5},{"$f":"AQ10+AR10","v":50},null,null,{"$f":"IF(ISNUMBER(AU10),(VLOOKUP(AU10,$BO$6:$BP$50,2)),0)","v":0},{"$f":"IF(AU10<>\"\",5,0)","v":0},{"$f":"AV10+AW10","v":0},null,null,{"$f":"IF(ISNUMBER(AZ10),(VLOOKUP(AZ10,$BO$6:$BP$50,2)),0)","v":0},{"$f":"IF(AZ10<>\"\",5,0)","v":0},{"$f":"BA10+BB10","v":0},null,null,{"$f":"IF(ISNUMBER(BE10),(VLOOKUP(BE10,$BO$6:$BP$50,2)),0)","v":0},{"$f":"IF(BE10<>\"\",5,0)","v":0},{"$f":"BF10+BG10","v":0},null,null,{"$f":"IF(ISNUMBER(BJ10),(VLOOKUP(BJ10,$BO$6:$BP$50,2)),0)","v":0},{"$f":"IF(BJ10<>\"\",5,0)","v":0},{"$f":"BK10+BL10","v":0},null,5,45,0,0,0,0,0,1,0,0]
[{"$f":"IF(E11<E10,BO11,A10)","v":6},"Foss","Philip","Heming",{"$f":"Q11","v":150},{"$f":"(IF(AC11=5,1,0)+IF(AH11=5,1,0)+IF(AM11=5,1,0)+IF(AR11=5,1,0)+IF(AW11=5,1,0)+IF(BA11=5,1,0)+IF(BG11=5,1,0)+IF(BL11=5,1,0))","v":2},null,{"$f":"IF(AA11=\"\",\"\",AA11)","v":""},{"$f":"IF(AF11=\"\",\"\",AF11)","v":""},{"$f":"IF(AK11=\"\",\"\",AK11)","v":6},{"$f":"IF(AP11=\"\",\"\",AP11)","v":1},{"$f":"IF(AU11=\"\",\"\",AU11)","v":""},{"$f":"IF(AZ11=\"\",\"\",AZ11)","v":""},{"$f":"IF(BE11=\"\",\"\",BE11)","v":""},{"$f":"IF(BJ11=\"\",\"\",BJ11)","v":""},null,{"$f":"AD11+AI11+AN11+AS11+AX11+BC11+BH11","v":150},{"$f":"IF($F11>=5,IF(AB11=\"\",\"\",AB11),\"\")","v":""},{"$f":"IF($F11>=5,IF(AG11=\"\",\"\",AG11),\"\")","v":""},{"$f":"IF($F11>=5,IF(AL11=\"\",\"\",AL11),\"\")","v":""},{"$f":"IF($F11>=5,IF(AQ11=\"\",\"\",AQ11),\"\")","v":""},{"$f":"IF($F11>=5,IF(AV11=\"\",\"\",AV11),\"\")","v":""},{"$f":"IF($F11>=5,IF(BA11=\"\",\"\",BA11),\"\")","v":""},{"$f":"IF($F11>=5,IF(BF11=\"\",\"\",BF11),\"\")","v":""},{"$f":"IF($F11>=5,IF(BK11=\"\",\"\",BK11),\"\")","v":""},null,null,{"$f":"IF(ISNUMBER(AA11),(VLOOKUP(AA11,$BO$6:$BP$50,2)),0)","v":0},{"$f":"IF(AA11<>\"\",5,0)","v":0},{"$f":"AB11+AC11","v":0},null,null,{"$f":"IF(ISNUMBER(AF11),(VLOOKUP(AF11,$BO$6:$BP$50,2)),0)","v":0},{"$f":"IF(AF11<>\"\",5,0)","v":0},{"$f":"AG11+AH11","v":0},null,6,{"$f":"IF(ISNUMBER(AK11),(VLOOKUP(AK11,$BO$6:$BP$50,2)),0)","v":40},{"$f":"IF(AK11<>\"\",5,0)","v":5},{"$f":"AL11+AM11","v":45},null,1,{"$f":"IF(ISNUMBER(AP11),(VLOOKUP(AP11,$BO$6:$BP$50,2)),0)","v":100},{"$f":"IF(AP11<>\"\",5,0)","v":5},{"$f":"AQ11+AR11","v":105},null,null,{"$f":"IF(ISNUMBER(AU11),(VLOOKUP(AU11,$BO$6:$BP$50,2)),0)","v":0},{"$f":"IF(AU11<>\"\",5,0)","v":0},{"$f":"AV11+AW11","v":0},null,null,{"$f":"IF(ISNUMBER(AZ11),(VLOOKUP(AZ11,$BO$6:$BP$50,2)),0)","v":0},{"$f":"IF(AZ11<>\"\",5,0)","v":0},{"$f":"BA11+BB11","v":0},null,null,{"$f":"IF(ISNUMBER(BE11),(VLOOKUP(BE11,$BO$6:$BP$50,2)),0)","v":0},{"$f":"IF(BE11<>\"\",5,0)","v":0},{"$f":"BF11+BG11","v":0},null,null,{"$f":"IF(ISNUMBER(BJ11),(VLOOKUP(BJ11,$BO$6:$BP$50,2)),0)","v":0},{"$f":"IF(BJ11<>\"\",5,0)","v":0},{"$f":"BK11+BL11","v":0},null,6,40,0,0,0,0,0,0,1,0]
[{"$f":"IF(E12<E11,BO12,A11)","v":7},"Røkke","Lukas Thulin","IRS",{"$f":"Q12","v":148},{"$f":"(IF(AC12=5,1,0)+IF(AH12=5,1,0)+IF(AM12=5,1,0)+IF(AR12=5,1,0)+IF(AW12=5,1,0)+IF(BA12=5,1,0)+IF(BG12=5,1,0)+IF(BL12=5,1,0))","v":4},null,{"$f":"IF(AA12=\"\",\"\",AA12)","v":4},{"$f":"IF(AF12=\"\",\"\",AF12)","v":8},{"$f":"IF(AK12=\"\",\"\",AK12)","v":17},{"$f":"IF(AP12=\"\",\"\",AP12)","v":8},{"$f":"IF(AU12=\"\",\"\",AU12)","v":""},{"$f":"IF(AZ12=\"\",\"\",AZ12)","v":""},{"$f":"IF(BE12=\"\",\"\",BE12)","v":""},{"$f":"IF(BJ12=\"\",\"\",BJ12)","v":""},null,{"$f":"AD12+AI12+AN12+AS12+AX12+BC12+BH12","v":148},{"$f":"IF($F12>=5,IF(AB12=\"\",\"\",AB12),\"\")","v":""},{"$f":"IF($F12>=5,IF(AG12=\"\",\"\",AG12),\"\")","v":""},{"$f":"IF($F12>=5,IF(AL12=\"\",\"\",AL12),\"\")","v":""},{"$f":"IF($F12>=5,IF(AQ12=\"\",\"\",AQ12),\"\")","v":""},{"$f":"IF($F12>=5,IF(AV12=\"\",\"\",AV12),\"\")","v":""},{"$f":"IF($F12>=5,IF(BA12=\"\",\"\",BA12),\"\")","v":""},{"$f":"IF($F12>=5,IF(BF12=\"\",\"\",BF12),\"\")","v":""},{"$f":"IF($F12>=5,IF(BK12=\"\",\"\",BK12),\"\")","v":""},null,4,{"$f":"IF(ISNUMBER(AA12),(VLOOKUP(AA12,$BO$6:$BP$50,2)),0)","v":50},{"$f":"IF(AA12<>\"\",5,0)","v":5},{"$f":"AB12+AC12","v":55},null,8,{"$f":"IF(ISNUMBER(AF12),(VLOOKUP(AF12,$BO$6:$BP$50,2)),0)","v":32},{"$f":"IF(AF12<>\"\",5,0)","v":5},{"$f":"AG12+AH12","v":37},null,17,{"$f":"IF(ISNUMBER(AK12),(VLOOKUP(AK12,$BO$6:$BP$50,2)),0)","v":14},{"$f":"IF(AK12<>\"\",5,0)","v":5},{"$f":"AL12+AM12","v":19},null,8,{"$f":"IF(ISNUMBER(AP12),(VLOOKUP(AP12,$BO$6:$BP$50,2)),0)","v":32},{"$f":"IF(AP12<>\"\",5,0)","v":5},{"$f":"AQ12+AR12","v":37},null,null,{"$f":"IF(ISNUMBER(AU12),(VLOOKUP(AU12,$BO$6:$BP$50,2)),0)","v":0},{"$f":"IF(AU12<>\"\",5,0)","v":0},{"$f":"AV12+AW12","v":0},null,null,{"$f":"IF(ISNUMBER(AZ12),(VLOOKUP(AZ12,$BO$6:$BP$50,2)),0)","v":0},{"$f":"IF(AZ12<>\"\",5,0)","v":0},{"$f":"BA12+BB12","v":0},null,null,{"$f":"IF(ISNUMBER(BE12),(VLOOKUP(BE12,$BO$6:$BP$50,2)),0)","v":0},{"$f":"IF(BE12<>\"\",5,0)","v":0},{"$f":"BF12+BG12","v":0},null,null,{"$f":"IF(ISNUMBER(BJ12),(VLOOKUP(BJ12,$BO$6:$BP$50,2)),0)","v":0},{"$f":"IF(BJ12<>\"\",5,0)","v":0},{"$f":"BK12+BL12","v":0},null,7,36,0,0,0,0,1,0,0,0]
[{"$f":"IF(E13<E12,BO13,A12)","v":8},"Finne","Peder August","Heming",{"$f":"Q13","v":147},{"$f":"(IF(AC13=5,1,0)+IF(AH13=5,1,0)+IF(AM13=5,1,0)+IF(AR13=5,1,0)+IF(AW13=5,1,0)+IF(BA13=5,1,0)+IF(BG13=5,1,0)+IF(BL13=5,1,0))","v":3},null,{"$f":"IF(AA13=\"\",\"\",AA13)","v":8},{"$f":"IF(AF13=\"\",\"\",AF13)","v":""},{"$f":"IF(AK13=\"\",\"\",AK13)","v":3},{"$f":"IF(AP13=\"\",\"\",AP13)","v":6},{"$f":"IF(AU13=\"\",\"\",AU13)","v":""},{"$f":"IF(AZ13=\"\",\"\",AZ13)","v":""},{"$f":"IF(BE13=\"\",\"\",BE13)","v":""},{"$f":"IF(BJ13=\"\",\"\",BJ13)","v":""},null,{"$f":"AD13+AI13+AN13+AS13+AX13+BC13+BH13","v":147},{"$f":"IF($F13>=5,IF(AB13=\"\",\"\",AB13),\"\")","v":""},{"$f":"IF($F13>=5,IF(AG13=\"\",\"\",AG13),\"\")","v":""},{"$f":"IF($F13>=5,IF(AL13=\"\",\"\",AL13),\"\")","v":""},{"$f":"IF($F13>=5,IF(AQ13=\"\",\"\",AQ13),\"\")","v":""},null,{"$f":"IF($F13>=5,IF(BA13=\"\",\"\",BA13),\"\")","v":""},{"$f":"IF($F13>=5,IF(BF13=\"\",\"\",BF13),\"\")","v":""},{"$f":"IF($F13>=5,IF(BK13=\"\",\"\",BK13),\"\")","v":""},null,8,{"$f":"IF(ISNUMBER(AA13),(VLOOKUP(AA13,$BO$6:$BP$50,2)),0)","v":32},{"$f":"IF(AA13<>\"\",5,0)","v":5},{"$f":"AB13+AC13","v":37},null,null,{"$f":"IF(ISNUMBER(AF13),(VLOOKUP(AF13,$BO$6:$BP$50,2)),0)","v":0},{"$f":"IF(AF13<>\"\",5,0)","v":0},{"$f":"AG13+AH13","v":0},null,3,{"$f":"IF(ISNUMBER(AK13),(VLOOKUP(AK13,$BO$6:$BP$50,2)),0)","v":60},{"$f":"IF(AK13<>\"\",5,0)","v":5},{"$f":"AL13+AM13","v":65},null,6,{"$f":"IF(ISNUMBER(AP13),(VLOOKUP(AP13,$BO$6:$BP$50,2)),0)","v":40},{"$f":"IF(AP13<>\"\",5,0)","v":5},{"$f":"AQ13+AR13","v":45},null,null,{"$f":"IF(ISNUMBER(AU13),(VLOOKUP(AU13,$BO$6:$BP$50,2)),0)","v":0},{"$f":"IF(AU13<>\"\",5,0)","v":0},{"$f":"AV13+AW13","v":0},null,null,{"$f":"IF(ISNUMBER(AZ13),(VLOOKUP(AZ13,$BO$6:$BP$50,2)),0)","v":0},{"$f":"IF(AZ13<>\"\",5,0)","v":0},{"$f":"BA13+BB13","v":0},null,null,{"$f":"IF(ISNUMBER(BE13),(VLOOKUP(BE13,$BO$6:$BP$50,2)),0)","v":0},{"$f":"IF(BE13<>\"\",5,0)","v":0},{"$f":"BF13+BG13","v":0},null,null,{"$f":"IF(ISNUMBER(BJ13),(VLOOKUP(BJ13,$BO$6:$BP$50,2)),0)","v":0},{"$f":"IF(BJ13<>\"\",5,0)","v":0},{"$f":"BK13+BL13","v":0},null,8,32,0,0,0,0,0,1,0,0]
[{"$f":"IF(E14<E13,BO14,A13)","v":9},"Aasdal","BIRK","Ljan",{"$f":"Q14","v":123},{"$f":"(IF(AC14=5,1,0)+IF(AH14=5,1,0)+IF(AM14=5,1,0)+IF(AR14=5,1,0)+IF(AW14=5,1,0)+IF(BA14=5,1,0)+IF(BG14=5,1,0)+IF(BL14=5,1,0))","v":3},null,{"$f":"IF(AA14=\"\",\"\",AA14)","v":7},{"$f":"IF(AF14=\"\",\"\",AF14)","v":4},{"$f":"IF(AK14=\"\",\"\",AK14)","v":12},{"$f":"IF(AP14=\"\",\"\",AP14)","v":""},{"$f":"IF(AU14=\"\",\"\",AU14)","v":""},{"$f":"IF(AZ14=\"\",\"\",AZ14)","v":""},{"$f":"IF(BE14=\"\",\"\",BE14)","v":""},{"$f":"IF(BJ14=\"\",\"\",BJ14)","v":""},null,{"$f":"AD14+AI14+AN14+AS14+AX14+BC14+BH14","v":123},{"$f":"IF($F14>=5,IF(AB14=\"\",\"\",AB14),\"\")","v":""},{"$f":"IF($F14>=5,IF(AG14=\"\",\"\",AG14),\"\")","v":""},{"$f":"IF($F14>=5,IF(AL14=\"\",\"\",AL14),\"\")","v":""},{"$f":"IF($F14>=5,IF(AQ14=\"\",\"\",AQ14),\"\")","v":""},{"$f":"IF($F14>=5,IF(AV14=\"\",\"\",AV14),\"\")","v":""},{"$f":"IF($F14>=5,IF(BA14=\"\",\"\",BA14),\"\")","v":""},{"$f":"IF($F14>=5,IF(BF14=\"\",\"\",BF14),\"\")","v":""},{"$f":"IF($F14>=5,IF(BK14=\"\",\"\",BK14),\"\")","v":""},null,7,{"$f":"IF(ISNUMBER(AA14),(VLOOKUP(AA14,$BO$6:$BP$50,2)),0)","v":36},{"$f":"IF(AA14<>\"\",5,0)","v":5},{"$f":"AB14+AC14","v":41},null,4,{"$f":"IF(ISNUMBER(AF14),(VLOOKUP(AF14,$BO$6:$BP$50,2)),0)","v":50},{"$f":"IF(AF14<>\"\",5,0)","v":5},{"$f":"AG14+AH14","v":55},null,12,{"$f":"IF(ISNUMBER(AK14),(VLOOKUP(AK14,$BO$6:$BP$50,2)),0)","v":22},{"$f":"IF(AK14<>\"\",5,0)","v":5},{"$f":"AL14+AM14","v":27},null,null,{"$f":"IF(ISNUMBER(AP14),(VLOOKUP(AP14,$BO$6:$BP$50,2)),0)","v":0},{"$f":"IF(AP14<>\"\",5,0)","v":0},{"$f":"AQ14+AR14","v":0},null,null,{"$f":"IF(ISNUMBER(AU14),(VLOOKUP(AU14,$BO$6:$BP$50,2)),0)","v":0},{"$f":"IF(AU14<>\"\",5,0)","v":0},{"$f":"AV14+AW14","v":0},null,null,{"$f":"IF(ISNUMBER(AZ14),(VLOOKUP(AZ14,$BO$6:$BP$50,2)),0)","v":0},{"$f":"IF(AZ14<>\"\",5,0)","v":0},{"$f":"BA14+BB14","v":0},null,null,{"$f":"IF(ISNUMBER(BE14),(VLOOKUP(BE14,$BO$6:$BP$50,2)),0)","v":0},{"$f":"IF(BE14<>\"\",5,0)","v":0},{"$f":"BF14+BG14","v":0},null,null,{"$f":"IF(ISNUMBER(BJ14),(VLOOKUP(BJ14,$BO$6:$BP$50,2)),0)","v":0},{"$f":"IF(BJ14<>\"\",5,0)","v":0},{"$f":"BK14+BL14","v":0},null,9,29,0,0,0,0,0,1,0,0]
[{"$f":"IF(E15<E14,BO15,A14)","v":10},"Hartmann","Marius Holm","Ready",{"$f":"Q15","v":109},{"$f":"(IF(AC15=5,1,0)+IF(AH15=5,1,0)+IF(AM15=5,1,0)+IF(AR15=5,1,0)+IF(AW15=5,1,0)+IF(BA15=5,1,0)+IF(BG15=5,1,0)+IF(BL15=5,1,0))","v":4},null,{"$f":"IF(AA15=\"\",\"\",AA15)","v":12},{"$f":"IF(AF15=\"\",\"\",AF15)","v":6},{"$f":"IF(AK15=\"\",\"\",AK15)","v":20},{"$f":"IF(AP15=\"\",\"\",AP15)","v":15},{"$f":"IF(AU15=\"\",\"\",AU15)","v":""},{"$f":"IF(AZ15=\"\",\"\",AZ15)","v":""},{"$f":"IF(BE15=\"\",\"\",BE15)","v":""},{"$f":"IF(BJ15=\"\",\"\",BJ15)","v":""},null,{"$f":"AD15+AI15+AN15+AS15+AX15+BC15+BH15","v":109},{"$f":"IF($F15>=5,IF(AB15=\"\",\"\",AB15),\"\")","v":""},{"$f":"IF($F15>=5,IF(AG15=\"\",\"\",AG15),\"\")","v":""},{"$f":"IF($F15>=5,IF(AL15=\"\",\"\",AL15),\"\")","v":""},{"$f":"IF($F15>=5,IF(AQ15=\"\",\"\",AQ15),\"\")","v":""},{"$f":"IF($F15>=5,IF(AV15=\"\",\"\",AV15),\"\")","v":""},{"$f":"IF($F15>=5,IF(BA15=\"\",\"\",BA15),\"\")","v":""},{"$f":"IF($F15>=5,IF(BF15=\"\",\"\",BF15),\"\")","v":""},{"$f":"IF($F15>=5,IF(BK15=\"\",\"\",BK15),\"\")","v":""},null,12,{"$f":"IF(ISNUMBER(AA15),(VLOOKUP(AA15,$BO$6:$BP$50,2)),0)","v":22},{"$f":"IF(AA15<>\"\",5,0)","v":5},{"$f":"AB15+AC15","v":27},null,6,{"$f":"IF(ISNUMBER(AF15),(VLOOKUP(AF15,$BO$6:$BP$50,2)),0)","v":40},{"$f":"IF(AF15<>\"\",5,0)","v":5},{"$f":"AG15+AH15","v":45},null,20,{"$f":"IF(ISNUMBER(AK15),(VLOOKUP(AK15,$BO$6:$BP$50,2)),0)","v":11},{"$f":"IF(AK15<>\"\",5,0)","v":5},{"$f":"AL15+AM15","v":16},null,15,{"$f":"IF(ISNUMBER(AP15),(VLOOKUP(AP15,$BO$6:$BP$50,2)),0)","v":16},{"$f":"IF(AP15<>\"\",5,0)","v":5},{"$f":"AQ15+AR15","v":21},null,null,{"$f":"IF(ISNUMBER(AU15),(VLOOKUP(AU15,$BO$6:$BP$50,2)),0)","v":0},{"$f":"IF(AU15<>\"\",5,0)","v":0},{"$f":"AV15+AW15","v":0},null,null,{"$f":"IF(ISNUMBER(AZ15),(VLOOKUP(AZ15,$BO$6:$BP$50,2)),0)","v":0},{"$f":"IF(AZ15<>\"\",5,0)","v":0},{"$f":"BA15+BB15","v":0},null,null,{"$f":"IF(ISNUMBER(BE15),(VLOOKUP(BE15,$BO$6:$BP$50,2)),0)","v":0},{"$f":"IF(BE15<>\"\",5,0)","v":0},{"$f":"BF15+BG15","v":0},null,null,{"$f":"IF(ISNUMBER(BJ15),(VLOOKUP(BJ15,$BO$6:$BP$50,2)),0)","v":0},{"$f":"IF(BJ15<>\"\",5,0)","v":0},{"$f":"BK15+BL15","v":0},null,10,26,0,0,0,0,1,0,0,0]
[{"$f":"IF(E16<E15,BO16,A15)","v":11},"Rehman","Tor Fabian Evert","Ready",{"$f":"Q16","v":79},{"$f":"(IF(AC16=5,1,0)+IF(AH16=5,1,0)+IF(AM16=5,1,0)+IF(AR16=5,1,0)+IF(AW16=5,1,0)+IF(BA16=5,1,0)+IF(BG16=5,1,0)+IF(BL16=5,1,0))","v":3},null,{"$f":"IF(AA16=\"\",\"\",AA16)","v":9},{"$f":"IF(AF16=\"\",\"\",AF16)","v":""},{"$f":"IF(AK16=\"\",\"\",AK16)","v":18},{"$f":"IF(AP16=\"\",\"\",AP16)","v":12},{"$f":"IF(AU16=\"\",\"\",AU16)","v":""},{"$f":"IF(AZ16=\"\",\"\",AZ16)","v":""},{"$f":"IF(BE16=\"\",\"\",BE16)","v":""},{"$f":"IF(BJ16=\"\",\"\",BJ16)","v":""},null,{"$f":"AD16+AI16+AN16+AS16+AX16+BC16+BH16","v":79},{"$f":"IF($F16>=5,IF(AB16=\"\",\"\",AB16),\"\")","v":""},{"$f":"IF($F16>=5,IF(AG16=\"\",\"\",AG16),\"\")","v":""},{"$f":"IF($F16>=5,IF(AL16=\"\",\"\",AL16),\"\")","v":""},{"$f":"IF($F16>=5,IF(AQ16=\"\",\"\",AQ16),\"\")","v":""},{"$f":"IF($F16>=5,IF(AV16=\"\",\"\",AV16),\"\")","v":""},{"$f":"IF($F16>=5,IF(BA16=\"\",\"\",BA16),\"\")","v":""},{"$f":"IF($F16>=5,IF(BF16=\"\",\"\",BF16),\"\")","v":""},{"$f":"IF($F16>=5,IF(BK16=\"\",\"\",BK16),\"\")","v":""},null,9,{"$f":"IF(ISNUMBER(AA16),(VLOOKUP(AA16,$BO$6:$BP$50,2)),0)","v":29},{"$f":"IF(AA16<>\"\",5,0)","v":5},{"$f":"AB16+AC16","v":34},null,null,{"$f":"IF(ISNUMBER(AF16),(VLOOKUP(AF16,$BO$6:$BP$50,2)),0)","v":0},{"$f":"IF(AF16<>\"\",5,0)","v":0},{"$f":"AG16+AH16","v":0},null,18,{"$f":"IF(ISNUMBER(AK16),(VLOOKUP(AK16,$BO$6:$BP$50,2)),0)","v":13},{"$f":"IF(AK16<>\"\",5,0)","v":5},{"$f":"AL16+AM16","v":18},null,12,{"$f":"IF(ISNUMBER(AP16),(VLOOKUP(AP16,$BO$6:$BP$50,2)),0)","v":22},{"$f":"IF(AP16<>\"\",5,0)","v":5},{"$f":"AQ16+AR16","v":27},null,null,{"$f":"IF(ISNUMBER(AU16),(VLOOKUP(AU16,$BO$6:$BP$50,2)),0)","v":0},{"$f":"IF(AU16<>\"\",5,0)","v":0},{"$f":"AV16+AW16","v":0},null,null,{"$f":"IF(ISNUMBER(AZ16),(VLOOKUP(AZ16,$BO$6:$BP$50,2)),0)","v":0},{"$f":"IF(AZ16<>\"\",5,0)","v":0},{"$f":"BA16+BB16","v":0},null,null,{"$f":"IF(ISNUMBER(BE16),(VLOOKUP(BE16,$BO$6:$BP$50,2)),0)","v":0},{"$f":"IF(BE16<>\"\",5,0)","v":0},{"$f":"BF16+BG16","v":0},null,null,{"$f":"IF(ISNUMBER(BJ16),(VLOOKUP(BJ16,$BO$6:$BP$50,2)),0)","v":0},{"$f":"IF(BJ16<>\"\",5,0)","v":0},{"$f":"BK16+BL16","v":0},null,11,24,0,0,0,0,0,1,0,0]
[{"$f":"IF(E17<E16,BO17,A16)","v":12},"Toft","Ola Mostraum","Kjelsås",{"$f":"Q17","v":76},{"$f":"(IF(AC17=5,1,0)+IF(AH17=5,1,0)+IF(AM17=5,1,0)+IF(AR17=5,1,0)+IF(AW17=5,1,0)+IF(BA17=5,1,0)+IF(BG17=5,1,0)+IF(BL17=5,1,0))","v":4},null,{"$f":"IF(AA17=\"\",\"\",AA17)","v":10},{"$f":"IF(AF17=\"\",\"\",AF17)","v":"dsq"},{"$f":"IF(AK17=\"\",\"\",AK17)","v":19},{"$f":"IF(AP17=\"\",\"\",AP17)","v":14},{"$f":"IF(AU17=\"\",\"\",AU17)","v":""},{"$f":"IF(AZ17=\"\",\"\",AZ17)","v":""},{"$f":"IF(BE17=\"\",\"\",BE17)","v":""},{"$f":"IF(BJ17=\"\",\"\",BJ17)","v":""},null,{"$f":"AD17+AI17+AN17+AS17+AX17+BC17+BH17","v":76},{"$f":"IF($F17>=5,IF(AB17=\"\",\"\",AB17),\"\")","v":""},{"$f":"IF($F17>=5,IF(AG17=\"\",\"\",AG17),\"\")","v":""},{"$f":"IF($F17>=5,IF(AL17=\"\",\"\",AL17),\"\")","v":""},{"$f":"IF($F17>=5,IF(AQ17=\"\",\"\",AQ17),\"\")","v":""},{"$f":"IF($F17>=5,IF(AV17=\"\",\"\",AV17),\"\")","v":""},{"$f":"IF($F17>=5,IF(BA17=\"\",\"\",BA17),\"\")","v":""},{"$f":"IF($F17>=5,IF(BF17=\"\",\"\",BF17),\"\")","v":""},{"$f":"IF($F17>=5,IF(BK17=\"\",\"\",BK17),\"\")","v":""},null,10,{"$f":"IF(ISNUMBER(AA17),(VLOOKUP(AA17,$BO$6:$BP$50,2)),0)","v":26},{"$f":"IF(AA17<>\"\",5,0)","v":5},{"$f":"AB17+AC17","v":31},null,"dsq",{"$f":"IF(ISNUMBER(AF17),(VLOOKUP(AF17,$BO$6:$BP$50,2)),0)","v":0},{"$f":"IF(AF17<>\"\",5,0)","v":5},{"$f":"AG17+AH17","v":5},null,19,{"$f":"IF(ISNUMBER(AK17),(VLOOKUP(AK17,$BO$6:$BP$50,2)),0)","v":12},{"$f":"IF(AK17<>\"\",5,0)","v":5},{"$f":"AL17+AM17","v":17},null,14,{"$f":"IF(ISNUMBER(AP17),(VLOOKUP(AP17,$BO$6:$BP$50,2)),0)","v":18},{"$f":"IF(AP17<>\"\",5,0)","v":5},{"$f":"AQ17+AR17","v":23},null,null,{"$f":"IF(ISNUMBER(AU17),(VLOOKUP(AU17,$BO$6:$BP$50,2)),0)","v":0},{"$f":"IF(AU17<>\"\",5,0)","v":0},{"$f":"AV17+AW17","v":0},null,null,{"$f":"IF(ISNUMBER(AZ17),(VLOOKUP(AZ17,$BO$6:$BP$50,2)),0)","v":0},{"$f":"IF(AZ17<>\"\",5,0)","v":0},{"$f":"BA17+BB17","v":0},null,null,{"$f":"IF(ISNUMBER(BE17),(VLOOKUP(BE17,$BO$6:$BP$50,2)),0)","v":0},{"$f":"IF(BE17<>\"\",5,0)","v":0},{"$f":"BF17+BG17","v":0},null,null,{"$f":"IF(ISNUMBER(BJ17),(VLOOKUP(BJ17,$BO$6:$BP$50,2)),0)","v":0},{"$f":"IF(BJ17<>\"\",5,0)","v":0},{"$f":"BK17+BL17","v":0},null,12,22,0,0,0,0,1,0,0,0]
[{"$f":"IF(E18<E17,BO18,A17)","v":13},"Tschudi-Nytvedt","Sebastian","Heming",{"$f":"Q18","v":75},{"$f":"(IF(AC18=5,1,0)+IF(AH18=5,1,0)+IF(AM18=5,1,0)+IF(AR18=5,1,0)+IF(AW18=5,1,0)+IF(BA18=5,1,0)+IF(BG18=5,1,0)+IF(BL18=5,1,0))","v":2},null,{"$f":"IF(AA18=\"\",\"\",AA18)","v":""},{"$f":"IF(AF18=\"\",\"\",AF18)","v":""},{"$f":"IF(AK18=\"\",\"\",AK18)","v":9},{"$f":"IF(AP18=\"\",\"\",AP18)","v":7},{"$f":"IF(AU18=\"\",\"\",AU18)","v":""},{"$f":"IF(AU18=\"\",\"\",AU18)","v":""},{"$f":"IF(AZ18=\"\",\"\",AZ18)","v":""},{"$f":"IF(BE18=\"\",\"\",BE18)","v":""},null,{"$f":"AD18+AI18+AN18+AS18+AX18+BC18+BH18","v":75},"","","","","","","","",null,null,{"$f":"IF(ISNUMBER(AA18),(VLOOKUP(AA18,$BO$6:$BP$50,2)),0)","v":0},{"$f":"IF(AA18<>\"\",5,0)","v":0},{"$f":"AB18+AC18","v":0},null,null,{"$f":"IF(ISNUMBER(AF18),(VLOOKUP(AF18,$BO$6:$BP$50,2)),0)","v":0},{"$f":"IF(AF18<>\"\",5,0)","v":0},{"$f":"AG18+AH18","v":0},null,9,{"$f":"IF(ISNUMBER(AK18),(VLOOKUP(AK18,$BO$6:$BP$50,2)),0)","v":29},{"$f":"IF(AK18<>\"\",5,0)","v":5},{"$f":"AL18+AM18","v":34},null,7,{"$f":"IF(ISNUMBER(AP18),(VLOOKUP(AP18,$BO$6:$BP$50,2)),0)","v":36},{"$f":"IF(AP18<>\"\",5,0)","v":5},{"$f":"AQ18+AR18","v":41},null,null,{"$f":"IF(ISNUMBER(AU18),(VLOOKUP(AU18,$BO$6:$BP$50,2)),0)","v":0},{"$f":"IF(AU18<>\"\",5,0)","v":0},{"$f":"AV18+AW18","v":0},null,null,{"$f":"IF(ISNUMBER(AZ18),(VLOOKUP(AZ18,$BO$6:$BP$50,2)),0)","v":0},{"$f":"IF(AZ18<>\"\",5,0)","v":0},{"$f":"BA18+BB18","v":0},null,null,{"$f":"IF(ISNUMBER(BE18),(VLOOKUP(BE18,$BO$6:$BP$50,2)),0)","v":0},{"$f":"IF(BE18<>\"\",5,0)","v":0},{"$f":"BF18+BG18","v":0},null,null,{"$f":"IF(ISNUMBER(BJ18),(VLOOKUP(BJ18,$BO$6:$BP$50,2)),0)","v":0},{"$f":"IF(BJ18<>\"\",5,0)","v":0},{"$f":"BK18+BL18","v":0},null,13,20,0,{"$f":"IF($F17=7,1,0)","v":0},{"$f":"IF($F17=6,1,0)","v":0},{"$f":"IF($F17=5,1,0)","v":0},{"$f":"IF($F17=4,1,0)","v":1},{"$f":"IF($F17=3,1,0)","v":0},{"$f":"IF($F17=2,1,0)","v":0},{"$f":"IF($F17=1,1,0)","v":0}]
[{"$f":"IF(E19<E18,BO19,A18)","v":14},"Burum-Auensen","Jan Nicolas","Njård",{"$f":"Q19","v":69},{"$f":"(IF(AC19=5,1,0)+IF(AH19=5,1,0)+IF(AM19=5,1,0)+IF(AR19=5,1,0)+IF(AW19=5,1,0)+IF(BA19=5,1,0)+IF(BG19=5,1,0)+IF(BL19=5,1,0))","v":3},null,{"$f":"IF(AA19=\"\",\"\",AA19)","v":15},{"$f":"IF(AF19=\"\",\"\",AF19)","v":""},{"$f":"IF(AK19=\"\",\"\",AK19)","v":14},{"$f":"IF(AP19=\"\",\"\",AP19)","v":13},{"$f":"IF(AU19=\"\",\"\",AU19)","v":""},{"$f":"IF(AU19=\"\",\"\",AU19)","v":""},{"$f":"IF(AZ19=\"\",\"\",AZ19)","v":""},{"$f":"IF(BE19=\"\",\"\",BE19)","v":""},null,{"$f":"AD19+AI19+AN19+AS19+AX19+BC19+BH19","v":69},"","","","","","","","",null,15,{"$f":"IF(ISNUMBER(AA19),(VLOOKUP(AA19,$BO$6:$BP$50,2)),0)","v":16},{"$f":"IF(AA19<>\"\",5,0)","v":5},{"$f":"AB19+AC19","v":21},null,null,{"$f":"IF(ISNUMBER(AF19),(VLOOKUP(AF19,$BO$6:$BP$50,2)),0)","v":0},{"$f":"IF(AF19<>\"\",5,0)","v":0},{"$f":"AG19+AH19","v":0},null,14,{"$f":"IF(ISNUMBER(AK19),(VLOOKUP(AK19,$BO$6:$BP$50,2)),0)","v":18},{"$f":"IF(AK19<>\"\",5,0)","v":5},{"$f":"AL19+AM19","v":23},null,13,{"$f":"IF(ISNUMBER(AP19),(VLOOKUP(AP19,$BO$6:$BP$50,2)),0)","v":20},{"$f":"IF(AP19<>\"\",5,0)","v":5},{"$f":"AQ19+AR19","v":25},null,null,{"$f":"IF(ISNUMBER(AU19),(VLOOKUP(AU19,$BO$6:$BP$50,2)),0)","v":0},{"$f":"IF(AU19<>\"\",5,0)","v":0},{"$f":"AV19+AW19","v":0},null,null,{"$f":"IF(ISNUMBER(AZ19),(VLOOKUP(AZ19,$BO$6:$BP$50,2)),0)","v":0},{"$f":"IF(AZ19<>\"\",5,0)","v":0},{"$f":"BA19+BB19","v":0},null,null,{"$f":"IF(ISNUMBER(BE19),(VLOOKUP(BE19,$BO$6:$BP$50,2)),0)","v":0},{"$f":"IF(BE19<>\"\",5,0)","v":0},{"$f":"BF19+BG19","v":0},null,null,{"$f":"IF(ISNUMBER(BJ19),(VLOOKUP(BJ19,$BO$6:$BP$50,2)),0)","v":0},{"$f":"IF(BJ19<>\"\",5,0)","v":0},{"$f":"BK19+BL19","v":0},null,14,18,0,{"$f":"IF($F18=7,1,0)","v":0},{"$f":"IF($F18=6,1,0)","v":0},{"$f":"IF($F18=5,1,0)","v":0},{"$f":"IF($F18=4,1,0)","v":0},{"$f":"IF($F18=3,1,0)","v":0},{"$f":"IF($F18=2,1,0)","v":1},{"$f":"IF($F18=1,1,0)","v":0}]
[{"$f":"IF(E20<E19,BO20,A19)","v":15},"Lysgård","Sebastian","Try",{"$f":"Q20","v":68},{"$f":"(IF(AC20=5,1,0)+IF(AH20=5,1,0)+IF(AM20=5,1,0)+IF(AR20=5,1,0)+IF(AW20=5,1,0)+IF(BA20=5,1,0)+IF(BG20=5,1,0)+IF(BL20=5,1,0))","v":4},null,{"$f":"IF(AA20=\"\",\"\",AA20)","v":16},{"$f":"IF(AF20=\"\",\"\",AF20)","v":"dsq"},{"$f":"IF(AK20=\"\",\"\",AK20)","v":22},{"$f":"IF(AP20=\"\",\"\",AP20)","v":11},{"$f":"IF(AU20=\"\",\"\",AU20)","v":""},"","","",null,{"$f":"AD20+AI20+AN20+AS20+AX20+BC20+BH20","v":68},"","","","","","","","",null,16,{"$f":"IF(ISNUMBER(AA20),(VLOOKUP(AA20,$BO$6:$BP$50,2)),0)","v":15},{"$f":"IF(AA20<>\"\",5,0)","v":5},{"$f":"AB20+AC20","v":20},null,"dsq",{"$f":"IF(ISNUMBER(AF20),(VLOOKUP(AF20,$BO$6:$BP$50,2)),0)","v":0},{"$f":"IF(AF20<>\"\",5,0)","v":5},{"$f":"AG20+AH20","v":5},null,22,{"$f":"IF(ISNUMBER(AK20),(VLOOKUP(AK20,$BO$6:$BP$50,2)),0)","v":9},{"$f":"IF(AK20<>\"\",5,0)","v":5},{"$f":"AL20+AM20","v":14},null,11,{"$f":"IF(ISNUMBER(AP20),(VLOOKUP(AP20,$BO$6:$BP$50,2)),0)","v":24},{"$f":"IF(AP20<>\"\",5,0)","v":5},{"$f":"AQ20+AR20","v":29},null,null,{"$f":"IF(ISNUMBER(AU20),(VLOOKUP(AU20,$BO$6:$BP$50,2)),0)","v":0},{"$f":"IF(AU20<>\"\",5,0)","v":0},{"$f":"AV20+AW20","v":0},null,null,{"$f":"IF(ISNUMBER(AZ20),(VLOOKUP(AZ20,$BO$6:$BP$50,2)),0)","v":0},{"$f":"IF(AZ20<>\"\",5,0)","v":0},{"$f":"BA20+BB20","v":0},null,null,{"$f":"IF(ISNUMBER(BE20),(VLOOKUP(BE20,$BO$6:$BP$50,2)),0)","v":0},{"$f":"IF(BE20<>\"\",5,0)","v":0},{"$f":"BF20+BG20","v":0},null,null,{"$f":"IF(ISNUMBER(BJ20),(VLOOKUP(BJ20,$BO$6:$BP$50,2)),0)","v":0},{"$f":"IF(BJ20<>\"\",5,0)","v":0},{"$f":"BK20+BL20","v":0},null,15,16,0,{"$f":"IF($F19=7,1,0)","v":0},{"$f":"IF($F19=6,1,0)","v":0},{"$f":"IF($F19=5,1,0)","v":0},{"$f":"IF($F19=4,1,0)","v":0},{"$f":"IF($F19=3,1,0)","v":1},{"$f":"IF($F19=2,1,0)","v":0},{"$f":"IF($F19=1,1,0)","v":0}]
[{"$f":"IF(E21<E20,BO21,A20)","v":16},"Hole","Henrik Grøthe","IRS",{"$f":"Q21","v":64},{"$f":"(IF(AC21=5,1,0)+IF(AH21=5,1,0)+IF(AM21=5,1,0)+IF(AR21=5,1,0)+IF(AW21=5,1,0)+IF(BA21=5,1,0)+IF(BG21=5,1,0)+IF(BL21=5,1,0))","v":2},null,{"$f":"IF(AA21=\"\",\"\",AA21)","v":14},{"$f":"IF(AF21=\"\",\"\",AF21)","v":7},{"$f":"IF(AK21=\"\",\"\",AK21)","v":""},{"$f":"IF(AP21=\"\",\"\",AP21)","v":""},{"$f":"IF(AU21=\"\",\"\",AU21)","v":""},"","","",null,{"$f":"AD21+AI21+AN21+AS21+AX21+BC21+BH21","v":64},"","","","","","","","",null,14,{"$f":"IF(ISNUMBER(AA21),(VLOOKUP(AA21,$BO$6:$BP$50,2)),0)","v":18},{"$f":"IF(AA21<>\"\",5,0)","v":5},{"$f":"AB21+AC21","v":23},null,7,{"$f":"IF(ISNUMBER(AF21),(VLOOKUP(AF21,$BO$6:$BP$50,2)),0)","v":36},{"$f":"IF(AF21<>\"\",5,0)","v":5},{"$f":"AG21+AH21","v":41},null,null,{"$f":"IF(ISNUMBER(AK21),(VLOOKUP(AK21,$BO$6:$BP$50,2)),0)","v":0},{"$f":"IF(AK21<>\"\",5,0)","v":0},{"$f":"AL21+AM21","v":0},null,null,{"$f":"IF(ISNUMBER(AP21),(VLOOKUP(AP21,$BO$6:$BP$50,2)),0)","v":0},{"$f":"IF(AP21<>\"\",5,0)","v":0},{"$f":"AQ21+AR21","v":0},null,null,{"$f":"IF(ISNUMBER(AU21),(VLOOKUP(AU21,$BO$6:$BP$50,2)),0)","v":0},{"$f":"IF(AU21<>\"\",5,0)","v":0},{"$f":"AV21+AW21","v":0},null,null,{"$f":"IF(ISNUMBER(AZ21),(VLOOKUP(AZ21,$BO$6:$BP$50,2)),0)","v":0},{"$f":"IF(AZ21<>\"\",5,0)","v":0},{"$f":"BA21+BB21","v":0},null,null,{"$f":"IF(ISNUMBER(BE21),(VLOOKUP(BE21,$BO$6:$BP$50,2)),0)","v":0},{"$f":"IF(BE21<>\"\",5,0)","v":0},{"$f":"BF21+BG21","v":0},null,null,{"$f":"IF(ISNUMBER(BJ21),(VLOOKUP(BJ21,$BO$6:$BP$50,2)),0)","v":0},{"$f":"IF(BJ21<>\"\",5,0)","v":0},{"$f":"BK21+BL21","v":0},null,16,15,0,{"$f":"IF($F19=7,1,0)","v":0},{"$f":"IF($F19=6,1,0)","v":0},{"$f":"IF($F19=5,1,0)","v":0},{"$f":"IF($F19=4,1,0)","v":0},{"$f":"IF($F19=3,1,0)","v":1},{"$f":"IF($F19=2,1,0)","v":0},{"$f":"IF($F19=1,1,0)","v":0}]
[{"$f":"IF(E22<E21,BO22,A21)","v":16},"Johnsen","Christian Hjallum","Heming",{"$f":"Q22","v":64},{"$f":"(IF(AC22=5,1,0)+IF(AH22=5,1,0)+IF(AM22=5,1,0)+IF(AR22=5,1,0)+IF(AW22=5,1,0)+IF(BA22=5,1,0)+IF(BG22=5,1,0)+IF(BL22=5,1,0))","v":3},null,{"$f":"IF(AA22=\"\",\"\",AA22)","v":"dsq"},{"$f":"IF(AF22=\"\",\"\",AF22)","v":""},{"$f":"IF(AK22=\"\",\"\",AK22)","v":13},{"$f":"IF(AP22=\"\",\"\",AP22)","v":9},{"$f":"IF(AU22=\"\",\"\",AU22)","v":""},"","","",null,{"$f":"AD22+AI22+AN22+AS22+AX22+BC22+BH22","v":64},"","","","","","","","",null,"dsq",{"$f":"IF(ISNUMBER(AA22),(VLOOKUP(AA22,$BO$6:$BP$50,2)),0)","v":0},{"$f":"IF(AA22<>\"\",5,0)","v":5},{"$f":"AB22+AC22","v":5},null,null,{"$f":"IF(ISNUMBER(AF22),(VLOOKUP(AF22,$BO$6:$BP$50,2)),0)","v":0},{"$f":"IF(AF22<>\"\",5,0)","v":0},{"$f":"AG22+AH22","v":0},null,13,{"$f":"IF(ISNUMBER(AK22),(VLOOKUP(AK22,$BO$6:$BP$50,2)),0)","v":20},{"$f":"IF(AK22<>\"\",5,0)","v":5},{"$f":"AL22+AM22","v":25},null,9,{"$f":"IF(ISNUMBER(AP22),(VLOOKUP(AP22,$BO$6:$BP$50,2)),0)","v":29},{"$f":"IF(AP22<>\"\",5,0)","v":5},{"$f":"AQ22+AR22","v":34},null,null,{"$f":"IF(ISNUMBER(AU22),(VLOOKUP(AU22,$BO$6:$BP$50,2)),0)","v":0},{"$f":"IF(AU22<>\"\",5,0)","v":0},{"$f":"AV22+AW22","v":0},null,null,{"$f":"IF(ISNUMBER(AZ22),(VLOOKUP(AZ22,$BO$6:$BP$50,2)),0)","v":0},{"$f":"IF(AZ22<>\"\",5,0)","v":0},{"$f":"BA22+BB22","v":0},null,null,{"$f":"IF(ISNUMBER(BE22),(VLOOKUP(BE22,$BO$6:$BP$50,2)),0)","v":0},{"$f":"IF(BE22<>\"\",5,0)","v":0},{"$f":"BF22+BG22","v":0},null,null,{"$f":"IF(ISNUMBER(BJ22),(VLOOKUP(BJ22,$BO$6:$BP$50,2)),0)","v":0},{"$f":"IF(BJ22<>\"\",5,0)","v":0},{"$f":"BK22+BL22","v":0},null,17,14,0,0,0,0,1,0,0,0]
[{"$f":"IF(E23<E22,BO23,A22)","v":18},"Kildal","Peder Risøe","Heming",{"$f":"Q23","v":62},{"$f":"(IF(AC23=5,1,0)+IF(AH23=5,1,0)+IF(AM23=5,1,0)+IF(AR23=5,1,0)+IF(AW23=5,1,0)+IF(BA23=5,1,0)+IF(BG23=5,1,0)+IF(BL23=5,1,0))","v":2},null,{"$f":"IF(AA23=\"\",\"\",AA23)","v":""},{"$f":"IF(AF23=\"\",\"\",AF23)","v":""},{"$f":"IF(AK23=\"\",\"\",AK23)","v":10},{"$f":"IF(AP23=\"\",\"\",AP23)","v":10},{"$f":"IF(AU23=\"\",\"\",AU23)","v":""},"","","",null,{"$f":"AD23+AI23+AN23+AS23+AX23+BC23+BH23","v":62},"","","","","","","","",null,null,{"$f":"IF(ISNUMBER(AA23),(VLOOKUP(AA23,$BO$6:$BP$50,2)),0)","v":0},{"$f":"IF(AA23<>\"\",5,0)","v":0},{"$f":"AB23+AC23","v":0},null,null,{"$f":"IF(ISNUMBER(AF23),(VLOOKUP(AF23,$BO$6:$BP$50,2)),0)","v":0},{"$f":"IF(AF23<>\"\",5,0)","v":0},{"$f":"AG23+AH23","v":0},null,10,{"$f":"IF(ISNUMBER(AK23),(VLOOKUP(AK23,$BO$6:$BP$50,2)),0)","v":26},{"$f":"IF(AK23<>\"\",5,0)","v":5},{"$f":"AL23+AM23","v":31},null,10,{"$f":"IF(ISNUMBER(AP23),(VLOOKUP(AP23,$BO$6:$BP$50,2)),0)","v":26},{"$f":"IF(AP23<>\"\",5,0)","v":5},{"$f":"AQ23+AR23","v":31},null,null,{"$f":"IF(ISNUMBER(AU23),(VLOOKUP(AU23,$BO$6:$BP$50,2)),0)","v":0},{"$f":"IF(AU23<>\"\",5,0)","v":0},{"$f":"AV23+AW23","v":0},null,null,{"$f":"IF(ISNUMBER(AZ23),(VLOOKUP(AZ23,$BO$6:$BP$50,2)),0)","v":0},{"$f":"IF(AZ23<>\"\",5,0)","v":0},{"$f":"BA23+BB23","v":0},null,null,{"$f":"IF(ISNUMBER(BE23),(VLOOKUP(BE23,$BO$6:$BP$50,2)),0)","v":0},{"$f":"IF(BE23<>\"\",5,0)","v":0},{"$f":"BF23+BG23","v":0},null,null,{"$f":"IF(ISNUMBER(BJ23),(VLOOKUP(BJ23,$BO$6:$BP$50,2)),0)","v":0},{"$f":"IF(BJ23<>\"\",5,0)","v":0},{"$f":"BK23+BL23","v":0},null,18,13,0,0,0,0,0,0,1,0]
[{"$f":"IF(E24<E23,BO24,A23)","v":19},"Bagstevold","Sindre","Heming",{"$f":"Q24","v":50},{"$f":"(IF(AC24=5,1,0)+IF(AH24=5,1,0)+IF(AM24=5,1,0)+IF(AR24=5,1,0)+IF(AW24=5,1,0)+IF(BA24=5,1,0)+IF(BG24=5,1,0)+IF(BL24=5,1,0))","v":1},null,{"$f":"IF(AA24=\"\",\"\",AA24)","v":""},{"$f":"IF(AF24=\"\",\"\",AF24)","v":""},{"$f":"IF(AK24=\"\",\"\",AK24)","v":5},{"$f":"IF(AP24=\"\",\"\",AP24)","v":""},{"$f":"IF(AU24=\"\",\"\",AU24)","v":""},"","","",null,{"$f":"AD24+AI24+AN24+AS24+AX24+BC24+BH24","v":50},"","","","","","","","",null,null,{"$f":"IF(ISNUMBER(AA24),(VLOOKUP(AA24,$BO$6:$BP$50,2)),0)","v":0},{"$f":"IF(AA24<>\"\",5,0)","v":0},{"$f":"AB24+AC24","v":0},null,null,{"$f":"IF(ISNUMBER(AF24),(VLOOKUP(AF24,$BO$6:$BP$50,2)),0)","v":0},{"$f":"IF(AF24<>\"\",5,0)","v":0},{"$f":"AG24+AH24","v":0},null,5,{"$f":"IF(ISNUMBER(AK24),(VLOOKUP(AK24,$BO$6:$BP$50,2)),0)","v":45},{"$f":"IF(AK24<>\"\",5,0)","v":5},{"$f":"AL24+AM24","v":50},null,null,{"$f":"IF(ISNUMBER(AP24),(VLOOKUP(AP24,$BO$6:$BP$50,2)),0)","v":0},{"$f":"IF(AP24<>\"\",5,0)","v":0},{"$f":"AQ24+AR24","v":0},null,null,{"$f":"IF(ISNUMBER(AU24),(VLOOKUP(AU24,$BO$6:$BP$50,2)),0)","v":0},{"$f":"IF(AU24<>\"\",5,0)","v":0},{"$f":"AV24+AW24","v":0},null,null,{"$f":"IF(ISNUMBER(AZ24),(VLOOKUP(AZ24,$BO$6:$BP$50,2)),0)","v":0},{"$f":"IF(AZ24<>\"\",5,0)","v":0},{"$f":"BA24+BB24","v":0},null,null,{"$f":"IF(ISNUMBER(BE24),(VLOOKUP(BE24,$BO$6:$BP$50,2)),0)","v":0},{"$f":"IF(BE24<>\"\",5,0)","v":0},{"$f":"BF24+BG24","v":0},null,null,{"$f":"IF(ISNUMBER(BJ24),(VLOOKUP(BJ24,$BO$6:$BP$50,2)),0)","v":0},{"$f":"IF(BJ24<>\"\",5,0)","v":0},{"$f":"BK24+BL24","v":0},null,19,12,0,0,0,0,0,1,0,0]
[{"$f":"IF(E25<E24,BO25,A24)","v":20},"Gudem","Matheo","IRS",{"$f":"Q25","v":45},{"$f":"(IF(AC25=5,1,0)+IF(AH25=5,1,0)+IF(AM25=5,1,0)+IF(AR25=5,1,0)+IF(AW25=5,1,0)+IF(BA25=5,1,0)+IF(BG25=5,1,0)+IF(BL25=5,1,0))","v":1},null,{"$f":"IF(AA25=\"\",\"\",AA25)","v":6},{"$f":"IF(AF25=\"\",\"\",AF25)","v":""},{"$f":"IF(AK25=\"\",\"\",AK25)","v":""},{"$f":"IF(AP25=\"\",\"\",AP25)","v":""},{"$f":"IF(AU25=\"\",\"\",AU25)","v":""},"","","",null,{"$f":"AD25+AI25+AN25+AS25+AX25+BC25+BH25","v":45},"","","","","","","","",null,6,{"$f":"IF(ISNUMBER(AA25),(VLOOKUP(AA25,$BO$6:$BP$50,2)),0)","v":40},{"$f":"IF(AA25<>\"\",5,0)","v":5},{"$f":"AB25+AC25","v":45},null,null,{"$f":"IF(ISNUMBER(AF25),(VLOOKUP(AF25,$BO$6:$BP$50,2)),0)","v":0},{"$f":"IF(AF25<>\"\",5,0)","v":0},{"$f":"AG25+AH25","v":0},null,null,{"$f":"IF(ISNUMBER(AK25),(VLOOKUP(AK25,$BO$6:$BP$50,2)),0)","v":0},{"$f":"IF(AK25<>\"\",5,0)","v":0},{"$f":"AL25+AM25","v":0},null,null,{"$f":"IF(ISNUMBER(AP25),(VLOOKUP(AP25,$BO$6:$BP$50,2)),0)","v":0},{"$f":"IF(AP25<>\"\",5,0)","v":0},{"$f":"AQ25+AR25","v":0},null,null,{"$f":"IF(ISNUMBER(AU25),(VLOOKUP(AU25,$BO$6:$BP$50,2)),0)","v":0},{"$f":"IF(AU25<>\"\",5,0)","v":0},{"$f":"AV25+AW25","v":0},null,null,{"$f":"IF(ISNUMBER(AZ25),(VLOOKUP(AZ25,$BO$6:$BP$50,2)),0)","v":0},{"$f":"IF(AZ25<>\"\",5,0)","v":0},{"$f":"BA25+BB25","v":0},null,null,{"$f":"IF(ISNUMBER(BE25),(VLOOKUP(BE25,$BO$6:$BP$50,2)),0)","v":0},{"$f":"IF(BE25<>\"\",5,0)","v":0},{"$f":"BF25+BG25","v":0},null,null,{"$f":"IF(ISNUMBER(BJ25),(VLOOKUP(BJ25,$BO$6:$BP$50,2)),0)","v":0},{"$f":"IF(BJ25<>\"\",5,0)","v":0},{"$f":"BK25+BL25","v":0},null,20,11,0,0,0,0,0,0,1,0]
[{"$f":"IF(E26<E25,BO26,A25)","v":21},"Helgerud","Christoffer Teistum","Ljan",{"$f":"Q26","v":38},{"$f":"(IF(AC26=5,1,0)+IF(AH26=5,1,0)+IF(AM26=5,1,0)+IF(AR26=5,1,0)+IF(AW26=5,1,0)+IF(BA26=5,1,0)+IF(BG26=5,1,0)+IF(BL26=5,1,0))","v":2},null,{"$f":"IF(AA26=\"\",\"\",AA26)","v":""},{"$f":"IF(AF26=\"\",\"\",AF26)","v":""},{"$f":"IF(AK26=\"\",\"\",AK26)","v":16},{"$f":"IF(AP26=\"\",\"\",AP26)","v":18},{"$f":"IF(AU26=\"\",\"\",AU26)","v":""},"","","",null,{"$f":"AD26+AI26+AN26+AS26+AX26+BC26+BH26","v":38},"","","","","","","","",null,null,{"$f":"IF(ISNUMBER(AA26),(VLOOKUP(AA26,$BO$6:$BP$50,2)),0)","v":0},{"$f":"IF(AA26<>\"\",5,0)","v":0},{"$f":"AB26+AC26","v":0},null,null,{"$f":"IF(ISNUMBER(AF26),(VLOOKUP(AF26,$BO$6:$BP$50,2)),0)","v":0},{"$f":"IF(AF26<>\"\",5,0)","v":0},{"$f":"AG26+AH26","v":0},null,16,{"$f":"IF(ISNUMBER(AK26),(VLOOKUP(AK26,$BO$6:$BP$50,2)),0)","v":15},{"$f":"IF(AK26<>\"\",5,0)","v":5},{"$f":"AL26+AM26","v":20},null,18,{"$f":"IF(ISNUMBER(AP26),(VLOOKUP(AP26,$BO$6:$BP$50,2)),0)","v":13},{"$f":"IF(AP26<>\"\",5,0)","v":5},{"$f":"AQ26+AR26","v":18},null,null,{"$f":"IF(ISNUMBER(AU26),(VLOOKUP(AU26,$BO$6:$BP$50,2)),0)","v":0},{"$f":"IF(AU26<>\"\",5,0)","v":0},{"$f":"AV26+AW26","v":0},null,null,{"$f":"IF(ISNUMBER(AZ26),(VLOOKUP(AZ26,$BO$6:$BP$50,2)),0)","v":0},{"$f":"IF(AZ26<>\"\",5,0)","v":0},{"$f":"BA26+BB26","v":0},null,null,{"$f":"IF(ISNUMBER(BE26),(VLOOKUP(BE26,$BO$6:$BP$50,2)),0)","v":0},{"$f":"IF(BE26<>\"\",5,0)","v":0},{"$f":"BF26+BG26","v":0},null,null,{"$f":"IF(ISNUMBER(BJ26),(VLOOKUP(BJ26,$BO$6:$BP$50,2)),0)","v":0},{"$f":"IF(BJ26<>\"\",5,0)","v":0},{"$f":"BK26+BL26","v":0},null,21,10,0,0,0,0,0,0,0,1]
[{"$f":"IF(E27<E26,BO27,A26)","v":22},"Christiansen","Victor","IRS",{"$f":"Q27","v":29},{"$f":"(IF(AC27=5,1,0)+IF(AH27=5,1,0)+IF(AM27=5,1,0)+IF(AR27=5,1,0)+IF(AW27=5,1,0)+IF(BA27=5,1,0)+IF(BG27=5,1,0)+IF(BL27=5,1,0))","v":1},null,{"$f":"IF(AA27=\"\",\"\",AA27)","v":11},{"$f":"IF(AF27=\"\",\"\",AF27)","v":""},{"$f":"IF(AK27=\"\",\"\",AK27)","v":""},{"$f":"IF(AP27=\"\",\"\",AP27)","v":""},{"$f":"IF(AU27=\"\",\"\",AU27)","v":""},"","","",null,{"$f":"AD27+AI27+AN27+AS27+AX27+BC27+BH27","v":29},"","","","","","","","",null,11,{"$f":"IF(ISNUMBER(AA27),(VLOOKUP(AA27,$BO$6:$BP$50,2)),0)","v":24},{"$f":"IF(AA27<>\"\",5,0)","v":5},{"$f":"AB27+AC27","v":29},null,null,{"$f":"IF(ISNUMBER(AF27),(VLOOKUP(AF27,$BO$6:$BP$50,2)),0)","v":0},{"$f":"IF(AF27<>\"\",5,0)","v":0},{"$f":"AG27+AH27","v":0},null,null,{"$f":"IF(ISNUMBER(AK27),(VLOOKUP(AK27,$BO$6:$BP$50,2)),0)","v":0},{"$f":"IF(AK27<>\"\",5,0)","v":0},{"$f":"AL27+AM27","v":0},null,null,{"$f":"IF(ISNUMBER(AP27),(VLOOKUP(AP27,$BO$6:$BP$50,2)),0)","v":0},{"$f":"IF(AP27<>\"\",5,0)","v":0},{"$f":"AQ27+AR27","v":0},null,null,{"$f":"IF(ISNUMBER(AU27),(VLOOKUP(AU27,$BO$6:$BP$50,2)),0)","v":0},{"$f":"IF(AU27<>\"\",5,0)","v":0},{"$f":"AV27+AW27","v":0},null,null,{"$f":"IF(ISNUMBER(AZ27),(VLOOKUP(AZ27,$BO$6:$BP$50,2)),0)","v":0},{"$f":"IF(AZ27<>\"\",5,0)","v":0},{"$f":"BA27+BB27","v":0},null,null,{"$f":"IF(ISNUMBER(BE27),(VLOOKUP(BE27,$BO$6:$BP$50,2)),0)","v":0},{"$f":"IF(BE27<>\"\",5,0)","v":0},{"$f":"BF27+BG27","v":0},null,null,{"$f":"IF(ISNUMBER(BJ27),(VLOOKUP(BJ27,$BO$6:$BP$50,2)),0)","v":0},{"$f":"IF(BJ27<>\"\",5,0)","v":0},{"$f":"BK27+BL27","v":0},null,22,9,0,0,0,0,0,0,0,1]
[{"$f":"IF(E28<E27,BO28,A27)","v":22},"Malling","Michael de Vibe","Heming",{"$f":"Q28","v":29},{"$f":"(IF(AC28=5,1,0)+IF(AH28=5,1,0)+IF(AM28=5,1,0)+IF(AR28=5,1,0)+IF(AW28=5,1,0)+IF(BA28=5,1,0)+IF(BG28=5,1,0)+IF(BL28=5,1,0))","v":1},null,{"$f":"IF(AA28=\"\",\"\",AA28)","v":""},{"$f":"IF(AF28=\"\",\"\",AF28)","v":""},{"$f":"IF(AK28=\"\",\"\",AK28)","v":11},{"$f":"IF(AP28=\"\",\"\",AP28)","v":""},{"$f":"IF(AU28=\"\",\"\",AU28)","v":""},"","","",null,{"$f":"AD28+AI28+AN28+AS28+AX28+BC28+BH28","v":29},"","","","","","","","",null,null,{"$f":"IF(ISNUMBER(AA28),(VLOOKUP(AA28,$BO$6:$BP$50,2)),0)","v":0},{"$f":"IF(AA28<>\"\",5,0)","v":0},{"$f":"AB28+AC28","v":0},null,null,{"$f":"IF(ISNUMBER(AF28),(VLOOKUP(AF28,$BO$6:$BP$50,2)),0)","v":0},{"$f":"IF(AF28<>\"\",5,0)","v":0},{"$f":"AG28+AH28","v":0},null,11,{"$f":"IF(ISNUMBER(AK28),(VLOOKUP(AK28,$BO$6:$BP$50,2)),0)","v":24},{"$f":"IF(AK28<>\"\",5,0)","v":5},{"$f":"AL28+AM28","v":29},null,null,{"$f":"IF(ISNUMBER(AP28),(VLOOKUP(AP28,$BO$6:$BP$50,2)),0)","v":0},{"$f":"IF(AP28<>\"\",5,0)","v":0},{"$f":"AQ28+AR28","v":0},null,null,{"$f":"IF(ISNUMBER(AU28),(VLOOKUP(AU28,$BO$6:$BP$50,2)),0)","v":0},{"$f":"IF(AU28<>\"\",5,0)","v":0},{"$f":"AV28+AW28","v":0},null,null,{"$f":"IF(ISNUMBER(AZ28),(VLOOKUP(AZ28,$BO$6:$BP$50,2)),0)","v":0},{"$f":"IF(AZ28<>\"\",5,0)","v":0},{"$f":"BA28+BB28","v":0},null,null,{"$f":"IF(ISNUMBER(BE28),(VLOOKUP(BE28,$BO$6:$BP$50,2)),0)","v":0},{"$f":"IF(BE28<>\"\",5,0)","v":0},{"$f":"BF28+BG28","v":0},null,null,{"$f":"IF(ISNUMBER(BJ28),(VLOOKUP(BJ28,$BO$6:$BP$50,2)),0)","v":0},{"$f":"IF(BJ28<>\"\",5,0)","v":0},{"$f":"BK28+BL28","v":0},null,23,8,0,{"$f":"IF($F23=7,1,0)","v":0},{"$f":"IF($F23=6,1,0)","v":0},{"$f":"IF($F23=5,1,0)","v":0},{"$f":"IF($F23=4,1,0)","v":0},{"$f":"IF($F23=3,1,0)","v":0},{"$f":"IF($F23=2,1,0)","v":1},{"$f":"IF($F23=1,1,0)","v":0}]
[{"$f":"IF(E29<E28,BO29,A28)","v":24},"Øksnes","Håkon Eiksund","Kjelsås",{"$f":"Q29","v":25},{"$f":"(IF(AC29=5,1,0)+IF(AH29=5,1,0)+IF(AM29=5,1,0)+IF(AR29=5,1,0)+IF(AW29=5,1,0)+IF(BA29=5,1,0)+IF(BG29=5,1,0)+IF(BL29=5,1,0))","v":1},null,{"$f":"IF(AA29=\"\",\"\",AA29)","v":13},{"$f":"IF(AF29=\"\",\"\",AF29)","v":""},{"$f":"IF(AK29=\"\",\"\",AK29)","v":""},{"$f":"IF(AP29=\"\",\"\",AP29)","v":""},{"$f":"IF(AU29=\"\",\"\",AU29)","v":""},"","","",null,{"$f":"AD29+AI29+AN29+AS29+AX29+BC29+BH29","v":25},"","","","","","","","",null,13,{"$f":"IF(ISNUMBER(AA29),(VLOOKUP(AA29,$BO$6:$BP$50,2)),0)","v":20},{"$f":"IF(AA29<>\"\",5,0)","v":5},{"$f":"AB29+AC29","v":25},null,null,{"$f":"IF(ISNUMBER(AF29),(VLOOKUP(AF29,$BO$6:$BP$50,2)),0)","v":0},{"$f":"IF(AF29<>\"\",5,0)","v":0},{"$f":"AG29+AH29","v":0},null,null,{"$f":"IF(ISNUMBER(AK29),(VLOOKUP(AK29,$BO$6:$BP$50,2)),0)","v":0},{"$f":"IF(AK29<>\"\",5,0)","v":0},{"$f":"AL29+AM29","v":0},null,null,{"$f":"IF(ISNUMBER(AP29),(VLOOKUP(AP29,$BO$6:$BP$50,2)),0)","v":0},{"$f":"IF(AP29<>\"\",5,0)","v":0},{"$f":"AQ29+AR29","v":0},null,null,{"$f":"IF(ISNUMBER(AU29),(VLOOKUP(AU29,$BO$6:$BP$50,2)),0)","v":0},{"$f":"IF(AU29<>\"\",5,0)","v":0},{"$f":"AV29+AW29","v":0},null,null,{"$f":"IF(ISNUMBER(AZ29),(VLOOKUP(AZ29,$BO$6:$BP$50,2)),0)","v":0},{"$f":"IF(AZ29<>\"\",5,0)","v":0},{"$f":"BA29+BB29","v":0},null,null,{"$f":"IF(ISNUMBER(BE29),(VLOOKUP(BE29,$BO$6:$BP$50,2)),0)","v":0},{"$f":"IF(BE29<>\"\",5,0)","v":0},{"$f":"BF29+BG29","v":0},null,null,{"$f":"IF(ISNUMBER(BJ29),(VLOOKUP(BJ29,$BO$6:$BP$50,2)),0)","v":0},{"$f":"IF(BJ29<>\"\",5,0)","v":0},{"$f":"BK29+BL29","v":0},null,24,7,0,{"$f":"IF($F24=7,1,0)","v":0},{"$f":"IF($F24=6,1,0)","v":0},{"$f":"IF($F24=5,1,0)","v":0},{"$f":"IF($F24=4,1,0)","v":0},{"$f":"IF($F24=3,1,0)","v":0},{"$f":"IF($F24=2,1,0)","v":0},{"$f":"IF($F24=1,1,0)","v":1}]
[{"$f":"IF(E30<E29,BO30,A29)","v":25},"Hunstad","Nicolai Christian","Heming",{"$f":"Q30","v":21},{"$f":"(IF(AC30=5,1,0)+IF(AH30=5,1,0)+IF(AM30=5,1,0)+IF(AR30=5,1,0)+IF(AW30=5,1,0)+IF(BA30=5,1,0)+IF(BG30=5,1,0)+IF(BL30=5,1,0))","v":1},null,{"$f":"IF(AA30=\"\",\"\",AA30)","v":""},{"$f":"IF(AF30=\"\",\"\",AF30)","v":""},{"$f":"IF(AK30=\"\",\"\",AK30)","v":15},{"$f":"IF(AP30=\"\",\"\",AP30)","v":""},{"$f":"IF(AU30=\"\",\"\",AU30)","v":""},"","","",null,{"$f":"AD30+AI30+AN30+AS30+AX30+BC30+BH30","v":21},"","","","","","","","",null,null,{"$f":"IF(ISNUMBER(AA30),(VLOOKUP(AA30,$BO$6:$BP$50,2)),0)","v":0},{"$f":"IF(AA30<>\"\",5,0)","v":0},{"$f":"AB30+AC30","v":0},null,null,{"$f":"IF(ISNUMBER(AF30),(VLOOKUP(AF30,$BO$6:$BP$50,2)),0)","v":0},{"$f":"IF(AF30<>\"\",5,0)","v":0},{"$f":"AG30+AH30","v":0},null,15,{"$f":"IF(ISNUMBER(AK30),(VLOOKUP(AK30,$BO$6:$BP$50,2)),0)","v":16},{"$f":"IF(AK30<>\"\",5,0)","v":5},{"$f":"AL30+AM30","v":21},null,null,{"$f":"IF(ISNUMBER(AP30),(VLOOKUP(AP30,$BO$6:$BP$50,2)),0)","v":0},{"$f":"IF(AP30<>\"\",5,0)","v":0},{"$f":"AQ30+AR30","v":0},null,null,{"$f":"IF(ISNUMBER(AU30),(VLOOKUP(AU30,$BO$6:$BP$50,2)),0)","v":0},{"$f":"IF(AU30<>\"\",5,0)","v":0},{"$f":"AV30+AW30","v":0},null,null,{"$f":"IF(ISNUMBER(AZ30),(VLOOKUP(AZ30,$BO$6:$BP$50,2)),0)","v":0},{"$f":"IF(AZ30<>\"\",5,0)","v":0},{"$f":"BA30+BB30","v":0},null,null,{"$f":"IF(ISNUMBER(BE30),(VLOOKUP(BE30,$BO$6:$BP$50,2)),0)","v":0},{"$f":"IF(BE30<>\"\",5,0)","v":0},{"$f":"BF30+BG30","v":0},null,null,{"$f":"IF(ISNUMBER(BJ30),(VLOOKUP(BJ30,$BO$6:$BP$50,2)),0)","v":0},{"$f":"IF(BJ30<>\"\",5,0)","v":0},{"$f":"BK30+BL30","v":0},null,25,6,0,{"$f":"IF($F25=7,1,0)","v":0},{"$f":"IF($F25=6,1,0)","v":0},{"$f":"IF($F25=5,1,0)","v":0},{"$f":"IF($F25=4,1,0)","v":0},{"$f":"IF($F25=3,1,0)","v":0},{"$f":"IF($F25=2,1,0)","v":0},{"$f":"IF($F25=1,1,0)","v":1}]
[{"$f":"IF(E31<E30,BO31,A30)","v":26},"Krohn-Oppi","Kristian","Kjelsås",{"$f":"Q31","v":20},{"$f":"(IF(AC31=5,1,0)+IF(AH31=5,1,0)+IF(AM31=5,1,0)+IF(AR31=5,1,0)+IF(AW31=5,1,0)+IF(BA31=5,1,0)+IF(BG31=5,1,0)+IF(BL31=5,1,0))","v":1},null,{"$f":"IF(AA31=\"\",\"\",AA31)","v":""},{"$f":"IF(AF31=\"\",\"\",AF31)","v":""},{"$f":"IF(AK31=\"\",\"\",AK31)","v":""},{"$f":"IF(AP31=\"\",\"\",AP31)","v":16},{"$f":"IF(AU31=\"\",\"\",AU31)","v":""},"","","",null,{"$f":"AD31+AI31+AN31+AS31+AX31+BC31+BH31","v":20},"","","","","","","","",null,null,{"$f":"IF(ISNUMBER(AA31),(VLOOKUP(AA31,$BO$6:$BP$50,2)),0)","v":0},{"$f":"IF(AA31<>\"\",5,0)","v":0},{"$f":"AB31+AC31","v":0},null,null,{"$f":"IF(ISNUMBER(AF31),(VLOOKUP(AF31,$BO$6:$BP$50,2)),0)","v":0},{"$f":"IF(AF31<>\"\",5,0)","v":0},{"$f":"AG31+AH31","v":0},null,null,{"$f":"IF(ISNUMBER(AK31),(VLOOKUP(AK31,$BO$6:$BP$50,2)),0)","v":0},{"$f":"IF(AK31<>\"\",5,0)","v":0},{"$f":"AL31+AM31","v":0},null,16,{"$f":"IF(ISNUMBER(AP31),(VLOOKUP(AP31,$BO$6:$BP$50,2)),0)","v":15},{"$f":"IF(AP31<>\"\",5,0)","v":5},{"$f":"AQ31+AR31","v":20},null,null,{"$f":"IF(ISNUMBER(AU31),(VLOOKUP(AU31,$BO$6:$BP$50,2)),0)","v":0},{"$f":"IF(AU31<>\"\",5,0)","v":0},{"$f":"AV31+AW31","v":0},null,null,{"$f":"IF(ISNUMBER(AZ31),(VLOOKUP(AZ31,$BO$6:$BP$50,2)),0)","v":0},{"$f":"IF(AZ31<>\"\",5,0)","v":0},{"$f":"BA31+BB31","v":0},null,null,{"$f":"IF(ISNUMBER(BE31),(VLOOKUP(BE31,$BO$6:$BP$50,2)),0)","v":0},{"$f":"IF(BE31<>\"\",5,0)","v":0},{"$f":"BF31+BG31","v":0},null,null,{"$f":"IF(ISNUMBER(BJ31),(VLOOKUP(BJ31,$BO$6:$BP$50,2)),0)","v":0},{"$f":"IF(BJ31<>\"\",5,0)","v":0},{"$f":"BK31+BL31","v":0},null,26,5,0,{"$f":"IF($F25=7,1,0)","v":0},{"$f":"IF($F25=6,1,0)","v":0},{"$f":"IF($F25=5,1,0)","v":0},{"$f":"IF($F25=4,1,0)","v":0},{"$f":"IF($F25=3,1,0)","v":0},{"$f":"IF($F25=2,1,0)","v":0},{"$f":"IF($F25=1,1,0)","v":1}]
[{"$f":"IF(E32<E31,BO32,A31)","v":27},"Furuholmen","Henrik Sæthre","Heming",{"$f":"Q32","v":19},{"$f":"(IF(AC32=5,1,0)+IF(AH32=5,1,0)+IF(AM32=5,1,0)+IF(AR32=5,1,0)+IF(AW32=5,1,0)+IF(BA32=5,1,0)+IF(BG32=5,1,0)+IF(BL32=5,1,0))","v":1},null,{"$f":"IF(AA32=\"\",\"\",AA32)","v":""},{"$f":"IF(AF32=\"\",\"\",AF32)","v":""},{"$f":"IF(AK32=\"\",\"\",AK32)","v":""},{"$f":"IF(AP32=\"\",\"\",AP32)","v":17},{"$f":"IF(AU32=\"\",\"\",AU32)","v":""},"","","",null,{"$f":"AD32+AI32+AN32+AS32+AX32+BC32+BH32","v":19},"","","","","","","","",null,null,{"$f":"IF(ISNUMBER(AA32),(VLOOKUP(AA32,$BO$6:$BP$50,2)),0)","v":0},{"$f":"IF(AA32<>\"\",5,0)","v":0},{"$f":"AB32+AC32","v":0},null,null,{"$f":"IF(ISNUMBER(AF32),(VLOOKUP(AF32,$BO$6:$BP$50,2)),0)","v":0},{"$f":"IF(AF32<>\"\",5,0)","v":0},{"$f":"AG32+AH32","v":0},null,null,{"$f":"IF(ISNUMBER(AK32),(VLOOKUP(AK32,$BO$6:$BP$50,2)),0)","v":0},{"$f":"IF(AK32<>\"\",5,0)","v":0},{"$f":"AL32+AM32","v":0},null,17,{"$f":"IF(ISNUMBER(AP32),(VLOOKUP(AP32,$BO$6:$BP$50,2)),0)","v":14},{"$f":"IF(AP32<>\"\",5,0)","v":5},{"$f":"AQ32+AR32","v":19},null,null,{"$f":"IF(ISNUMBER(AU32),(VLOOKUP(AU32,$BO$6:$BP$50,2)),0)","v":0},{"$f":"IF(AU32<>\"\",5,0)","v":0},{"$f":"AV32+AW32","v":0},null,null,{"$f":"IF(ISNUMBER(AZ32),(VLOOKUP(AZ32,$BO$6:$BP$50,2)),0)","v":0},{"$f":"IF(AZ32<>\"\",5,0)","v":0},{"$f":"BA32+BB32","v":0},null,null,{"$f":"IF(ISNUMBER(BE32),(VLOOKUP(BE32,$BO$6:$BP$50,2)),0)","v":0},{"$f":"IF(BE32<>\"\",5,0)","v":0},{"$f":"BF32+BG32","v":0},null,null,{"$f":"IF(ISNUMBER(BJ32),(VLOOKUP(BJ32,$BO$6:$BP$50,2)),0)","v":0},{"$f":"IF(BJ32<>\"\",5,0)","v":0},{"$f":"BK32+BL32","v":0},null,27,4,0,{"$f":"IF($F26=7,1,0)","v":0},{"$f":"IF($F26=6,1,0)","v":0},{"$f":"IF($F26=5,1,0)","v":0},{"$f":"IF($F26=4,1,0)","v":0},{"$f":"IF($F26=3,1,0)","v":0},{"$f":"IF($F26=2,1,0)","v":1},{"$f":"IF($F26=1,1,0)","v":0}]
[{"$f":"IF(E33<E32,BO33,A32)","v":28},"Daniels","Alfred Axelsen","Kjelsås",{"$f":"Q33","v":15},{"$f":"(IF(AC33=5,1,0)+IF(AH33=5,1,0)+IF(AM33=5,1,0)+IF(AR33=5,1,0)+IF(AW33=5,1,0)+IF(BA33=5,1,0)+IF(BG33=5,1,0)+IF(BL33=5,1,0))","v":1},null,{"$f":"IF(AA33=\"\",\"\",AA33)","v":""},{"$f":"IF(AF33=\"\",\"\",AF33)","v":""},{"$f":"IF(AK33=\"\",\"\",AK33)","v":21},{"$f":"IF(AP33=\"\",\"\",AP33)","v":""},{"$f":"IF(AU33=\"\",\"\",AU33)","v":""},"","","",null,{"$f":"AD33+AI33+AN33+AS33+AX33+BC33+BH33","v":15},"","","","","","","","",null,null,{"$f":"IF(ISNUMBER(AA33),(VLOOKUP(AA33,$BO$6:$BP$50,2)),0)","v":0},{"$f":"IF(AA33<>\"\",5,0)","v":0},{"$f":"AB33+AC33","v":0},null,null,{"$f":"IF(ISNUMBER(AF33),(VLOOKUP(AF33,$BO$6:$BP$50,2)),0)","v":0},{"$f":"IF(AF33<>\"\",5,0)","v":0},{"$f":"AG33+AH33","v":0},null,21,{"$f":"IF(ISNUMBER(AK33),(VLOOKUP(AK33,$BO$6:$BP$50,2)),0)","v":10},{"$f":"IF(AK33<>\"\",5,0)","v":5},{"$f":"AL33+AM33","v":15},null,null,{"$f":"IF(ISNUMBER(AP33),(VLOOKUP(AP33,$BO$6:$BP$50,2)),0)","v":0},{"$f":"IF(AP33<>\"\",5,0)","v":0},{"$f":"AQ33+AR33","v":0},null,null,{"$f":"IF(ISNUMBER(AU33),(VLOOKUP(AU33,$BO$6:$BP$50,2)),0)","v":0},{"$f":"IF(AU33<>\"\",5,0)","v":0},{"$f":"AV33+AW33","v":0},null,null,{"$f":"IF(ISNUMBER(AZ33),(VLOOKUP(AZ33,$BO$6:$BP$50,2)),0)","v":0},{"$f":"IF(AZ33<>\"\",5,0)","v":0},{"$f":"BA33+BB33","v":0},null,null,{"$f":"IF(ISNUMBER(BE33),(VLOOKUP(BE33,$BO$6:$BP$50,2)),0)","v":0},{"$f":"IF(BE33<>\"\",5,0)","v":0},{"$f":"BF33+BG33","v":0},null,null,{"$f":"IF(ISNUMBER(BJ33),(VLOOKUP(BJ33,$BO$6:$BP$50,2)),0)","v":0},{"$f":"IF(BJ33<>\"\",5,0)","v":0},{"$f":"BK33+BL33","v":0},null,28,3,0,0,0,0,0,0,0,1]
[{"$f":"IF(E34<E33,BO34,A33)","v":29},"Axelsen","Alfred","Kjelsås",{"$f":"Q34","v":5},{"$f":"(IF(AC34=5,1,0)+IF(AH34=5,1,0)+IF(AM34=5,1,0)+IF(AR34=5,1,0)+IF(AW34=5,1,0)+IF(BA34=5,1,0)+IF(BG34=5,1,0)+IF(BL34=5,1,0))","v":1},null,{"$f":"IF(AA34=\"\",\"\",AA34)","v":""},{"$f":"IF(AF34=\"\",\"\",AF34)","v":"dsq"},{"$f":"IF(AK34=\"\",\"\",AK34)","v":""},{"$f":"IF(AP34=\"\",\"\",AP34)","v":""},{"$f":"IF(AU34=\"\",\"\",AU34)","v":""},"","","",null,{"$f":"AD34+AI34+AN34+AS34+AX34+BC34+BH34","v":5},"","","","","","","","",null,null,{"$f":"IF(ISNUMBER(AA34),(VLOOKUP(AA34,$BO$6:$BP$50,2)),0)","v":0},{"$f":"IF(AA34<>\"\",5,0)","v":0},{"$f":"AB34+AC34","v":0},null,"dsq",{"$f":"IF(ISNUMBER(AF34),(VLOOKUP(AF34,$BO$6:$BP$50,2)),0)","v":0},{"$f":"IF(AF34<>\"\",5,0)","v":5},{"$f":"AG34+AH34","v":5},null,null,{"$f":"IF(ISNUMBER(AK34),(VLOOKUP(AK34,$BO$6:$BP$50,2)),0)","v":0},{"$f":"IF(AK34<>\"\",5,0)","v":0},{"$f":"AL34+AM34","v":0},null,null,{"$f":"IF(ISNUMBER(AP34),(VLOOKUP(AP34,$BO$6:$BP$50,2)),0)","v":0},{"$f":"IF(AP34<>\"\",5,0)","v":0},{"$f":"AQ34+AR34","v":0},null,null,{"$f":"IF(ISNUMBER(AU34),(VLOOKUP(AU34,$BO$6:$BP$50,2)),0)","v":0},{"$f":"IF(AU34<>\"\",5,0)","v":0},{"$f":"AV34+AW34","v":0},null,null,{"$f":"IF(ISNUMBER(AZ34),(VLOOKUP(AZ34,$BO$6:$BP$50,2)),0)","v":0},{"$f":"IF(AZ34<>\"\",5,0)","v":0},{"$f":"BA34+BB34","v":0},null,null,{"$f":"IF(ISNUMBER(BE34),(VLOOKUP(BE34,$BO$6:$BP$50,2)),0)","v":0},{"$f":"IF(BE34<>\"\",5,0)","v":0},{"$f":"BF34+BG34","v":0},null,null,{"$f":"IF(ISNUMBER(BJ34),(VLOOKUP(BJ34,$BO$6:$BP$50,2)),0)","v":0},{"$f":"IF(BJ34<>\"\",5,0)","v":0},{"$f":"BK34+BL34","v":0},null,29,2,0,0,0,0,0,0,0,1]
[{"$f":"IF(E35<E34,BO35,A34)","v":29},"Bøhmer","Knut Fredrik","Heming",{"$f":"Q35","v":5},{"$f":"(IF(AC35=5,1,0)+IF(AH35=5,1,0)+IF(AM35=5,1,0)+IF(AR35=5,1,0)+IF(AW35=5,1,0)+IF(BA35=5,1,0)+IF(BG35=5,1,0)+IF(BL35=5,1,0))","v":1},null,{"$f":"IF(AA35=\"\",\"\",AA35)","v":""},{"$f":"IF(AF35=\"\",\"\",AF35)","v":""},{"$f":"IF(AK35=\"\",\"\",AK35)","v":""},{"$f":"IF(AP35=\"\",\"\",AP35)","v":"dnf"},{"$f":"IF(AU35=\"\",\"\",AU35)","v":""},"","","",null,{"$f":"AD35+AI35+AN35+AS35+AX35+BC35+BH35","v":5},"","","","","","","","",null,null,{"$f":"IF(ISNUMBER(AA35),(VLOOKUP(AA35,$BO$6:$BP$50,2)),0)","v":0},{"$f":"IF(AA35<>\"\",5,0)","v":0},{"$f":"AB35+AC35","v":0},null,null,{"$f":"IF(ISNUMBER(AF35),(VLOOKUP(AF35,$BO$6:$BP$50,2)),0)","v":0},{"$f":"IF(AF35<>\"\",5,0)","v":0},{"$f":"AG35+AH35","v":0},null,null,{"$f":"IF(ISNUMBER(AK35),(VLOOKUP(AK35,$BO$6:$BP$50,2)),0)","v":0},{"$f":"IF(AK35<>\"\",5,0)","v":0},{"$f":"AL35+AM35","v":0},null,"dnf",{"$f":"IF(ISNUMBER(AP35),(VLOOKUP(AP35,$BO$6:$BP$50,2)),0)","v":0},{"$f":"IF(AP35<>\"\",5,0)","v":5},{"$f":"AQ35+AR35","v":5},null,null,{"$f":"IF(ISNUMBER(AU35),(VLOOKUP(AU35,$BO$6:$BP$50,2)),0)","v":0},{"$f":"IF(AU35<>\"\",5,0)","v":0},{"$f":"AV35+AW35","v":0},null,null,{"$f":"IF(ISNUMBER(AZ35),(VLOOKUP(AZ35,$BO$6:$BP$50,2)),0)","v":0},{"$f":"IF(AZ35<>\"\",5,0)","v":0},{"$f":"BA35+BB35","v":0},null,null,{"$f":"IF(ISNUMBER(BE35),(VLOOKUP(BE35,$BO$6:$BP$50,2)),0)","v":0},{"$f":"IF(BE35<>\"\",5,0)","v":0},{"$f":"BF35+BG35","v":0},null,null,{"$f":"IF(ISNUMBER(BJ35),(VLOOKUP(BJ35,$BO$6:$BP$50,2)),0)","v":0},{"$f":"IF(BJ35<>\"\",5,0)","v":0},{"$f":"BK35+BL35","v":0},null,30,1,0,{"$f":"IF($F26=7,1,0)","v":0},{"$f":"IF($F26=6,1,0)","v":0},{"$f":"IF($F26=5,1,0)","v":0},{"$f":"IF($F26=4,1,0)","v":0},{"$f":"IF($F26=3,1,0)","v":0},{"$f":"IF($F26=2,1,0)","v":1},{"$f":"IF($F26=1,1,0)","v":0}]
[{"$f":"IF(E36<E35,BO36,A35)","v":31},null,null,null,{"$f":"Q36","v":0},{"$f":"(IF(AC36=5,1,0)+IF(AH36=5,1,0)+IF(AM36=5,1,0)+IF(AR36=5,1,0)+IF(AW36=5,1,0)+IF(BA36=5,1,0)+IF(BG36=5,1,0)+IF(BL36=5,1,0))","v":0},null,{"$f":"IF(AA36=\"\",\"\",AA36)","v":""},{"$f":"IF(AF36=\"\",\"\",AF36)","v":""},{"$f":"IF(AK36=\"\",\"\",AK36)","v":""},{"$f":"IF(AP36=\"\",\"\",AP36)","v":""},{"$f":"IF(AU36=\"\",\"\",AU36)","v":""},"","","",null,{"$f":"AD36+AI36+AN36+AS36+AX36+BC36+BH36","v":0},"","","","","","","","",null,null,{"$f":"IF(ISNUMBER(AA36),(VLOOKUP(AA36,$BO$6:$BP$50,2)),0)","v":0},{"$f":"IF(AA36<>\"\",5,0)","v":0},{"$f":"AB36+AC36","v":0},null,null,{"$f":"IF(ISNUMBER(AF36),(VLOOKUP(AF36,$BO$6:$BP$50,2)),0)","v":0},{"$f":"IF(AF36<>\"\",5,0)","v":0},{"$f":"AG36+AH36","v":0},null,null,{"$f":"IF(ISNUMBER(AK36),(VLOOKUP(AK36,$BO$6:$BP$50,2)),0)","v":0},{"$f":"IF(AK36<>\"\",5,0)","v":0},{"$f":"AL36+AM36","v":0},null,null,{"$f":"IF(ISNUMBER(AP36),(VLOOKUP(AP36,$BO$6:$BP$50,2)),0)","v":0},{"$f":"IF(AP36<>\"\",5,0)","v":0},{"$f":"AQ36+AR36","v":0},null,null,{"$f":"IF(ISNUMBER(AU36),(VLOOKUP(AU36,$BO$6:$BP$50,2)),0)","v":0},{"$f":"IF(AU36<>\"\",5,0)","v":0},{"$f":"AV36+AW36","v":0},null,null,{"$f":"IF(ISNUMBER(AZ36),(VLOOKUP(AZ36,$BO$6:$BP$50,2)),0)","v":0},{"$f":"IF(AZ36<>\"\",5,0)","v":0},{"$f":"BA36+BB36","v":0},null,null,{"$f":"IF(ISNUMBER(BE36),(VLOOKUP(BE36,$BO$6:$BP$50,2)),0)","v":0},{"$f":"IF(BE36<>\"\",5,0)","v":0},{"$f":"BF36+BG36","v":0},null,null,{"$f":"IF(ISNUMBER(BJ36),(VLOOKUP(BJ36,$BO$6:$BP$50,2)),0)","v":0},{"$f":"IF(BJ36<>\"\",5,0)","v":0},{"$f":"BK36+BL36","v":0},null,31,0,0,0,0,0,0,0,0,1]
[{"$f":"IF(E37<E36,BO37,A36)","v":31},null,null,null,{"$f":"Q37","v":0},{"$f":"(IF(AC37=5,1,0)+IF(AH37=5,1,0)+IF(AM37=5,1,0)+IF(AR37=5,1,0)+IF(AW37=5,1,0)+IF(BA37=5,1,0)+IF(BG37=5,1,0)+IF(BL37=5,1,0))","v":0},null,{"$f":"IF(AA37=\"\",\"\",AA37)","v":""},{"$f":"IF(AF37=\"\",\"\",AF37)","v":""},{"$f":"IF(AK37=\"\",\"\",AK37)","v":""},{"$f":"IF(AP37=\"\",\"\",AP37)","v":""},{"$f":"IF(AU37=\"\",\"\",AU37)","v":""},"","","",null,{"$f":"AD37+AI37+AN37+AS37+AX37+BC37+BH37","v":0},"","","","","","","","",null,null,{"$f":"IF(ISNUMBER(AA37),(VLOOKUP(AA37,$BO$6:$BP$50,2)),0)","v":0},{"$f":"IF(AA37<>\"\",5,0)","v":0},{"$f":"AB37+AC37","v":0},null,null,{"$f":"IF(ISNUMBER(AF37),(VLOOKUP(AF37,$BO$6:$BP$50,2)),0)","v":0},{"$f":"IF(AF37<>\"\",5,0)","v":0},{"$f":"AG37+AH37","v":0},null,null,{"$f":"IF(ISNUMBER(AK37),(VLOOKUP(AK37,$BO$6:$BP$50,2)),0)","v":0},{"$f":"IF(AK37<>\"\",5,0)","v":0},{"$f":"AL37+AM37","v":0},null,null,{"$f":"IF(ISNUMBER(AP37),(VLOOKUP(AP37,$BO$6:$BP$50,2)),0)","v":0},{"$f":"IF(AP37<>\"\",5,0)","v":0},{"$f":"AQ37+AR37","v":0},null,null,{"$f":"IF(ISNUMBER(AU37),(VLOOKUP(AU37,$BO$6:$BP$50,2)),0)","v":0},{"$f":"IF(AU37<>\"\",5,0)","v":0},{"$f":"AV37+AW37","v":0},null,null,{"$f":"IF(ISNUMBER(AZ37),(VLOOKUP(AZ37,$BO$6:$BP$50,2)),0)","v":0},{"$f":"IF(AZ37<>\"\",5,0)","v":0},{"$f":"BA37+BB37","v":0},null,null,{"$f":"IF(ISNUMBER(BE37),(VLOOKUP(BE37,$BO$6:$BP$50,2)),0)","v":0},{"$f":"IF(BE37<>\"\",5,0)","v":0},{"$f":"BF37+BG37","v":0},null,null,{"$f":"IF(ISNUMBER(BJ37),(VLOOKUP(BJ37,$BO$6:$BP$50,2)),0)","v":0},{"$f":"IF(BJ37<>\"\",5,0)","v":0},{"$f":"BK37+BL37","v":0},null,32,0,0,0,0,0,0,0,0,1]
[{"$f":"IF(E38<E37,BO38,A37)","v":31},null,null,null,{"$f":"Q38","v":0},{"$f":"(IF(AC38=5,1,0)+IF(AH38=5,1,0)+IF(AM38=5,1,0)+IF(AR38=5,1,0)+IF(AW38=5,1,0)+IF(BA38=5,1,0)+IF(BG38=5,1,0)+IF(BL38=5,1,0))","v":0},null,{"$f":"IF(AA38=\"\",\"\",AA38)","v":""},{"$f":"IF(AF38=\"\",\"\",AF38)","v":""},{"$f":"IF(AK38=\"\",\"\",AK38)","v":""},{"$f":"IF(AP38=\"\",\"\",AP38)","v":""},{"$f":"IF(AU38=\"\",\"\",AU38)","v":""},"","","",null,{"$f":"AD38+AI38+AN38+AS38+AX38+BC38+BH38","v":0},"","","","","","","","",null,null,{"$f":"IF(ISNUMBER(AA38),(VLOOKUP(AA38,$BO$6:$BP$50,2)),0)","v":0},{"$f":"IF(AA38<>\"\",5,0)","v":0},{"$f":"AB38+AC38","v":0},null,null,{"$f":"IF(ISNUMBER(AF38),(VLOOKUP(AF38,$BO$6:$BP$50,2)),0)","v":0},{"$f":"IF(AF38<>\"\",5,0)","v":0},{"$f":"AG38+AH38","v":0},null,null,{"$f":"IF(ISNUMBER(AK38),(VLOOKUP(AK38,$BO$6:$BP$50,2)),0)","v":0},{"$f":"IF(AK38<>\"\",5,0)","v":0},{"$f":"AL38+AM38","v":0},null,null,{"$f":"IF(ISNUMBER(AP38),(VLOOKUP(AP38,$BO$6:$BP$50,2)),0)","v":0},{"$f":"IF(AP38<>\"\",5,0)","v":0},{"$f":"AQ38+AR38","v":0},null,null,{"$f":"IF(ISNUMBER(AU38),(VLOOKUP(AU38,$BO$6:$BP$50,2)),0)","v":0},{"$f":"IF(AU38<>\"\",5,0)","v":0},{"$f":"AV38+AW38","v":0},null,null,{"$f":"IF(ISNUMBER(AZ38),(VLOOKUP(AZ38,$BO$6:$BP$50,2)),0)","v":0},{"$f":"IF(AZ38<>\"\",5,0)","v":0},{"$f":"BA38+BB38","v":0},null,null,{"$f":"IF(ISNUMBER(BE38),(VLOOKUP(BE38,$BO$6:$BP$50,2)),0)","v":0},{"$f":"IF(BE38<>\"\",5,0)","v":0},{"$f":"BF38+BG38","v":0},null,null,{"$f":"IF(ISNUMBER(BJ38),(VLOOKUP(BJ38,$BO$6:$BP$50,2)),0)","v":0},{"$f":"IF(BJ38<>\"\",5,0)","v":0},{"$f":"BK38+BL38","v":0},null,33,0,0,0,0,0,0,0,0,1]
[{"$f":"IF(E39<E38,BO39,A38)","v":31},null,null,null,{"$f":"Q39","v":0},{"$f":"(IF(AC39=5,1,0)+IF(AH39=5,1,0)+IF(AM39=5,1,0)+IF(AR39=5,1,0)+IF(AW39=5,1,0)+IF(BA39=5,1,0)+IF(BG39=5,1,0)+IF(BL39=5,1,0))","v":0},null,{"$f":"IF(AA39=\"\",\"\",AA39)","v":""},{"$f":"IF(AF39=\"\",\"\",AF39)","v":""},{"$f":"IF(AK39=\"\",\"\",AK39)","v":""},{"$f":"IF(AP39=\"\",\"\",AP39)","v":""},{"$f":"IF(AU39=\"\",\"\",AU39)","v":""},"","","",null,{"$f":"AD39+AI39+AN39+AS39+AX39+BC39+BH39","v":0},"","","","","","","","",null,null,{"$f":"IF(ISNUMBER(AA39),(VLOOKUP(AA39,$BO$6:$BP$50,2)),0)","v":0},{"$f":"IF(AA39<>\"\",5,0)","v":0},{"$f":"AB39+AC39","v":0},null,null,{"$f":"IF(ISNUMBER(AF39),(VLOOKUP(AF39,$BO$6:$BP$50,2)),0)","v":0},{"$f":"IF(AF39<>\"\",5,0)","v":0},{"$f":"AG39+AH39","v":0},null,null,{"$f":"IF(ISNUMBER(AK39),(VLOOKUP(AK39,$BO$6:$BP$50,2)),0)","v":0},{"$f":"IF(AK39<>\"\",5,0)","v":0},{"$f":"AL39+AM39","v":0},null,null,{"$f":"IF(ISNUMBER(AP39),(VLOOKUP(AP39,$BO$6:$BP$50,2)),0)","v":0},{"$f":"IF(AP39<>\"\",5,0)","v":0},{"$f":"AQ39+AR39","v":0},null,null,{"$f":"IF(ISNUMBER(AU39),(VLOOKUP(AU39,$BO$6:$BP$50,2)),0)","v":0},{"$f":"IF(AU39<>\"\",5,0)","v":0},{"$f":"AV39+AW39","v":0},null,null,{"$f":"IF(ISNUMBER(AZ39),(VLOOKUP(AZ39,$BO$6:$BP$50,2)),0)","v":0},{"$f":"IF(AZ39<>\"\",5,0)","v":0},{"$f":"BA39+BB39","v":0},null,null,{"$f":"IF(ISNUMBER(BE39),(VLOOKUP(BE39,$BO$6:$BP$50,2)),0)","v":0},{"$f":"IF(BE39<>\"\",5,0)","v":0},{"$f":"BF39+BG39","v":0},null,null,{"$f":"IF(ISNUMBER(BJ39),(VLOOKUP(BJ39,$BO$6:$BP$50,2)),0)","v":0},{"$f":"IF(BJ39<>\"\",5,0)","v":0},{"$f":"BK39+BL39","v":0},null,34,0,0,0,0,0,0,0,0,1]
[{"$f":"IF(E40<E39,BO40,A39)","v":31},null,null,null,{"$f":"Q40","v":0},{"$f":"(IF(AC40=5,1,0)+IF(AH40=5,1,0)+IF(AM40=5,1,0)+IF(AR40=5,1,0)+IF(AW40=5,1,0)+IF(BA40=5,1,0)+IF(BG40=5,1,0)+IF(BL40=5,1,0))","v":0},null,{"$f":"IF(AA40=\"\",\"\",AA40)","v":""},{"$f":"IF(AF40=\"\",\"\",AF40)","v":""},{"$f":"IF(AK40=\"\",\"\",AK40)","v":""},{"$f":"IF(AP40=\"\",\"\",AP40)","v":""},{"$f":"IF(AU40=\"\",\"\",AU40)","v":""},{"$f":"IF(AZ40=\"\",\"\",AZ40)","v":""},{"$f":"IF(BE40=\"\",\"\",BE40)","v":""},{"$f":"IF(BJ40=\"\",\"\",BJ40)","v":""},null,{"$f":"AD40+AI40+AN40+AS40+AX40+BC40+BH40","v":0},{"$f":"IF($F40>=5,IF(AB40=\"\",\"\",AB40),\"\")","v":""},{"$f":"IF($F40>=5,IF(AG40=\"\",\"\",AG40),\"\")","v":""},{"$f":"IF($F40>=5,IF(AL40=\"\",\"\",AL40),\"\")","v":""},{"$f":"IF($F40>=5,IF(AQ40=\"\",\"\",AQ40),\"\")","v":""},{"$f":"IF($F40>=5,IF(AV40=\"\",\"\",AV40),\"\")","v":""},{"$f":"IF($F40>=5,IF(BA40=\"\",\"\",BA40),\"\")","v":""},{"$f":"IF($F40>=5,IF(BF40=\"\",\"\",BF40),\"\")","v":""},{"$f":"IF($F40>=5,IF(BK40=\"\",\"\",BK40),\"\")","v":""},null,null,{"$f":"IF(ISNUMBER(AA40),(VLOOKUP(AA40,$BO$6:$BP$50,2)),0)","v":0},{"$f":"IF(AA40<>\"\",5,0)","v":0},{"$f":"AB40+AC40","v":0},null,null,{"$f":"IF(ISNUMBER(AF40),(VLOOKUP(AF40,$BO$6:$BP$50,2)),0)","v":0},{"$f":"IF(AF40<>\"\",5,0)","v":0},{"$f":"AG40+AH40","v":0},null,null,{"$f":"IF(ISNUMBER(AK40),(VLOOKUP(AK40,$BO$6:$BP$50,2)),0)","v":0},{"$f":"IF(AK40<>\"\",5,0)","v":0},{"$f":"AL40+AM40","v":0},null,null,{"$f":"IF(ISNUMBER(AP40),(VLOOKUP(AP40,$BO$6:$BP$50,2)),0)","v":0},{"$f":"IF(AP40<>\"\",5,0)","v":0},{"$f":"AQ40+AR40","v":0},null,null,{"$f":"IF(ISNUMBER(AU40),(VLOOKUP(AU40,$BO$6:$BP$50,2)),0)","v":0},{"$f":"IF(AU40<>\"\",5,0)","v":0},{"$f":"AV40+AW40","v":0},null,null,{"$f":"IF(ISNUMBER(AZ40),(VLOOKUP(AZ40,$BO$6:$BP$50,2)),0)","v":0},{"$f":"IF(AZ40<>\"\",5,0)","v":0},{"$f":"BA40+BB40","v":0},null,null,{"$f":"IF(ISNUMBER(BE40),(VLOOKUP(BE40,$BO$6:$BP$50,2)),0)","v":0},{"$f":"IF(BE40<>\"\",5,0)","v":0},{"$f":"BF40+BG40","v":0},null,null,{"$f":"IF(ISNUMBER(BJ40),(VLOOKUP(BJ40,$BO$6:$BP$50,2)),0)","v":0},{"$f":"IF(BJ40<>\"\",5,0)","v":0},{"$f":"BK40+BL40","v":0},null,35,0,0,0,0,0,0,0,0,1]
[{"$f":"IF(E41<E40,BO41,A40)","v":31},null,null,null,{"$f":"Q41","v":0},{"$f":"(IF(AC41=5,1,0)+IF(AH41=5,1,0)+IF(AM41=5,1,0)+IF(AR41=5,1,0)+IF(AW41=5,1,0)+IF(BA41=5,1,0)+IF(BG41=5,1,0)+IF(BL41=5,1,0))","v":0},null,{"$f":"IF(AA41=\"\",\"\",AA41)","v":""},{"$f":"IF(AF41=\"\",\"\",AF41)","v":""},{"$f":"IF(AK41=\"\",\"\",AK41)","v":""},{"$f":"IF(AP41=\"\",\"\",AP41)","v":""},{"$f":"IF(AU41=\"\",\"\",AU41)","v":""},{"$f":"IF(AZ41=\"\",\"\",AZ41)","v":""},{"$f":"IF(BE41=\"\",\"\",BE41)","v":""},{"$f":"IF(BJ41=\"\",\"\",BJ41)","v":""},null,{"$f":"AD41+AI41+AN41+AS41+AX41+BC41+BH41","v":0},{"$f":"IF($F41>=5,IF(AB41=\"\",\"\",AB41),\"\")","v":""},{"$f":"IF($F41>=5,IF(AG41=\"\",\"\",AG41),\"\")","v":""},{"$f":"IF($F41>=5,IF(AL41=\"\",\"\",AL41),\"\")","v":""},{"$f":"IF($F41>=5,IF(AQ41=\"\",\"\",AQ41),\"\")","v":""},{"$f":"IF($F41>=5,IF(AV41=\"\",\"\",AV41),\"\")","v":""},{"$f":"IF($F41>=5,IF(BA41=\"\",\"\",BA41),\"\")","v":""},{"$f":"IF($F41>=5,IF(BF41=\"\",\"\",BF41),\"\")","v":""},{"$f":"IF($F41>=5,IF(BK41=\"\",\"\",BK41),\"\")","v":""},null,null,{"$f":"IF(ISNUMBER(AA41),(VLOOKUP(AA41,$BO$6:$BP$50,2)),0)","v":0},{"$f":"IF(AA41<>\"\",5,0)","v":0},{"$f":"AB41+AC41","v":0},null,null,{"$f":"IF(ISNUMBER(AF41),(VLOOKUP(AF41,$BO$6:$BP$50,2)),0)","v":0},{"$f":"IF(AF41<>\"\",5,0)","v":0},{"$f":"AG41+AH41","v":0},null,null,{"$f":"IF(ISNUMBER(AK41),(VLOOKUP(AK41,$BO$6:$BP$50,2)),0)","v":0},{"$f":"IF(AK41<>\"\",5,0)","v":0},{"$f":"AL41+AM41","v":0},null,null,{"$f":"IF(ISNUMBER(AP41),(VLOOKUP(AP41,$BO$6:$BP$50,2)),0)","v":0},{"$f":"IF(AP41<>\"\",5,0)","v":0},{"$f":"AQ41+AR41","v":0},null,null,{"$f":"IF(ISNUMBER(AU41),(VLOOKUP(AU41,$BO$6:$BP$50,2)),0)","v":0},{"$f":"IF(AU41<>\"\",5,0)","v":0},{"$f":"AV41+AW41","v":0},null,null,{"$f":"IF(ISNUMBER(AZ41),(VLOOKUP(AZ41,$BO$6:$BP$50,2)),0)","v":0},{"$f":"IF(AZ41<>\"\",5,0)","v":0},{"$f":"BA41+BB41","v":0},null,null,{"$f":"IF(ISNUMBER(BE41),(VLOOKUP(BE41,$BO$6:$BP$50,2)),0)","v":0},{"$f":"IF(BE41<>\"\",5,0)","v":0},{"$f":"BF41+BG41","v":0},null,null,{"$f":"IF(ISNUMBER(BJ41),(VLOOKUP(BJ41,$BO$6:$BP$50,2)),0)","v":0},{"$f":"IF(BJ41<>\"\",5,0)","v":0},{"$f":"BK41+BL41","v":0},null,36,0,0,0,0,0,0,0,0,1]
[{"$f":"IF(E42<E41,BO42,A41)","v":31},null,null,null,{"$f":"Q42","v":0},{"$f":"(IF(AC42=5,1,0)+IF(AH42=5,1,0)+IF(AM42=5,1,0)+IF(AR42=5,1,0)+IF(AW42=5,1,0)+IF(BA42=5,1,0)+IF(BG42=5,1,0)+IF(BL42=5,1,0))","v":0},null,{"$f":"IF(AA42=\"\",\"\",AA42)","v":""},{"$f":"IF(AF42=\"\",\"\",AF42)","v":""},{"$f":"IF(AK42=\"\",\"\",AK42)","v":""},{"$f":"IF(AP42=\"\",\"\",AP42)","v":""},{"$f":"IF(AU42=\"\",\"\",AU42)","v":""},{"$f":"IF(AZ42=\"\",\"\",AZ42)","v":""},{"$f":"IF(BE42=\"\",\"\",BE42)","v":""},{"$f":"IF(BJ42=\"\",\"\",BJ42)","v":""},null,{"$f":"AD42+AI42+AN42+AS42+AX42+BC42+BH42","v":0},{"$f":"IF($F42>=5,IF(AB42=\"\",\"\",AB42),\"\")","v":""},{"$f":"IF($F42>=5,IF(AG42=\"\",\"\",AG42),\"\")","v":""},{"$f":"IF($F42>=5,IF(AL42=\"\",\"\",AL42),\"\")","v":""},{"$f":"IF($F42>=5,IF(AQ42=\"\",\"\",AQ42),\"\")","v":""},{"$f":"IF($F42>=5,IF(AV42=\"\",\"\",AV42),\"\")","v":""},{"$f":"IF($F42>=5,IF(BA42=\"\",\"\",BA42),\"\")","v":""},{"$f":"IF($F42>=5,IF(BF42=\"\",\"\",BF42),\"\")","v":""},{"$f":"IF($F42>=5,IF(BK42=\"\",\"\",BK42),\"\")","v":""},null,null,{"$f":"IF(ISNUMBER(AA42),(VLOOKUP(AA42,$BO$6:$BP$50,2)),0)","v":0},{"$f":"IF(AA42<>\"\",5,0)","v":0},{"$f":"AB42+AC42","v":0},null,null,{"$f":"IF(ISNUMBER(AF42),(VLOOKUP(AF42,$BO$6:$BP$50,2)),0)","v":0},{"$f":"IF(AF42<>\"\",5,0)","v":0},{"$f":"AG42+AH42","v":0},null,null,{"$f":"IF(ISNUMBER(AK42),(VLOOKUP(AK42,$BO$6:$BP$50,2)),0)","v":0},{"$f":"IF(AK42<>\"\",5,0)","v":0},{"$f":"AL42+AM42","v":0},null,null,{"$f":"IF(ISNUMBER(AP42),(VLOOKUP(AP42,$BO$6:$BP$50,2)),0)","v":0},{"$f":"IF(AP42<>\"\",5,0)","v":0},{"$f":"AQ42+AR42","v":0},null,null,{"$f":"IF(ISNUMBER(AU42),(VLOOKUP(AU42,$BO$6:$BP$50,2)),0)","v":0},{"$f":"IF(AU42<>\"\",5,0)","v":0},{"$f":"AV42+AW42","v":0},null,null,{"$f":"IF(ISNUMBER(AZ42),(VLOOKUP(AZ42,$BO$6:$BP$50,2)),0)","v":0},{"$f":"IF(AZ42<>\"\",5,0)","v":0},{"$f":"BA42+BB42","v":0},null,null,{"$f":"IF(ISNUMBER(BE42),(VLOOKUP(BE42,$BO$6:$BP$50,2)),0)","v":0},{"$f":"IF(BE42<>\"\",5,0)","v":0},{"$f":"BF42+BG42","v":0},null,null,{"$f":"IF(ISNUMBER(BJ42),(VLOOKUP(BJ42,$BO$6:$BP$50,2)),0)","v":0},{"$f":"IF(BJ42<>\"\",5,0)","v":0},{"$f":"BK42+BL42","v":0},null,37,0,0,0,0,0,0,0,0,1]
[{"$f":"IF(E43<E42,BO43,A42)","v":31},null,null,null,{"$f":"Q43","v":0},{"$f":"(IF(AC43=5,1,0)+IF(AH43=5,1,0)+IF(AM43=5,1,0)+IF(AR43=5,1,0)+IF(AW43=5,1,0)+IF(BA43=5,1,0)+IF(BG43=5,1,0)+IF(BL43=5,1,0))","v":0},null,{"$f":"IF(AA43=\"\",\"\",AA43)","v":""},{"$f":"IF(AF43=\"\",\"\",AF43)","v":""},{"$f":"IF(AK43=\"\",\"\",AK43)","v":""},{"$f":"IF(AP43=\"\",\"\",AP43)","v":""},{"$f":"IF(AU43=\"\",\"\",AU43)","v":""},{"$f":"IF(AZ43=\"\",\"\",AZ43)","v":""},{"$f":"IF(BE43=\"\",\"\",BE43)","v":""},{"$f":"IF(BJ43=\"\",\"\",BJ43)","v":""},null,{"$f":"AD43+AI43+AN43+AS43+AX43+BC43+BH43","v":0},{"$f":"IF($F43>=5,IF(AB43=\"\",\"\",AB43),\"\")","v":""},{"$f":"IF($F43>=5,IF(AG43=\"\",\"\",AG43),\"\")","v":""},{"$f":"IF($F43>=5,IF(AL43=\"\",\"\",AL43),\"\")","v":""},{"$f":"IF($F43>=5,IF(AQ43=\"\",\"\",AQ43),\"\")","v":""},{"$f":"IF($F43>=5,IF(AV43=\"\",\"\",AV43),\"\")","v":""},{"$f":"IF($F43>=5,IF(BA43=\"\",\"\",BA43),\"\")","v":""},{"$f":"IF($F43>=5,IF(BF43=\"\",\"\",BF43),\"\")","v":""},{"$f":"IF($F43>=5,IF(BK43=\"\",\"\",BK43),\"\")","v":""},null,null,{"$f":"IF(ISNUMBER(AA43),(VLOOKUP(AA43,$BO$6:$BP$50,2)),0)","v":0},{"$f":"IF(AA43<>\"\",5,0)","v":0},{"$f":"AB43+AC43","v":0},null,null,{"$f":"IF(ISNUMBER(AF43),(VLOOKUP(AF43,$BO$6:$BP$50,2)),0)","v":0},{"$f":"IF(AF43<>\"\",5,0)","v":0},{"$f":"AG43+AH43","v":0},null,null,{"$f":"IF(ISNUMBER(AK43),(VLOOKUP(AK43,$BO$6:$BP$50,2)),0)","v":0},{"$f":"IF(AK43<>\"\",5,0)","v":0},{"$f":"AL43+AM43","v":0},null,null,{"$f":"IF(ISNUMBER(AP43),(VLOOKUP(AP43,$BO$6:$BP$50,2)),0)","v":0},{"$f":"IF(AP43<>\"\",5,0)","v":0},{"$f":"AQ43+AR43","v":0},null,null,{"$f":"IF(ISNUMBER(AU43),(VLOOKUP(AU43,$BO$6:$BP$50,2)),0)","v":0},{"$f":"IF(AU43<>\"\",5,0)","v":0},{"$f":"AV43+AW43","v":0},null,null,{"$f":"IF(ISNUMBER(AZ43),(VLOOKUP(AZ43,$BO$6:$BP$50,2)),0)","v":0},{"$f":"IF(AZ43<>\"\",5,0)","v":0},{"$f":"BA43+BB43","v":0},null,null,{"$f":"IF(ISNUMBER(BE43),(VLOOKUP(BE43,$BO$6:$BP$50,2)),0)","v":0},{"$f":"IF(BE43<>\"\",5,0)","v":0},{"$f":"BF43+BG43","v":0},null,null,{"$f":"IF(ISNUMBER(BJ43),(VLOOKUP(BJ43,$BO$6:$BP$50,2)),0)","v":0},{"$f":"IF(BJ43<>\"\",5,0)","v":0},{"$f":"BK43+BL43","v":0},null,38,0,0,0,0,0,0,0,0,1]
[{"$f":"IF(E44<E43,BO44,A43)","v":31},null,null,null,{"$f":"Q44","v":0},{"$f":"(IF(AC44=5,1,0)+IF(AH44=5,1,0)+IF(AM44=5,1,0)+IF(AR44=5,1,0)+IF(AW44=5,1,0)+IF(BA44=5,1,0)+IF(BG44=5,1,0)+IF(BL44=5,1,0))","v":0},null,{"$f":"IF(AA44=\"\",\"\",AA44)","v":""},{"$f":"IF(AF44=\"\",\"\",AF44)","v":""},{"$f":"IF(AK44=\"\",\"\",AK44)","v":""},{"$f":"IF(AP44=\"\",\"\",AP44)","v":""},{"$f":"IF(AU44=\"\",\"\",AU44)","v":""},{"$f":"IF(AZ44=\"\",\"\",AZ44)","v":""},{"$f":"IF(BE44=\"\",\"\",BE44)","v":""},{"$f":"IF(BJ44=\"\",\"\",BJ44)","v":""},null,{"$f":"AD44+AI44+AN44+AS44+AX44+BC44+BH44","v":0},{"$f":"IF($F44>=5,IF(AB44=\"\",\"\",AB44),\"\")","v":""},{"$f":"IF($F44>=5,IF(AG44=\"\",\"\",AG44),\"\")","v":""},{"$f":"IF($F44>=5,IF(AL44=\"\",\"\",AL44),\"\")","v":""},{"$f":"IF($F44>=5,IF(AQ44=\"\",\"\",AQ44),\"\")","v":""},{"$f":"IF($F44>=5,IF(AV44=\"\",\"\",AV44),\"\")","v":""},{"$f":"IF($F44>=5,IF(BA44=\"\",\"\",BA44),\"\")","v":""},{"$f":"IF($F44>=5,IF(BF44=\"\",\"\",BF44),\"\")","v":""},{"$f":"IF($F44>=5,IF(BK44=\"\",\"\",BK44),\"\")","v":""},null,null,{"$f":"IF(ISNUMBER(AA44),(VLOOKUP(AA44,$BO$6:$BP$50,2)),0)","v":0},{"$f":"IF(AA44<>\"\",5,0)","v":0},{"$f":"AB44+AC44","v":0},null,null,{"$f":"IF(ISNUMBER(AF44),(VLOOKUP(AF44,$BO$6:$BP$50,2)),0)","v":0},{"$f":"IF(AF44<>\"\",5,0)","v":0},{"$f":"AG44+AH44","v":0},null,null,{"$f":"IF(ISNUMBER(AK44),(VLOOKUP(AK44,$BO$6:$BP$50,2)),0)","v":0},{"$f":"IF(AK44<>\"\",5,0)","v":0},{"$f":"AL44+AM44","v":0},null,null,{"$f":"IF(ISNUMBER(AP44),(VLOOKUP(AP44,$BO$6:$BP$50,2)),0)","v":0},{"$f":"IF(AP44<>\"\",5,0)","v":0},{"$f":"AQ44+AR44","v":0},null,null,{"$f":"IF(ISNUMBER(AU44),(VLOOKUP(AU44,$BO$6:$BP$50,2)),0)","v":0},{"$f":"IF(AU44<>\"\",5,0)","v":0},{"$f":"AV44+AW44","v":0},null,null,{"$f":"IF(ISNUMBER(AZ44),(VLOOKUP(AZ44,$BO$6:$BP$50,2)),0)","v":0},{"$f":"IF(AZ44<>\"\",5,0)","v":0},{"$f":"BA44+BB44","v":0},null,null,{"$f":"IF(ISNUMBER(BE44),(VLOOKUP(BE44,$BO$6:$BP$50,2)),0)","v":0},{"$f":"IF(BE44<>\"\",5,0)","v":0},{"$f":"BF44+BG44","v":0},null,null,{"$f":"IF(ISNUMBER(BJ44),(VLOOKUP(BJ44,$BO$6:$BP$50,2)),0)","v":0},{"$f":"IF(BJ44<>\"\",5,0)","v":0},{"$f":"BK44+BL44","v":0},null,39,0,0,0,0,0,0,0,0,1]
[{"$f":"IF(E45<E44,BO45,A44)","v":31},null,null,null,{"$f":"Q45","v":0},{"$f":"(IF(AC45=5,1,0)+IF(AH45=5,1,0)+IF(AM45=5,1,0)+IF(AR45=5,1,0)+IF(AW45=5,1,0)+IF(BA45=5,1,0)+IF(BG45=5,1,0)+IF(BL45=5,1,0))","v":0},null,{"$f":"IF(AA45=\"\",\"\",AA45)","v":""},{"$f":"IF(AF45=\"\",\"\",AF45)","v":""},{"$f":"IF(AK45=\"\",\"\",AK45)","v":""},{"$f":"IF(AP45=\"\",\"\",AP45)","v":""},{"$f":"IF(AU45=\"\",\"\",AU45)","v":""},{"$f":"IF(AU45=\"\",\"\",AU45)","v":""},{"$f":"IF(AZ45=\"\",\"\",AZ45)","v":""},{"$f":"IF(BE45=\"\",\"\",BE45)","v":""},null,{"$f":"AD45+AI45+AN45+AS45+AX45+BC45+BH45","v":0},{"$f":"IF($F36>=5,IF(AB45=\"\",\"\",AB45),\"\")","v":""},{"$f":"IF($F36>=5,IF(AG45=\"\",\"\",AG45),\"\")","v":""},{"$f":"IF($F36>=5,IF(AL45=\"\",\"\",AL45),\"\")","v":""},{"$f":"IF($F36>=5,IF(AQ45=\"\",\"\",AQ45),\"\")","v":""},{"$f":"IF($F36>=5,IF(AR45=\"\",\"\",AR45),\"\")","v":""},{"$f":"IF($F36>=5,IF(AV45=\"\",\"\",AV45),\"\")","v":""},{"$f":"IF($F36>=5,IF(BA45=\"\",\"\",BA45),\"\")","v":""},{"$f":"IF($F36>=5,IF(BF45=\"\",\"\",BF45),\"\")","v":""},null,null,{"$f":"IF(ISNUMBER(AA45),(VLOOKUP(AA45,$BO$6:$BP$50,2)),0)","v":0},{"$f":"IF(AA45<>\"\",5,0)","v":0},{"$f":"AB45+AC45","v":0},null,null,{"$f":"IF(ISNUMBER(AF45),(VLOOKUP(AF45,$BO$6:$BP$50,2)),0)","v":0},{"$f":"IF(AF45<>\"\",5,0)","v":0},{"$f":"AG45+AH45","v":0},null,null,{"$f":"IF(ISNUMBER(AK45),(VLOOKUP(AK45,$BO$6:$BP$50,2)),0)","v":0},{"$f":"IF(AK45<>\"\",5,0)","v":0},{"$f":"AL45+AM45","v":0},null,null,{"$f":"IF(ISNUMBER(AP45),(VLOOKUP(AP45,$BO$6:$BP$50,2)),0)","v":0},{"$f":"IF(AP45<>\"\",5,0)","v":0},{"$f":"AQ45+AR45","v":0},null,null,{"$f":"IF(ISNUMBER(AU45),(VLOOKUP(AU45,$BO$6:$BP$50,2)),0)","v":0},{"$f":"IF(AU45<>\"\",5,0)","v":0},{"$f":"AV45+AW45","v":0},null,null,{"$f":"IF(ISNUMBER(AZ45),(VLOOKUP(AZ45,$BO$6:$BP$50,2)),0)","v":0},{"$f":"IF(AZ45<>\"\",5,0)","v":0},{"$f":"BA45+BB45","v":0},null,null,{"$f":"IF(ISNUMBER(BE45),(VLOOKUP(BE45,$BO$6:$BP$50,2)),0)","v":0},{"$f":"IF(BE45<>\"\",5,0)","v":0},{"$f":"BF45+BG45","v":0},null,null,{"$f":"IF(ISNUMBER(BJ45),(VLOOKUP(BJ45,$BO$6:$BP$50,2)),0)","v":0},{"$f":"IF(BJ45<>\"\",5,0)","v":0},{"$f":"BK45+BL45","v":0},null,40,0,0,0,0,0,0,0,0,0]
[{"$f":"IF(E46<E45,BO46,A45)","v":31},null,null,null,null,null,null,{"$f":"IF(AA46=\"\",\"\",AA46)","v":""},{"$f":"IF(AF46=\"\",\"\",AF46)","v":""},{"$f":"IF(AK46=\"\",\"\",AK46)","v":""},{"$f":"IF(AP46=\"\",\"\",AP46)","v":""},{"$f":"IF(AU46=\"\",\"\",AU46)","v":""},{"$f":"IF(AU46=\"\",\"\",AU46)","v":""},{"$f":"IF(AZ46=\"\",\"\",AZ46)","v":""},{"$f":"IF(BE46=\"\",\"\",BE46)","v":""},null,{"$f":"AD46+AI46+AN46+AS46+AX46+BC46+BH46","v":0},{"$f":"IF($F37>=5,IF(AB46=\"\",\"\",AB46),\"\")","v":""},{"$f":"IF($F37>=5,IF(AG46=\"\",\"\",AG46),\"\")","v":""},{"$f":"IF($F37>=5,IF(AL46=\"\",\"\",AL46),\"\")","v":""},{"$f":"IF($F37>=5,IF(AQ46=\"\",\"\",AQ46),\"\")","v":""},{"$f":"IF($F37>=5,IF(AR46=\"\",\"\",AR46),\"\")","v":""},{"$f":"IF($F37>=5,IF(AV46=\"\",\"\",AV46),\"\")","v":""},{"$f":"IF($F37>=5,IF(BA46=\"\",\"\",BA46),\"\")","v":""},{"$f":"IF($F37>=5,IF(BF46=\"\",\"\",BF46),\"\")","v":""},null,null,{"$f":"IF(ISNUMBER(AA46),(VLOOKUP(AA46,$BO$6:$BP$50,2)),0)","v":0},{"$f":"IF(AA46<>\"\",5,0)","v":0},{"$f":"AB46+AC46","v":0},null,null,{"$f":"IF(ISNUMBER(AF46),(VLOOKUP(AF46,$BO$6:$BP$50,2)),0)","v":0},{"$f":"IF(AF46<>\"\",5,0)","v":0},{"$f":"AG46+AH46","v":0},null,null,{"$f":"IF(ISNUMBER(AK46),(VLOOKUP(AK46,$BO$6:$BP$50,2)),0)","v":0},{"$f":"IF(AK46<>\"\",5,0)","v":0},{"$f":"AL46+AM46","v":0},null,null,{"$f":"IF(ISNUMBER(AP46),(VLOOKUP(AP46,$BO$6:$BP$50,2)),0)","v":0},{"$f":"IF(AP46<>\"\",5,0)","v":0},{"$f":"AQ46+AR46","v":0},null,null,{"$f":"IF(ISNUMBER(AU46),(VLOOKUP(AU46,$BO$6:$BP$50,2)),0)","v":0},{"$f":"IF(AU46<>\"\",5,0)","v":0},{"$f":"AV46+AW46","v":0},null,null,{"$f":"IF(ISNUMBER(AZ46),(VLOOKUP(AZ46,$BO$6:$BP$50,2)),0)","v":0},{"$f":"IF(AZ46<>\"\",5,0)","v":0},{"$f":"BA46+BB46","v":0},null,null,{"$f":"IF(ISNUMBER(BE46),(VLOOKUP(BE46,$BO$6:$BP$50,2)),0)","v":0},{"$f":"IF(BE46<>\"\",5,0)","v":0},{"$f":"BF46+BG46","v":0},null,null,{"$f":"IF(ISNUMBER(BJ46),(VLOOKUP(BJ46,$BO$6:$BP$50,2)),0)","v":0},{"$f":"IF(BJ46<>\"\",5,0)","v":0},{"$f":"BK46+BL46","v":0},null,41,0,0,0,0,0,0,0,0,0]
[{"$f":"IF(E47<E46,BO47,A46)","v":31},null,null,null,null,null,null,{"$f":"IF(AA47=\"\",\"\",AA47)","v":""},{"$f":"IF(AF47=\"\",\"\",AF47)","v":""},{"$f":"IF(AK47=\"\",\"\",AK47)","v":""},{"$f":"IF(AP47=\"\",\"\",AP47)","v":""},{"$f":"IF(AU47=\"\",\"\",AU47)","v":""},{"$f":"IF(AU47=\"\",\"\",AU47)","v":""},{"$f":"IF(AZ47=\"\",\"\",AZ47)","v":""},{"$f":"IF(BE47=\"\",\"\",BE47)","v":""},null,{"$f":"AD47+AI47+AN47+AS47+AX47+BC47+BH47","v":0},{"$f":"IF($F38>=5,IF(AB47=\"\",\"\",AB47),\"\")","v":""},{"$f":"IF($F38>=5,IF(AG47=\"\",\"\",AG47),\"\")","v":""},{"$f":"IF($F38>=5,IF(AL47=\"\",\"\",AL47),\"\")","v":""},{"$f":"IF($F38>=5,IF(AQ47=\"\",\"\",AQ47),\"\")","v":""},{"$f":"IF($F38>=5,IF(AR47=\"\",\"\",AR47),\"\")","v":""},{"$f":"IF($F38>=5,IF(AV47=\"\",\"\",AV47),\"\")","v":""},{"$f":"IF($F38>=5,IF(BA47=\"\",\"\",BA47),\"\")","v":""},{"$f":"IF($F38>=5,IF(BF47=\"\",\"\",BF47),\"\")","v":""},null,null,{"$f":"IF(ISNUMBER(AA47),(VLOOKUP(AA47,$BO$6:$BP$50,2)),0)","v":0},{"$f":"IF(AA47<>\"\",5,0)","v":0},{"$f":"AB47+AC47","v":0},null,null,{"$f":"IF(ISNUMBER(AF47),(VLOOKUP(AF47,$BO$6:$BP$50,2)),0)","v":0},{"$f":"IF(AF47<>\"\",5,0)","v":0},{"$f":"AG47+AH47","v":0},null,null,{"$f":"IF(ISNUMBER(AK47),(VLOOKUP(AK47,$BO$6:$BP$50,2)),0)","v":0},{"$f":"IF(AK47<>\"\",5,0)","v":0},{"$f":"AL47+AM47","v":0},null,null,{"$f":"IF(ISNUMBER(AP47),(VLOOKUP(AP47,$BO$6:$BP$50,2)),0)","v":0},{"$f":"IF(AP47<>\"\",5,0)","v":0},{"$f":"AQ47+AR47","v":0},null,null,{"$f":"IF(ISNUMBER(AU47),(VLOOKUP(AU47,$BO$6:$BP$50,2)),0)","v":0},{"$f":"IF(AU47<>\"\",5,0)","v":0},{"$f":"AV47+AW47","v":0},null,null,{"$f":"IF(ISNUMBER(AZ47),(VLOOKUP(AZ47,$BO$6:$BP$50,2)),0)","v":0},{"$f":"IF(AZ47<>\"\",5,0)","v":0},{"$f":"BA47+BB47","v":0},null,null,{"$f":"IF(ISNUMBER(BE47),(VLOOKUP(BE47,$BO$6:$BP$50,2)),0)","v":0},{"$f":"IF(BE47<>\"\",5,0)","v":0},{"$f":"BF47+BG47","v":0},null,null,{"$f":"IF(ISNUMBER(BJ47),(VLOOKUP(BJ47,$BO$6:$BP$50,2)),0)","v":0},{"$f":"IF(BJ47<>\"\",5,0)","v":0},{"$f":"BK47+BL47","v":0},null,42,0,0,0,0,0,0,0,0,0]
[{"$f":"IF(E48<E47,BO48,A47)","v":31},null,null,null,null,null,null,{"$f":"IF(AA48=\"\",\"\",AA48)","v":""},{"$f":"IF(AF48=\"\",\"\",AF48)","v":""},{"$f":"IF(AK48=\"\",\"\",AK48)","v":""},{"$f":"IF(AP48=\"\",\"\",AP48)","v":""},{"$f":"IF(AU48=\"\",\"\",AU48)","v":""},{"$f":"IF(AU48=\"\",\"\",AU48)","v":""},{"$f":"IF(AZ48=\"\",\"\",AZ48)","v":""},{"$f":"IF(BE48=\"\",\"\",BE48)","v":""},null,{"$f":"AD48+AI48+AN48+AS48+AX48+BC48+BH48","v":0},{"$f":"IF($F39>=5,IF(AB48=\"\",\"\",AB48),\"\")","v":""},{"$f":"IF($F39>=5,IF(AG48=\"\",\"\",AG48),\"\")","v":""},{"$f":"IF($F39>=5,IF(AL48=\"\",\"\",AL48),\"\")","v":""},{"$f":"IF($F39>=5,IF(AQ48=\"\",\"\",AQ48),\"\")","v":""},{"$f":"IF($F39>=5,IF(AR48=\"\",\"\",AR48),\"\")","v":""},{"$f":"IF($F39>=5,IF(AV48=\"\",\"\",AV48),\"\")","v":""},{"$f":"IF($F39>=5,IF(BA48=\"\",\"\",BA48),\"\")","v":""},{"$f":"IF($F39>=5,IF(BF48=\"\",\"\",BF48),\"\")","v":""},null,null,{"$f":"IF(ISNUMBER(AA48),(VLOOKUP(AA48,$BO$6:$BP$50,2)),0)","v":0},{"$f":"IF(AA48<>\"\",5,0)","v":0},{"$f":"AB48+AC48","v":0},null,null,{"$f":"IF(ISNUMBER(AF48),(VLOOKUP(AF48,$BO$6:$BP$50,2)),0)","v":0},{"$f":"IF(AF48<>\"\",5,0)","v":0},{"$f":"AG48+AH48","v":0},null,null,{"$f":"IF(ISNUMBER(AK48),(VLOOKUP(AK48,$BO$6:$BP$50,2)),0)","v":0},{"$f":"IF(AK48<>\"\",5,0)","v":0},{"$f":"AL48+AM48","v":0},null,null,{"$f":"IF(ISNUMBER(AP48),(VLOOKUP(AP48,$BO$6:$BP$50,2)),0)","v":0},{"$f":"IF(AP48<>\"\",5,0)","v":0},{"$f":"AQ48+AR48","v":0},null,null,{"$f":"IF(ISNUMBER(AU48),(VLOOKUP(AU48,$BO$6:$BP$50,2)),0)","v":0},{"$f":"IF(AU48<>\"\",5,0)","v":0},{"$f":"AV48+AW48","v":0},null,null,{"$f":"IF(ISNUMBER(AZ48),(VLOOKUP(AZ48,$BO$6:$BP$50,2)),0)","v":0},{"$f":"IF(AZ48<>\"\",5,0)","v":0},{"$f":"BA48+BB48","v":0},null,null,{"$f":"IF(ISNUMBER(BE48),(VLOOKUP(BE48,$BO$6:$BP$50,2)),0)","v":0},{"$f":"IF(BE48<>\"\",5,0)","v":0},{"$f":"BF48+BG48","v":0},null,null,{"$f":"IF(ISNUMBER(BJ48),(VLOOKUP(BJ48,$BO$6:$BP$50,2)),0)","v":0},{"$f":"IF(BJ48<>\"\",5,0)","v":0},{"$f":"BK48+BL48","v":0},null,43,0,0,0,0,0,0,0,0,0]
[null,null,null,null,null,null,null,{"$f":"IF(AA49=\"\",\"\",AA49)","v":""},{"$f":"IF(AF49=\"\",\"\",AF49)","v":""},{"$f":"IF(AK49=\"\",\"\",AK49)","v":""},{"$f":"IF(AP49=\"\",\"\",AP49)","v":""},{"$f":"IF(AU49=\"\",\"\",AU49)","v":""},{"$f":"IF(AU49=\"\",\"\",AU49)","v":""},{"$f":"IF(AZ49=\"\",\"\",AZ49)","v":""},{"$f":"IF(BE49=\"\",\"\",BE49)","v":""},null,{"$f":"AD49+AI49+AN49+AS49+AX49+BC49+BH49","v":0},{"$f":"IF($F40>=5,IF(AB49=\"\",\"\",AB49),\"\")","v":""},{"$f":"IF($F40>=5,IF(AG49=\"\",\"\",AG49),\"\")","v":""},{"$f":"IF($F40>=5,IF(AL49=\"\",\"\",AL49),\"\")","v":""},{"$f":"IF($F40>=5,IF(AQ49=\"\",\"\",AQ49),\"\")","v":""},"",{"$f":"IF($F40>=5,IF(AV49=\"\",\"\",AV49),\"\")","v":""},{"$f":"IF($F40>=5,IF(BA49=\"\",\"\",BA49),\"\")","v":""},{"$f":"IF($F40>=5,IF(BF49=\"\",\"\",BF49),\"\")","v":""},null,null,{"$f":"IF(ISNUMBER(AA49),(VLOOKUP(AA49,$BO$6:$BP$50,2)),0)","v":0},{"$f":"IF(AA49<>\"\",5,0)","v":0},{"$f":"AB49+AC49","v":0},null,null,{"$f":"IF(ISNUMBER(AF49),(VLOOKUP(AF49,$BO$6:$BP$50,2)),0)","v":0},{"$f":"IF(AF49<>\"\",5,0)","v":0},{"$f":"AG49+AH49","v":0},null,null,{"$f":"IF(ISNUMBER(AK49),(VLOOKUP(AK49,$BO$6:$BP$50,2)),0)","v":0},{"$f":"IF(AK49<>\"\",5,0)","v":0},{"$f":"AL49+AM49","v":0},null,null,{"$f":"IF(ISNUMBER(AP49),(VLOOKUP(AP49,$BO$6:$BP$50,2)),0)","v":0},{"$f":"IF(AP49<>\"\",5,0)","v":0},{"$f":"AQ49+AR49","v":0},null,null,{"$f":"IF(ISNUMBER(AU49),(VLOOKUP(AU49,$BO$6:$BP$50,2)),0)","v":0},{"$f":"IF(AU49<>\"\",5,0)","v":0},{"$f":"AV49+AW49","v":0},null,null,{"$f":"IF(ISNUMBER(AZ49),(VLOOKUP(AZ49,$BO$6:$BP$50,2)),0)","v":0},{"$f":"IF(AZ49<>\"\",5,0)","v":0},{"$f":"BA49+BB49","v":0},null,null,{"$f":"IF(ISNUMBER(BE49),(VLOOKUP(BE49,$BO$6:$BP$50,2)),0)","v":0},{"$f":"IF(BE49<>\"\",5,0)","v":0},{"$f":"BF49+BG49","v":0},null,null,{"$f":"IF(ISNUMBER(BJ49),(VLOOKUP(BJ49,$BO$6:$BP$50,2)),0)","v":0},{"$f":"IF(BJ49<>\"\",5,0)","v":0},{"$f":"BK49+BL49","v":0},null,44,0,0,0,0,0,0,0,0,0]
[null,null,null,null,null,null,null,"","","","","","","","",null,0,"","","","","","","","",null,null,null,null,null,null,null,null,null,0,null,null,null,null,0,null,null,null,null,0,null,null,null,null,0,null,null,null,null,0,null,null,null,null,0,null,null,null,null,0,null,45,0,0,0,0,0,0,0,0,0]
[null,null,null,null,null,null,null,"","","","","","","","",null,0,"","","","","","","","",null,null,null,null,null,null,null,null,null,0,null,null,null,null,0,null,null,null,null,0,null,null,null,null,0,null,null,null,null,0,null,null,null,null,0,null,null,null,null,0,null,46,0,0,{"$f":"IF($F42=7,1,0)","v":0},0,0,0,0,0,0]
[null,null,null,null,null,null,null,"","","","","","","","",null,0,"","","","","","","","",null,null,null,null,null,null,null,null,null,0,null,null,null,null,0,null,null,null,null,0,null,null,null,null,0,null,null,null,null,0,null,null,null,null,0,null,null,null,null,0,null,47,0,0,0,0,0,0,0,0,0]
[null,null,null,null,null,null,null,null,null,null,null,null,null,null,null,null,null,null,null,null,null,null,null,null,null,null,null,null,null,null,null,null,null,null,null,null,null,null,null,null,null,null,null,null,null,null,null,null,null,null,null,null,null,null,null,null,null,null,null,null,null,null,null,null,null,null,48,0]

{"sheet":"J12 2018","index":3,"n_rows":53,"n_cols":76,"rows_kept":53,"cut":false,"hidden":false,"merged":[[0,42,0,45],[2,26,2,29],[2,31,2,34],[2,36,2,39],[2,41,2,44],[3,62,3,64],[4,7,4,14],[4,17,4,24],[2,51,2,54],[2,56,2,59],[2,61,2,64],[3,27,3,29],[3,32,3,34],[3,37,3,39],[3,42,3,44],[3,47,3,49],[3,52,3,54],[3,57,3,59],[2,46,2,49]]}
["Resultatliste Oslo Cup 2018 - Jenter 12 år"]
[{"$f":"'Forside 2018'!A2","v":"Etter 4 av 8 renn"}]
[null,null,null,null,null,null,null,"IRS Rennet","Ljan Rennet","Njård Rennet","Ready Rennet","Telenor Arena Cup","Euro-tecfarten","Oslo Alpinfestival SL","Oslo Alpinfestival SSL",null,null,"IRS Rennet","Ljan Rennet","Njård Rennet","Ready Rennet","Telenor Arena Cup","Euro-tecfarten","Oslo Alpinfestival SL","Oslo Alpinfestival SSL",null,"--------IRS Rennet----------",null,null,null,null,"----------Ljan Rennet---------",null,null,null,null,"--------Njård Rennet----------",null,null,null,null,"--------Ready Rennet---------",null,null,null,null,"-----Telenor Arena Cup----",null,null,null,null,"------Euro-tecfarten--------",null,null,null,null,"---Oslo Alpinfestival SL---",null,null,null,null,"---Oslo Alpinfestival SSL---"]
[null,null,null,null,null,"Antall",null,"2016-02-04","2016-02-05","2016-02-10","2016-02-11","2016-02-15","2016-03-01","2017-03-11","2016-03-12",null,"Poeng","2016-02-04","2016-02-05","2016-02-10","2016-02-11","2016-02-15","2016-03-01","2017-03-11","2016-03-12",null,null,"--------Poeng--------",null,null,null,null,"--------Poeng--------",null,null,null,null,"-------Poeng---------",null,null,null,null,"-------Poeng---------",null,null,null,null,"-------Poeng---------",null,null,null,null,"-------Poeng---------",null,null,null,null,"-------Poeng---------",null,null,null,null,"-------Poeng---------",null,null,null,null,null,"Løpere med ","Løpere med ","Løpere med ","Løpere med ","Løpere med ","Løpere med ","Løpere med ","Løpere med "]
["Plass","Etternavn","Fornavn","Klubb","Poeng","renn",null,"------------------------------Plassering i rennene---------------------------------",null,null,null,null,null,null,null,null,"brutto","----------------Resultatpoeng hvis mer enn 4 renn----------------",null,null,null,null,null,null,null,null,"Plass","Res.","Del.","Tot.",null,"Plass","Res.","Del.","Tot.",null,"Plass","Res.","Del.","Tot.",null,"Plass","Res.","Del.","Tot.",null,"Plass","Res.","Del.","Tot.",null,"Plass","Res.","Del.","Tot.",null,"Plass","Res.","Del.","Tot.",null,"Plass","Res.","Del.","Tot.",null,"Plass","Poeng","8 renn","7 renn","6 renn","5 renn","4 renn","3 renn","2 renn","kun 1 renn"]
[{"$f":"IF(E6<E5,BO6,A5)","v":1},"Frederiksen","Charlotte C L","Ready",{"$f":"Q6","v":320},{"$f":"(IF(AC6=5,1,0)+IF(AH6=5,1,0)+IF(AM6=5,1,0)+IF(AR6=5,1,0)+IF(AW6=5,1,0)+IF(BA6=5,1,0)+IF(BG6=5,1,0)+IF(BL6=5,1,0))","v":4},null,{"$f":"IF(AA6=\"\",\"\",AA6)","v":2},{"$f":"IF(AF6=\"\",\"\",AF6)","v":3},{"$f":"IF(AK6=\"\",\"\",AK6)","v":2},{"$f":"IF(AP6=\"\",\"\",AP6)","v":2},{"$f":"IF(AU6=\"\",\"\",AU6)","v":""},{"$f":"IF(AZ6=\"\",\"\",AZ6)","v":""},{"$f":"IF(BE6=\"\",\"\",BE6)","v":""},{"$f":"IF(BJ6=\"\",\"\",BJ6)","v":""},null,{"$f":"AD6+AI6+AN6+AS6+AX6+BC6+BH6","v":320},{"$f":"IF($F6>=5,IF(AB6=\"\",\"\",AB6),\"\")","v":""},{"$f":"IF($F6>=5,IF(AG6=\"\",\"\",AG6),\"\")","v":""},{"$f":"IF($F6>=5,IF(AL6=\"\",\"\",AL6),\"\")","v":""},{"$f":"IF($F6>=5,IF(AQ6=\"\",\"\",AQ6),\"\")","v":""},{"$f":"IF($F6>=5,IF(AV6=\"\",\"\",AV6),\"\")","v":""},{"$f":"IF($F6>=5,IF(BA6=\"\",\"\",BA6),\"\")","v":""},{"$f":"IF($F6>=5,IF(BF6=\"\",\"\",BF6),\"\")","v":""},{"$f":"IF($F6>=5,IF(BK6=\"\",\"\",BK6),\"\")","v":""},null,2,{"$f":"IF(ISNUMBER(AA6),(VLOOKUP(AA6,$BO$6:$BP$50,2)),0)","v":80},{"$f":"IF(AA6<>\"\",5,0)","v":5},{"$f":"AB6+AC6","v":85},null,3,{"$f":"IF(ISNUMBER(AF6),(VLOOKUP(AF6,$BO$6:$BP$50,2)),0)","v":60},{"$f":"IF(AF6<>\"\",5,0)","v":5},{"$f":"AG6+AH6","v":65},null,2,{"$f":"IF(ISNUMBER(AK6),(VLOOKUP(AK6,$BO$6:$BP$50,2)),0)","v":80},{"$f":"IF(AK6<>\"\",5,0)","v":5},{"$f":"AL6+AM6","v":85},null,2,{"$f":"IF(ISNUMBER(AP6),(VLOOKUP(AP6,$BO$6:$BP$50,2)),0)","v":80},{"$f":"IF(AP6<>\"\",5,0)","v":5},{"$f":"AQ6+AR6","v":85},null,null,{"$f":"IF(ISNUMBER(AU6),(VLOOKUP(AU6,$BO$6:$BP$50,2)),0)","v":0},{"$f":"IF(AU6<>\"\",5,0)","v":0},{"$f":"AV6+AW6","v":0},null,null,{"$f":"IF(ISNUMBER(AZ6),(VLOOKUP(AZ6,$BO$6:$BP$50,2)),0)","v":0},{"$f":"IF(AZ6<>\"\",5,0)","v":0},{"$f":"BA6+BB6","v":0},null,null,{"$f":"IF(ISNUMBER(BE6),(VLOOKUP(BE6,$BO$6:$BP$50,2)),0)","v":0},{"$f":"IF(BE6<>\"\",5,0)","v":0},{"$f":"BF6+BG6","v":0},null,null,{"$f":"IF(ISNUMBER(BJ6),(VLOOKUP(BJ6,$BO$6:$BP$50,2)),0)","v":0},{"$f":"IF(BJ6<>\"\",5,0)","v":0},{"$f":"BK6+BL6","v":0},null,1,100,{"$f":"IF($F6=8,1,0)","v":0},{"$f":"IF($F6=7,1,0)","v":0},{"$f":"IF($F6=6,1,0)","v":0},{"$f":"IF($F6=5,1,0)","v":0},{"$f":"IF($F6=4,1,0)","v":1},{"$f":"IF($F6=3,1,0)","v":0},{"$f":"IF($F6=2,1,0)","v":0},{"$f":"IF($F6=1,1,0)","v":0}]
[2,"Rasmussen","Cornelia Nystrøm","Heming",310,4,null,4,2,3,1,"","","","",null,310,"","","","","","","","",null,4,50,5,55,null,2,80,5,85,null,3,60,5,65,null,1,100,5,105,null,null,0,0,0,null,null,0,0,0,null,null,0,0,0,null,null,0,0,0,null,2,80,{"$f":"IF($F7=8,1,0)","v":0},0,0,0,1,0,0,0]
[3,"Wessel-aas","camilla","Heming",242,4,null,5,1,8,5,"","","","",null,242,"","","","","","","","",null,5,45,5,50,null,1,100,5,105,null,8,32,5,37,null,5,45,5,50,null,null,0,0,0,null,null,0,0,0,null,null,0,0,0,null,null,0,0,0,null,3,60,0,0,0,0,1,0,0,0]
[4,"Finn-Hansen","Nora","Heming",230,4,null,3,4,4,4,"","","","",null,230,"","","","","","","","",null,3,60,5,65,null,4,50,5,55,null,4,50,5,55,null,4,50,5,55,null,null,0,0,0,null,null,0,0,0,null,null,0,0,0,null,null,0,0,0,null,4,50,0,0,0,0,1,0,0,0]
[5,"Rasmussen","Maisen Holst","Stabæk",215,3,null,1,"dsq",1,"","","","","",null,215,"","","","","","","","",null,1,100,5,105,null,"dsq",0,5,5,null,1,100,5,105,null,null,0,0,0,null,null,0,0,0,null,null,0,0,0,null,null,0,0,0,null,null,0,0,0,null,5,45,0,0,0,0,0,1,0,0]
[6,"Aandahl","Nicola Alexandra","Ready",194,4,null,9,5,6,3,"","","","",null,194,"","","","","","","","",null,9,29,5,34,null,5,45,5,50,null,6,40,5,45,null,3,60,5,65,null,null,0,0,0,null,null,0,0,0,null,null,0,0,0,null,null,0,0,0,null,6,40,0,0,0,0,1,0,0,0]
[7,"Thorsby","Pernille","Heming",158,4,null,6,9,9,6,"","","","",null,158,"","","","","","","","",null,6,40,5,45,null,9,29,5,34,null,9,29,5,34,null,6,40,5,45,null,null,0,0,0,null,null,0,0,0,null,null,0,0,0,null,null,0,0,0,null,7,36,0,0,0,0,1,0,0,0]
[8,"Hoel","Hermine Owesen","Heming",132,3,null,7,7,5,"","","","","",null,132,"","","","","","","","",null,7,36,5,41,null,7,36,5,41,null,5,45,5,50,null,null,0,0,0,null,null,0,0,0,null,null,0,0,0,null,null,0,0,0,null,null,0,0,0,null,8,32,0,0,0,0,0,1,0,0]
[9,"Alsos","Synne","Ready",131,4,null,8,6,10,18,"","","","",null,131,"","","","","","","","",null,8,32,5,37,null,6,40,5,45,null,10,26,5,31,null,18,13,5,18,null,null,0,0,0,null,null,0,0,0,null,null,0,0,0,null,null,0,0,0,null,9,29,0,0,0,0,1,0,0,0]
[10,"Brækken","Eili","IRS",97,4,null,14,11,18,12,"","","","",null,97,"","","","","","","","",null,14,18,5,23,null,11,24,5,29,null,18,13,5,18,null,12,22,5,27,null,null,0,0,0,null,null,0,0,0,null,null,0,0,0,null,null,0,0,0,null,10,26,0,0,0,0,1,0,0,0]
[11,"Bjørnstad","Erika Scheid","IRS",88,4,null,13,10,23,17,"","","","",null,88,"","","","","","","","",null,13,20,5,25,null,10,26,5,31,null,23,8,5,13,null,17,14,5,19,null,null,0,0,0,null,null,0,0,0,null,null,0,0,0,null,null,0,0,0,null,11,24,0,0,0,0,1,0,0,0]
[12,"Granerud","Cornelie Hemme","Ljan",80,4,null,"dnf","dsq",11,7,"","","","",null,80,"","","","","","","","",null,"dnf",0,5,5,null,"dsq",0,5,5,null,11,24,5,29,null,7,36,5,41,null,null,0,0,0,null,null,0,0,0,null,null,0,0,0,null,null,0,0,0,null,12,22,0,0,0,0,1,0,0,0]
[13,"Solheim","Cornelia Margrethe Lysne","Njård",78,3,null,15,"",14,9,"","","","",null,78,"","","","","","","","",null,15,16,5,21,null,null,0,0,0,null,14,18,5,23,null,9,29,5,34,null,null,0,0,0,null,null,0,0,0,null,null,0,0,0,null,null,0,0,0,null,13,20,0,{"$f":"IF($F17=7,1,0)","v":0},{"$f":"IF($F17=6,1,0)","v":0},{"$f":"IF($F17=5,1,0)","v":0},{"$f":"IF($F17=4,1,0)","v":1},{"$f":"IF($F17=3,1,0)","v":0},{"$f":"IF($F17=2,1,0)","v":0},{"$f":"IF($F17=1,1,0)","v":0}]
[14,"Sartz-Lunde","Emily Nell","Heming",72,2,null,"","",7,10,"","","","",null,72,"","","","","","","","",null,null,0,0,0,null,null,0,0,0,null,7,36,5,41,null,10,26,5,31,null,null,0,0,0,null,null,0,0,0,null,null,0,0,0,null,null,0,0,0,null,14,18,0,{"$f":"IF($F18=7,1,0)","v":0},{"$f":"IF($F18=6,1,0)","v":0},{"$f":"IF($F18=5,1,0)","v":0},{"$f":"IF($F18=4,1,0)","v":0},{"$f":"IF($F18=3,1,0)","v":1},{"$f":"IF($F18=2,1,0)","v":0},{"$f":"IF($F18=1,1,0)","v":0}]
[15,"Horgen","Alexandra Astrup","Heming",68,2,null,10,8,"","","","","","",null,68,"","","","","","","","",null,10,26,5,31,null,8,32,5,37,null,null,0,0,0,null,null,0,0,0,null,null,0,0,0,null,null,0,0,0,null,null,0,0,0,null,null,0,0,0,null,15,16,0,{"$f":"IF($F19=7,1,0)","v":0},{"$f":"IF($F19=6,1,0)","v":0},{"$f":"IF($F19=5,1,0)","v":0},{"$f":"IF($F19=4,1,0)","v":0},{"$f":"IF($F19=3,1,0)","v":0},{"$f":"IF($F19=2,1,0)","v":1},{"$f":"IF($F19=1,1,0)","v":0}]
[16,"Solhusløkk","Carina","IRS",66,4,null,18,16,24,20,"","","","",null,66,"","","","",null,"","","",null,18,13,5,18,null,16,15,5,20,null,24,7,5,12,null,20,11,5,16,null,null,0,0,0,null,null,0,0,0,null,null,0,0,0,null,null,0,0,0,null,16,15,0,{"$f":"IF($F19=7,1,0)","v":0},{"$f":"IF($F19=6,1,0)","v":0},{"$f":"IF($F19=5,1,0)","v":0},{"$f":"IF($F19=4,1,0)","v":0},{"$f":"IF($F19=3,1,0)","v":0},{"$f":"IF($F19=2,1,0)","v":1},{"$f":"IF($F19=1,1,0)","v":0}]
[17,"Norstrand","Nicoline","Heming",64,2,null,"","",12,8,"","","","",null,64,"","","","",{"$f":"IF($F22>=5,IF(AV22=\"\",\"\",AV22),\"\")","v":""},"","","",null,null,0,0,0,null,null,0,0,0,null,12,22,5,27,null,8,32,5,37,null,null,0,0,0,null,null,0,0,0,null,null,0,0,0,null,null,0,0,0,null,17,14,0,0,0,0,0,0,1,0]
[18,"Rustad","PetronellaG","Njård",59,3,null,17,"",19,14,"","","","",null,59,"","","","","","","","",null,17,14,5,19,null,null,0,0,0,null,19,12,5,17,null,14,18,5,23,null,null,0,0,0,null,null,0,0,0,null,null,0,0,0,null,null,0,0,0,null,18,13,0,0,0,0,1,0,0,0]
[19,"Dynna","Nathalie Østnes","IRS",54,3,null,11,"dsq","",16,"","","","",null,54,"","","","","","","","",null,11,24,5,29,null,"dsq",0,5,5,null,null,0,0,0,null,16,15,5,20,null,null,0,0,0,null,null,0,0,0,null,null,0,0,0,null,null,0,0,0,null,19,12,0,0,0,0,0,0,1,0]
[19,"Moen","Magda","Kjelsås",54,3,null,"","dsq",16,11,"","","","",null,54,"","","","","","","","",null,null,0,0,0,null,"dsq",0,5,5,null,16,15,5,20,null,11,24,5,29,null,null,0,0,0,null,null,0,0,0,null,null,0,0,0,null,null,0,0,0,null,20,11,0,0,0,0,0,1,0,0]
[21,"Swenson","Lily Aster Larsdatter","Ljan",51,3,null,"dsq",13,"",15,"","","","",null,51,"","","","","","","","",null,"dsq",0,5,5,null,13,20,5,25,null,null,0,0,0,null,15,16,5,21,null,null,0,0,0,null,null,0,0,0,null,null,0,0,0,null,null,0,0,0,null,21,10,0,0,0,0,0,1,0,0]
[22,"Talen","Henriette Young","Heming",47,2,null,16,12,"","","","","","",null,47,"","","","","","","","",null,16,15,5,20,null,12,22,5,27,null,null,0,0,0,null,null,0,0,0,null,null,0,0,0,null,null,0,0,0,null,null,0,0,0,null,null,0,0,0,null,22,9,0,0,0,0,0,1,0,0]
[23,"Øye","Alva Østnes","IRS",46,2,null,12,17,"","","","","","",null,46,"","","","","","","","",null,12,22,5,27,null,17,14,5,19,null,null,0,0,0,null,null,0,0,0,null,null,0,0,0,null,null,0,0,0,null,null,0,0,0,null,null,0,0,0,null,23,8,0,{"$f":"IF($F23=7,1,0)","v":0},{"$f":"IF($F23=6,1,0)","v":0},{"$f":"IF($F23=5,1,0)","v":0},{"$f":"IF($F23=4,1,0)","v":0},{"$f":"IF($F23=3,1,0)","v":1},{"$f":"IF($F23=2,1,0)","v":0},{"$f":"IF($F23=1,1,0)","v":0}]
[24,"Solberg","Erle","Ready",45,3,null,"dsq",14,"",19,"","","","",null,45,"","","","","","","","",null,"dsq",0,5,5,null,14,18,5,23,null,null,0,0,0,null,19,12,5,17,null,null,0,0,0,null,null,0,0,0,null,null,0,0,0,null,null,0,0,0,null,24,7,0,{"$f":"IF($F24=7,1,0)","v":0},{"$f":"IF($F24=6,1,0)","v":0},{"$f":"IF($F24=5,1,0)","v":0},{"$f":"IF($F24=4,1,0)","v":0},{"$f":"IF($F24=3,1,0)","v":1},{"$f":"IF($F24=2,1,0)","v":0},{"$f":"IF($F24=1,1,0)","v":0}]
[25,"Brandi","Philippa","Ready",36,2,null,"","",15,21,"",{"$f":"IF(AZ30=\"\",\"\",AZ30)","v":""},{"$f":"IF(BE30=\"\",\"\",BE30)","v":""},{"$f":"IF(BJ30=\"\",\"\",BJ30)","v":""},null,36,{"$f":"IF($F30>=5,IF(AB30=\"\",\"\",AB30),\"\")","v":""},{"$f":"IF($F30>=5,IF(AG30=\"\",\"\",AG30),\"\")","v":""},{"$f":"IF($F30>=5,IF(AL30=\"\",\"\",AL30),\"\")","v":""},{"$f":"IF($F30>=5,IF(AQ30=\"\",\"\",AQ30),\"\")","v":""},{"$f":"IF($F30>=5,IF(AV30=\"\",\"\",AV30),\"\")","v":""},{"$f":"IF($F30>=5,IF(BA30=\"\",\"\",BA30),\"\")","v":""},{"$f":"IF($F30>=5,IF(BF30=\"\",\"\",BF30),\"\")","v":""},{"$f":"IF($F30>=5,IF(BK30=\"\",\"\",BK30),\"\")","v":""},null,null,0,0,0,null,null,0,0,0,null,15,16,5,21,null,21,10,5,15,null,null,0,0,0,null,null,0,0,0,null,null,0,0,0,null,null,0,0,0,null,25,6,0,{"$f":"IF($F25=7,1,0)","v":0},{"$f":"IF($F25=6,1,0)","v":0},{"$f":"IF($F25=5,1,0)","v":0},{"$f":"IF($F25=4,1,0)","v":0},{"$f":"IF($F25=3,1,0)","v":1},{"$f":"IF($F25=2,1,0)","v":0},{"$f":"IF($F25=1,1,0)","v":0}]
[26,"Øverby","Erle Christine Nyborg","Njård",27,2,null,"","",22,23,"","","","",null,27,"","","","","","","","",null,null,0,0,0,null,null,0,0,0,null,22,9,5,14,null,23,8,5,13,null,null,0,0,0,null,null,0,0,0,null,null,0,0,0,null,null,0,0,0,null,26,5,0,{"$f":"IF($F25=7,1,0)","v":0},{"$f":"IF($F25=6,1,0)","v":0},{"$f":"IF($F25=5,1,0)","v":0},{"$f":"IF($F25=4,1,0)","v":0},{"$f":"IF($F25=3,1,0)","v":1},{"$f":"IF($F25=2,1,0)","v":0},{"$f":"IF($F25=1,1,0)","v":0}]
[27,"Bruseth","Sienna Grande","Ullensaker",25,1,null,"","",13,"","","","","",null,25,"","","","","","","","",null,null,0,0,0,null,null,0,0,0,null,13,20,5,25,null,null,0,0,0,null,null,0,0,0,null,null,0,0,0,null,null,0,0,0,null,null,0,0,0,null,27,4,0,{"$f":"IF($F26=7,1,0)","v":0},{"$f":"IF($F26=6,1,0)","v":0},{"$f":"IF($F26=5,1,0)","v":0},{"$f":"IF($F26=4,1,0)","v":0},{"$f":"IF($F26=3,1,0)","v":1},{"$f":"IF($F26=2,1,0)","v":0},{"$f":"IF($F26=1,1,0)","v":0}]
[27,"Benjamin-Wormdahl","Sarah Louise","Heming",25,1,null,"","","",13,"","","","",null,25,"","","","","","","","",null,null,0,0,0,null,null,0,0,0,null,null,0,0,0,null,13,20,5,25,null,null,0,0,0,null,null,0,0,0,null,null,0,0,0,null,null,0,0,0,null,28,3,0,0,0,0,0,0,1,0]
[29,"Hurlen","Hermine Erichsen","Njård",24,2,null,"","",26,22,"","","","",null,24,"","","","","","","","",null,null,0,0,0,null,null,0,0,0,null,26,5,5,10,null,22,9,5,14,null,null,0,0,0,null,null,0,0,0,null,null,0,0,0,null,null,0,0,0,null,29,2,0,0,0,0,0,0,1,0]
[30,"Rabben","Ella","Ljan",21,1,null,"",15,"","","","","","",null,21,"","","","","","","","",null,null,0,0,0,null,15,16,5,21,null,null,0,0,0,null,null,0,0,0,null,null,0,0,0,null,null,0,0,0,null,null,0,0,0,null,null,0,0,0,null,30,1,0,{"$f":"IF($F26=7,1,0)","v":0},{"$f":"IF($F26=6,1,0)","v":0},{"$f":"IF($F26=5,1,0)","v":0},{"$f":"IF($F26=4,1,0)","v":0},{"$f":"IF($F26=3,1,0)","v":1},{"$f":"IF($F26=2,1,0)","v":0},{"$f":"IF($F26=1,1,0)","v":0}]
[31,"Aardal","Mina","NERO",19,1,null,"","",17,"","","","","",null,19,"","","","","","","","",null,null,0,0,0,null,null,0,0,0,null,17,14,5,19,null,null,0,0,0,null,null,0,0,0,null,null,0,0,0,null,null,0,0,0,null,null,0,0,0,null,31,0,0,0,0,0,0,0,1,0]
[32,"Oustad","Mina Foronda","NERO",16,1,null,"","",20,"","","","","",null,16,"","","","","","","","",null,null,0,0,0,null,null,0,0,0,null,20,11,5,16,null,null,0,0,0,null,null,0,0,0,null,null,0,0,0,null,null,0,0,0,null,null,0,0,0,null,32,0,0,0,0,0,0,0,1,0]
[33,"Hystad","Fanny","HSIL",15,1,null,"","",21,"","","","","",null,15,"","","","","","","","",null,null,0,0,0,null,null,0,0,0,null,21,10,5,15,null,null,0,0,0,null,null,0,0,0,null,null,0,0,0,null,null,0,0,0,null,null,0,0,0,null,33,0,0,0,0,0,0,1,0,0]
[34,"Rastad","Julie Christine Høisæter","Njård",11,1,null,"","",25,"","","","","",null,11,"","","","","","","","",null,null,0,0,0,null,null,0,0,0,null,25,6,5,11,null,null,0,0,0,null,null,0,0,0,null,null,0,0,0,null,null,0,0,0,null,null,0,0,0,null,34,0,0,0,0,0,0,0,1,0]
[35,"Beck","Mari","Ullensaker",5,1,null,"dnf","","","","",{"$f":"IF(AZ40=\"\",\"\",AZ40)","v":""},{"$f":"IF(BE40=\"\",\"\",BE40)","v":""},{"$f":"IF(BJ40=\"\",\"\",BJ40)","v":""},null,5,{"$f":"IF($F40>=5,IF(AB40=\"\",\"\",AB40),\"\")","v":""},{"$f":"IF($F40>=5,IF(AG40=\"\",\"\",AG40),\"\")","v":""},{"$f":"IF($F40>=5,IF(AL40=\"\",\"\",AL40),\"\")","v":""},{"$f":"IF($F40>=5,IF(AQ40=\"\",\"\",AQ40),\"\")","v":""},{"$f":"IF($F40>=5,IF(AV40=\"\",\"\",AV40),\"\")","v":""},{"$f":"IF($F40>=5,IF(BA40=\"\",\"\",BA40),\"\")","v":""},{"$f":"IF($F40>=5,IF(BF40=\"\",\"\",BF40),\"\")","v":""},"",null,"dnf",0,5,5,null,null,0,0,0,null,null,0,0,0,null,null,0,0,0,null,null,0,0,0,null,null,0,0,0,null,null,0,0,0,null,null,0,0,0,null,35,0,0,0,0,0,0,0,1,0]
[36,null,null,null,0,0,null,"","","","","",{"$f":"IF(AZ41=\"\",\"\",AZ41)","v":""},{"$f":"IF(BE41=\"\",\"\",BE41)","v":""},{"$f":"IF(BJ41=\"\",\"\",BJ41)","v":""},null,0,{"$f":"IF($F41>=5,IF(AB41=\"\",\"\",AB41),\"\")","v":""},{"$f":"IF($F41>=5,IF(AG41=\"\",\"\",AG41),\"\")","v":""},{"$f":"IF($F41>=5,IF(AL41=\"\",\"\",AL41),\"\")","v":""},{"$f":"IF($F41>=5,IF(AQ41=\"\",\"\",AQ41),\"\")","v":""},{"$f":"IF($F41>=5,IF(AV41=\"\",\"\",AV41),\"\")","v":""},{"$f":"IF($F41>=5,IF(BA41=\"\",\"\",BA41),\"\")","v":""},{"$f":"IF($F41>=5,IF(BF41=\"\",\"\",BF41),\"\")","v":""},{"$f":"IF($F41>=5,IF(BK41=\"\",\"\",BK41),\"\")","v":""},null,null,0,0,0,null,null,0,0,0,null,null,0,0,0,null,null,0,0,0,null,null,0,0,0,null,null,0,0,0,null,null,0,0,0,null,null,0,0,0,null,36,0,0,0,0,0,0,0,0,1]
[36,null,null,null,0,0,null,"","","","","",{"$f":"IF(AU42=\"\",\"\",AU42)","v":""},{"$f":"IF(AZ42=\"\",\"\",AZ42)","v":""},{"$f":"IF(BE42=\"\",\"\",BE42)","v":""},null,0,{"$f":"IF($F33>=5,IF(AB42=\"\",\"\",AB42),\"\")","v":""},{"$f":"IF($F33>=5,IF(AG42=\"\",\"\",AG42),\"\")","v":""},{"$f":"IF($F33>=5,IF(AL42=\"\",\"\",AL42),\"\")","v":""},{"$f":"IF($F33>=5,IF(AQ42=\"\",\"\",AQ42),\"\")","v":""},"",{"$f":"IF($F33>=5,IF(AV42=\"\",\"\",AV42),\"\")","v":""},{"$f":"IF($F33>=5,IF(BA42=\"\",\"\",BA42),\"\")","v":""},{"$f":"IF($F33>=5,IF(BF42=\"\",\"\",BF42),\"\")","v":""},null,null,0,0,0,null,null,0,0,0,null,null,0,0,0,null,null,0,0,0,null,null,0,0,0,null,null,0,0,0,null,null,0,0,0,null,null,0,0,0,null,37,0,0,0,0,0,0,0,0,1]
[36,null,null,null,0,0,null,"","","","","","","","",null,0,"","","","","","","","",null,null,0,0,0,null,null,0,0,0,null,null,0,0,0,null,null,0,0,0,null,null,0,0,0,null,null,0,0,0,null,null,0,0,0,null,null,0,0,0,null,38,0,0,0,0,0,0,0,1,0]
[36,null,null,null,0,0,null,"","","","","","","","",null,0,"","","","","","","","",null,null,0,0,0,null,null,0,0,0,null,null,0,0,0,null,null,0,0,0,null,null,0,0,0,null,null,0,0,0,null,null,0,0,0,null,null,0,0,0,null,39,0,0,0,0,0,0,0,0,1]
[36,null,null,null,0,0,null,"","","","","","","","",null,0,"","","","","","","","",null,null,0,0,0,null,null,0,0,0,null,null,0,0,0,null,null,0,0,0,null,null,0,0,0,null,null,0,0,0,null,null,0,0,0,null,null,0,0,0,null,40,0,0,0,0,0,0,0,0,1]
[36,null,null,null,0,0,null,"","","","","","","","",null,0,"","","","","","","","",null,null,0,0,0,null,null,0,0,0,null,null,0,0,0,null,null,0,0,0,null,null,0,0,0,null,null,0,0,0,null,null,0,0,0,null,null,0,0,0,null,41,0,0,0,0,0,0,0,0,1]
[36,null,null,null,0,0,null,"","","","","","","","",null,0,"","","","","","","","",null,null,0,0,0,null,null,0,0,0,null,null,0,0,0,null,null,0,0,0,null,null,0,0,0,null,null,0,0,0,null,null,0,0,0,null,null,0,0,0,null,42,0,0,0,0,0,0,0,0,1]
[36,null,null,null,0,0,null,"","","","","","","","",null,0,"","","","","","","","",null,null,0,0,0,null,null,0,0,0,null,null,0,0,0,null,null,0,0,0,null,null,0,0,0,null,null,0,0,0,null,null,0,0,0,null,null,0,0,0,null,43,0,0,0,0,0,0,0,0,1]
[null,null,null,null,null,null,null,{"$f":"IF(AA49=\"\",\"\",AA49)","v":""},{"$f":"IF(AF49=\"\",\"\",AF49)","v":""},{"$f":"IF(AK49=\"\",\"\",AK49)","v":""},{"$f":"IF(AP49=\"\",\"\",AP49)","v":""},{"$f":"IF(AU49=\"\",\"\",AU49)","v":""},{"$f":"IF(AU49=\"\",\"\",AU49)","v":""},{"$f":"IF(AZ49=\"\",\"\",AZ49)","v":""},{"$f":"IF(BE49=\"\",\"\",BE49)","v":""},null,{"$f":"AD49+AI49+AN49+AS49+AX49+BC49+BH49","v":0},{"$f":"IF($F40>=5,IF(AB49=\"\",\"\",AB49),\"\")","v":""},{"$f":"IF($F40>=5,IF(AG49=\"\",\"\",AG49),\"\")","v":""},{"$f":"IF($F40>=5,IF(AL49=\"\",\"\",AL49),\"\")","v":""},{"$f":"IF($F40>=5,IF(AQ49=\"\",\"\",AQ49),\"\")","v":""},"",{"$f":"IF($F40>=5,IF(AV49=\"\",\"\",AV49),\"\")","v":""},{"$f":"IF($F40>=5,IF(BA49=\"\",\"\",BA49),\"\")","v":""},{"$f":"IF($F40>=5,IF(BF49=\"\",\"\",BF49),\"\")","v":""},null,null,{"$f":"IF(ISNUMBER(AA49),(VLOOKUP(AA49,$BO$6:$BP$50,2)),0)","v":0},{"$f":"IF(AA49<>\"\",5,0)","v":0},{"$f":"AB49+AC49","v":0},null,null,{"$f":"IF(ISNUMBER(AF49),(VLOOKUP(AF49,$BO$6:$BP$50,2)),0)","v":0},{"$f":"IF(AF49<>\"\",5,0)","v":0},{"$f":"AG49+AH49","v":0},null,null,{"$f":"IF(ISNUMBER(AK49),(VLOOKUP(AK49,$BO$6:$BP$50,2)),0)","v":0},{"$f":"IF(AK49<>\"\",5,0)","v":0},{"$f":"AL49+AM49","v":0},null,null,{"$f":"IF(ISNUMBER(AP49),(VLOOKUP(AP49,$BO$6:$BP$50,2)),0)","v":0},{"$f":"IF(AP49<>\"\",5,0)","v":0},{"$f":"AQ49+AR49","v":0},null,null,{"$f":"IF(ISNUMBER(AU49),(VLOOKUP(AU49,$BO$6:$BP$50,2)),0)","v":0},{"$f":"IF(AU49<>\"\",5,0)","v":0},{"$f":"AV49+AW49","v":0},null,null,{"$f":"IF(ISNUMBER(AZ49),(VLOOKUP(AZ49,$BO$6:$BP$50,2)),0)","v":0},{"$f":"IF(AZ49<>\"\",5,0)","v":0},{"$f":"BA49+BB49","v":0},null,null,{"$f":"IF(ISNUMBER(BE49),(VLOOKUP(BE49,$BO$6:$BP$50,2)),0)","v":0},{"$f":"IF(BE49<>\"\",5,0)","v":0},{"$f":"BF49+BG49","v":0},null,null,{"$f":"IF(ISNUMBER(BJ49),(VLOOKUP(BJ49,$BO$6:$BP$50,2)),0)","v":0},{"$f":"IF(BJ49<>\"\",5,0)","v":0},{"$f":"BK49+BL49","v":0},null,44,0,0,0,0,0,0,0,0,1]
[null,null,null,null,null,null,null,"","","","","","","","",null,0,"","","","","","","","",null,null,null,null,null,null,null,null,null,0,null,null,null,null,0,null,null,null,null,0,null,null,null,null,0,null,null,null,null,0,null,null,null,null,0,null,null,{"$f":"IF(ISNUMBER(BJ50),(VLOOKUP(BJ50,$BO$6:$BP$50,2)),0)","v":0},{"$f":"IF(BJ50<>\"\",5,0)","v":0},{"$f":"BK50+BL50","v":0},null,45,0,0,0,0,0,0,0,0,0]
[null,null,null,null,null,null,null,"","","","","","","","",null,0,"","","","","","","","",null,null,null,null,null,null,null,null,null,0,null,null,null,null,0,null,null,null,null,0,null,null,null,null,0,null,null,null,null,0,null,null,null,null,0,null,null,0,0,0,null,46,0,0,{"$f":"IF($F42=7,1,0)","v":0},0,0,0,0,0,0]
[null,null,null,null,null,null,null,"","","","","","","","",null,0,"","","","","","","","",null,null,null,null,null,null,null,null,null,0,null,null,null,null,0,null,null,null,null,0,null,null,null,null,0,null,null,null,null,0,null,null,null,null,0,null,null,0,0,0,null,47,0,0,0,0,0,0,0,0,0]
[null,null,null,null,null,null,null,null,null,null,null,null,null,null,null,null,null,null,null,null,null,null,null,null,null,null,null,null,null,null,null,null,null,null,null,null,null,null,null,null,null,null,null,null,null,null,null,null,null,null,null,null,null,null,null,null,null,null,null,null,null,null,0,0,0,null,48,0,0,0,0,0,0,0,0,0]

{"sheet":"G12 2018","index":4,"n_rows":56,"n_cols":76,"rows_kept":56,"cut":false,"hidden":false,"merged":[[0,42,0,45],[2,26,2,29],[2,31,2,34],[2,36,2,39],[2,41,2,44],[3,62,3,64],[4,7,4,14],[4,17,4,24],[2,51,2,54],[2,56,2,59],[2,61,2,64],[3,27,3,29],[3,32,3,34],[3,37,3,39],[3,42,3,44],[3,47,3,49],[3,52,3,54],[3,57,3,59],[2,46,2,49]]}
["Resultatliste Oslo Cup 2018 - Gutter 12 år"]
[{"$f":"'Forside 2018'!A2","v":"Etter 4 av 8 renn"}]
[null,null,null,null,null,null,null,"IRS Rennet","Ljan Rennet","Njård Rennet","Ready Rennet","Telenor Arena Cup","Euro-tecfarten","Oslo Alpinfestival SL","Oslo Alpinfestival SSL",null,null,"IRS Rennet","Ljan Rennet","Njård Rennet","Ready Rennet","Telenor Arena Cup","Euro-tecfarten","Oslo Alpinfestival SL","Oslo Alpinfestival SSL",null,"--------IRS Rennet----------",null,null,null,null,"----------Ljan Rennet---------",null,null,null,null,"--------Njård Rennet----------",null,null,null,null,"--------Ready Rennet---------",null,null,null,null,"-----Telenor Arena Cup----",null,null,null,null,"------Euro-tecfarten--------",null,null,null,null,"---Oslo Alpinfestival SL---",null,null,null,null,"---Oslo Alpinfestival SSL---"]
[null,null,null,null,null,"Antall",null,"2016-02-04","2016-02-05","2016-02-10","2016-02-11","2016-02-15","2016-03-01","2017-03-11","2016-03-12",null,"Poeng","2016-02-04","2016-02-05","2016-02-10","2016-02-11","2016-02-15","2016-03-01","2017-03-11","2016-03-12",null,null,"--------Poeng--------",null,null,null,null,"--------Poeng--------",null,null,null,null,"-------Poeng---------",null,null,null,null,"-------Poeng---------",null,null,null,null,"-------Poeng---------",null,null,null,null,"-------Poeng---------",null,null,null,null,"-------Poeng---------",null,null,null,null,"-------Poeng---------",null,null,null,null,null,"Løpere med ","Løpere med ","Løpere med ","Løpere med ","Løpere med ","Løpere med ","Løpere med ","Løpere med "]
["Plass","Etternavn","Fornavn","Klubb","Poeng","renn",null,"------------------------------Plassering i rennene---------------------------------",null,null,null,null,null,null,null,null,"brutto","----------------Resultatpoeng hvis mer enn 4 renn----------------",null,null,null,null,null,null,null,null,"Plass","Res.","Del.","Tot.",null,"Plass","Res.","Del.","Tot.",null,"Plass","Res.","Del.","Tot.",null,"Plass","Res.","Del.","Tot.",null,"Plass","Res.","Del.","Tot.",null,"Plass","Res.","Del.","Tot.",null,"Plass","Res.","Del.","Tot.",null,"Plass","Res.","Del.","Tot.",null,"Plass","Poeng","8 renn","7 renn","6 renn","5 renn","4 renn","3 renn","2 renn","kun 1 renn"]
[{"$f":"IF(E6<E5,BO6,A5)","v":1},"Polmar","Ola Skaar","Heming",{"$f":"Q6","v":309},{"$f":"(IF(AC6=5,1,0)+IF(AH6=5,1,0)+IF(AM6=5,1,0)+IF(AR6=5,1,0)+IF(AW6=5,1,0)+IF(BA6=5,1,0)+IF(BG6=5,1,0)+IF(BL6=5,1,0))","v":4},null,{"$f":"IF(AA6=\"\",\"\",AA6)","v":1},{"$f":"IF(AF6=\"\",\"\",AF6)","v":9},{"$f":"IF(AK6=\"\",\"\",AK6)","v":3},{"$f":"IF(AP6=\"\",\"\",AP6)","v":1},{"$f":"IF(AU6=\"\",\"\",AU6)","v":""},{"$f":"IF(AZ6=\"\",\"\",AZ6)","v":""},{"$f":"IF(BE6=\"\",\"\",BE6)","v":""},{"$f":"IF(BJ6=\"\",\"\",BJ6)","v":""},null,{"$f":"AD6+AI6+AN6+AS6+AX6+BC6+BH6","v":309},{"$f":"IF($F6>=5,IF(AB6=\"\",\"\",AB6),\"\")","v":""},{"$f":"IF($F6>=5,IF(AG6=\"\",\"\",AG6),\"\")","v":""},{"$f":"IF($F6>=5,IF(AL6=\"\",\"\",AL6),\"\")","v":""},{"$f":"IF($F6>=5,IF(AQ6=\"\",\"\",AQ6),\"\")","v":""},{"$f":"IF($F6>=5,IF(AV6=\"\",\"\",AV6),\"\")","v":""},{"$f":"IF($F6>=5,IF(BA6=\"\",\"\",BA6),\"\")","v":""},{"$f":"IF($F6>=5,IF(BF6=\"\",\"\",BF6),\"\")","v":""},{"$f":"IF($F6>=5,IF(BK6=\"\",\"\",BK6),\"\")","v":""},null,1,{"$f":"IF(ISNUMBER(AA6),(VLOOKUP(AA6,$BO$6:$BP$50,2)),0)","v":100},{"$f":"IF(AA6<>\"\",5,0)","v":5},{"$f":"AB6+AC6","v":105},null,9,{"$f":"IF(ISNUMBER(AF6),(VLOOKUP(AF6,$BO$6:$BP$50,2)),0)","v":29},{"$f":"IF(AF6<>\"\",5,0)","v":5},{"$f":"AG6+AH6","v":34},null,3,{"$f":"IF(ISNUMBER(AK6),(VLOOKUP(AK6,$BO$6:$BP$50,2)),0)","v":60},{"$f":"IF(AK6<>\"\",5,0)","v":5},{"$f":"AL6+AM6","v":65},null,1,{"$f":"IF(ISNUMBER(AP6),(VLOOKUP(AP6,$BO$6:$BP$50,2)),0)","v":100},{"$f":"IF(AP6<>\"\",5,0)","v":5},{"$f":"AQ6+AR6","v":105},null,null,{"$f":"IF(ISNUMBER(AU6),(VLOOKUP(AU6,$BO$6:$BP$50,2)),0)","v":0},{"$f":"IF(AU6<>\"\",5,0)","v":0},{"$f":"AV6+AW6","v":0},null,null,{"$f":"IF(ISNUMBER(AZ6),(VLOOKUP(AZ6,$BO$6:$BP$50,2)),0)","v":0},{"$f":"IF(AZ6<>\"\",5,0)","v":0},{"$f":"BA6+BB6","v":0},null,null,{"$f":"IF(ISNUMBER(BE6),(VLOOKUP(BE6,$BO$6:$BP$50,2)),0)","v":0},{"$f":"IF(BE6<>\"\",5,0)","v":0},{"$f":"BF6+BG6","v":0},null,null,{"$f":"IF(ISNUMBER(BJ6),(VLOOKUP(BJ6,$BO$6:$BP$50,2)),0)","v":0},{"$f":"IF(BJ6<>\"\",5,0)","v":0},{"$f":"BK6+BL6","v":0},null,1,100,{"$f":"IF($F6=8,1,0)","v":0},{"$f":"IF($F6=7,1,0)","v":0},{"$f":"IF($F6=6,1,0)","v":0},{"$f":"IF($F6=5,1,0)","v":0},{"$f":"IF($F6=4,1,0)","v":1},{"$f":"IF($F6=3,1,0)","v":0},{"$f":"IF($F6=2,1,0)","v":0},{"$f":"IF($F6=1,1,0)","v":0}]
[2,"Wroll-Evensen","Mikkel","Heming",246,4,null,4,1,7,6,"","","","",null,{"$f":"AD7+AI7+AN7+AS7+AX7+BC7+BH7","v":246},"","","","",null,"","","",null,4,50,5,55,null,1,100,5,105,null,7,36,5,41,null,6,40,5,45,null,null,0,0,0,null,null,0,0,0,null,null,0,0,0,null,null,0,0,0,null,2,80,{"$f":"IF($F7=8,1,0)","v":0},0,0,0,1,0,0,0]
[3,"Sundborn","William Alexander","Heming",225,4,null,2,"dsq",5,2,"","","","",null,{"$f":"AD8+AI8+AN8+AS8+AX8+BC8+BH8","v":225},"","","","",{"$f":"IF($F8>=5,IF(AV8=\"\",\"\",AV8),\"\")","v":""},"","","",null,2,80,5,85,null,"dsq",0,5,5,null,5,45,5,50,null,2,80,5,85,null,null,0,0,0,null,null,0,0,0,null,null,0,0,0,null,null,0,0,0,null,3,60,0,0,0,0,1,0,0,0]
[4,"Rølles","Axel Friis","Ready",200,4,null,13,4,4,3,"","","","",null,{"$f":"AD9+AI9+AN9+AS9+AX9+BC9+BH9","v":200},"","","","","","","","",null,13,20,5,25,null,4,50,5,55,null,4,50,5,55,null,3,60,5,65,null,null,0,0,0,null,null,0,0,0,null,null,0,0,0,null,null,0,0,0,null,4,50,0,0,0,0,1,0,0,0]
[5,"Hiorth","Felix","Heming",190,4,null,"dsq",2,6,4,"","","","",null,190,"","","","","","","","",null,"dsq",0,5,5,null,2,80,5,85,null,6,40,5,45,null,4,50,5,55,null,null,0,0,0,null,null,0,0,0,null,null,0,0,0,null,null,0,0,0,null,5,45,0,0,0,0,1,0,0,0]
[6,"Brevik","Magnus","Ljan",171,4,null,5,3,12,11,"","","","",null,171,"","","","","","","","",null,5,45,5,50,null,3,60,5,65,null,12,22,5,27,null,11,24,5,29,null,null,0,0,0,null,null,0,0,0,null,null,0,0,0,null,null,0,0,0,null,6,40,0,0,0,0,1,0,0,0]
[7,"Spone","Fabian","Heming",167,4,null,6,5,10,7,"","","","",null,167,"","","","","","","","",null,6,40,5,45,null,5,45,5,50,null,10,26,5,31,null,7,36,5,41,null,null,0,0,0,null,null,0,0,0,null,null,0,0,0,null,null,0,0,0,null,7,36,0,0,0,0,1,0,0,0]
[8,"Halvorsen","Mathias Nyhus","Heming",155,4,null,14,6,8,5,"","","","",null,155,"","","","","","","","",null,14,18,5,23,null,6,40,5,45,null,8,32,5,37,null,5,45,5,50,null,null,0,0,0,null,null,0,0,0,null,null,0,0,0,null,null,0,0,0,null,8,32,0,0,0,0,1,0,0,0]
[{"$f":"IF(E14<E13,BO15,A13)","v":10},"Torpe","Aleksander Berg","Stabæk",105,1,null,"","",1,"","",{"$f":"IF(AU14=\"\",\"\",AU14)","v":""},{"$f":"IF(AZ14=\"\",\"\",AZ14)","v":""},{"$f":"IF(BE14=\"\",\"\",BE14)","v":""},null,105,"","","","","","","","",null,null,0,0,0,null,null,0,0,0,null,1,100,5,105,null,null,0,0,0,null,null,0,0,0,null,null,0,0,0,null,null,0,0,0,null,null,0,0,0,null,9,29,0,0,0,0,0,0,0,1]
[11,"Andersen","Fredrik","NERO",85,1,null,"","",2,"","",{"$f":"IF(AU15=\"\",\"\",AU15)","v":""},{"$f":"IF(AZ15=\"\",\"\",AZ15)","v":""},{"$f":"IF(BE15=\"\",\"\",BE15)","v":""},null,85,{"$f":"IF($F15>=5,IF(AB15=\"\",\"\",AB15),\"\")","v":""},{"$f":"IF($F15>=5,IF(AG15=\"\",\"\",AG15),\"\")","v":""},{"$f":"IF($F15>=5,IF(AL15=\"\",\"\",AL15),\"\")","v":""},{"$f":"IF($F15>=5,IF(AQ15=\"\",\"\",AQ15),\"\")","v":""},{"$f":"IF($F15>=5,IF(AV15=\"\",\"\",AV15),\"\")","v":""},{"$f":"IF($F15>=5,IF(BA15=\"\",\"\",BA15),\"\")","v":""},{"$f":"IF($F15>=5,IF(BF15=\"\",\"\",BF15),\"\")","v":""},{"$f":"IF($F15>=5,IF(BK15=\"\",\"\",BK15),\"\")","v":""},null,null,0,0,0,null,null,0,0,0,null,2,80,5,85,null,null,0,0,0,null,null,0,0,0,null,null,0,0,0,null,null,0,0,0,null,null,0,0,0,null,10,26,0,0,0,0,0,0,0,1]
[12,"Cock","William","Heming",77,3,null,12,"",14,12,"",{"$f":"IF(AZ16=\"\",\"\",AZ16)","v":""},{"$f":"IF(BE16=\"\",\"\",BE16)","v":""},{"$f":"IF(BJ16=\"\",\"\",BJ16)","v":""},null,77,"","","","","","","","",null,12,22,5,27,null,null,0,0,0,null,14,18,5,23,null,12,22,5,27,null,null,0,0,0,null,null,0,0,0,null,null,0,0,0,null,null,0,0,0,null,11,24,0,0,0,0,0,1,0,0]
[13,"Strauss","Mikkel Bro","Ready",74,3,null,10,"",16,14,"","","","",null,74,{"$f":"IF($F17>=5,IF(AB17=\"\",\"\",AB17),\"\")","v":""},{"$f":"IF($F17>=5,IF(AG17=\"\",\"\",AG17),\"\")","v":""},{"$f":"IF($F17>=5,IF(AL17=\"\",\"\",AL17),\"\")","v":""},{"$f":"IF($F17>=5,IF(AQ17=\"\",\"\",AQ17),\"\")","v":""},{"$f":"IF($F17>=5,IF(AV17=\"\",\"\",AV17),\"\")","v":""},{"$f":"IF($F17>=5,IF(BA17=\"\",\"\",BA17),\"\")","v":""},{"$f":"IF($F17>=5,IF(BF17=\"\",\"\",BF17),\"\")","v":""},{"$f":"IF($F17>=5,IF(BK17=\"\",\"\",BK17),\"\")","v":""},null,10,26,5,31,null,null,0,0,0,null,16,15,5,20,null,14,18,5,23,null,null,0,0,0,null,null,0,0,0,null,null,0,0,0,null,null,0,0,0,null,12,22,0,0,0,0,0,1,0,0]
[14,"Reiersen","Fredrik Sannes","Ready",73,4,null,11,14,37,20,"","","","",null,73,{"$f":"IF($F18>=5,IF(AB18=\"\",\"\",AB18),\"\")","v":""},{"$f":"IF($F18>=5,IF(AG18=\"\",\"\",AG18),\"\")","v":""},{"$f":"IF($F18>=5,IF(AL18=\"\",\"\",AL18),\"\")","v":""},{"$f":"IF($F18>=5,IF(AQ18=\"\",\"\",AQ18),\"\")","v":""},{"$f":"IF($F18>=5,IF(AV18=\"\",\"\",AV18),\"\")","v":""},{"$f":"IF($F18>=5,IF(BA18=\"\",\"\",BA18),\"\")","v":""},{"$f":"IF($F18>=5,IF(BF18=\"\",\"\",BF18),\"\")","v":""},{"$f":"IF($F18>=5,IF(BK18=\"\",\"\",BK18),\"\")","v":""},null,11,24,5,29,null,14,18,5,23,null,37,0,5,5,null,20,11,5,16,null,null,0,0,0,null,null,0,0,0,null,null,0,0,0,null,null,0,0,0,null,13,20,0,{"$f":"IF($F17=7,1,0)","v":0},{"$f":"IF($F17=6,1,0)","v":0},{"$f":"IF($F17=5,1,0)","v":0},{"$f":"IF($F17=4,1,0)","v":0},{"$f":"IF($F17=3,1,0)","v":1},{"$f":"IF($F17=2,1,0)","v":0},{"$f":"IF($F17=1,1,0)","v":0}]
[15,"Kihle","Jacob","Kjelsås",72,3,null,"",7,18,23,"","","","",null,72,{"$f":"IF($F19>=5,IF(AB19=\"\",\"\",AB19),\"\")","v":""},{"$f":"IF($F19>=5,IF(AG19=\"\",\"\",AG19),\"\")","v":""},{"$f":"IF($F19>=5,IF(AL19=\"\",\"\",AL19),\"\")","v":""},{"$f":"IF($F19>=5,IF(AQ19=\"\",\"\",AQ19),\"\")","v":""},{"$f":"IF($F19>=5,IF(AV19=\"\",\"\",AV19),\"\")","v":""},{"$f":"IF($F19>=5,IF(BA19=\"\",\"\",BA19),\"\")","v":""},{"$f":"IF($F19>=5,IF(BF19=\"\",\"\",BF19),\"\")","v":""},{"$f":"IF($F19>=5,IF(BK19=\"\",\"\",BK19),\"\")","v":""},null,null,0,0,0,null,7,36,5,41,null,18,13,5,18,null,23,8,5,13,null,null,0,0,0,null,null,0,0,0,null,null,0,0,0,null,null,0,0,0,null,14,18,0,{"$f":"IF($F18=7,1,0)","v":0},{"$f":"IF($F18=6,1,0)","v":0},{"$f":"IF($F18=5,1,0)","v":0},{"$f":"IF($F18=4,1,0)","v":1},{"$f":"IF($F18=3,1,0)","v":0},{"$f":"IF($F18=2,1,0)","v":0},{"$f":"IF($F18=1,1,0)","v":0}]
[{"$f":"IF(E20<E19,BO20,A19)","v":15},"Oksvik","Sander August Lein","IRS",70,2,null,3,"dsq","","","","","","",null,70,{"$f":"IF($F20>=5,IF(AB20=\"\",\"\",AB20),\"\")","v":""},{"$f":"IF($F20>=5,IF(AG20=\"\",\"\",AG20),\"\")","v":""},{"$f":"IF($F20>=5,IF(AL20=\"\",\"\",AL20),\"\")","v":""},{"$f":"IF($F20>=5,IF(AQ20=\"\",\"\",AQ20),\"\")","v":""},{"$f":"IF($F20>=5,IF(AV20=\"\",\"\",AV20),\"\")","v":""},{"$f":"IF($F20>=5,IF(BA20=\"\",\"\",BA20),\"\")","v":""},{"$f":"IF($F20>=5,IF(BF20=\"\",\"\",BF20),\"\")","v":""},{"$f":"IF($F20>=5,IF(BK20=\"\",\"\",BK20),\"\")","v":""},null,3,60,5,65,null,"dsq",0,5,5,null,null,0,0,0,null,null,0,0,0,null,null,0,0,0,null,null,0,0,0,null,null,0,0,0,null,null,0,0,0,null,15,16,0,{"$f":"IF($F19=7,1,0)","v":0},{"$f":"IF($F19=6,1,0)","v":0},{"$f":"IF($F19=5,1,0)","v":0},{"$f":"IF($F19=4,1,0)","v":0},{"$f":"IF($F19=3,1,0)","v":1},{"$f":"IF($F19=2,1,0)","v":0},{"$f":"IF($F19=1,1,0)","v":0}]
[{"$f":"IF(E21<E20,BO22,A20)","v":17},"Graff-Sponheim","Felix Leonard","Heming",68,3,null,7,"",17,28,"","","","",null,68,{"$f":"IF($F21>=5,IF(AB21=\"\",\"\",AB21),\"\")","v":""},{"$f":"IF($F21>=5,IF(AG21=\"\",\"\",AG21),\"\")","v":""},{"$f":"IF($F21>=5,IF(AL21=\"\",\"\",AL21),\"\")","v":""},{"$f":"IF($F21>=5,IF(AQ21=\"\",\"\",AQ21),\"\")","v":""},{"$f":"IF($F21>=5,IF(AV21=\"\",\"\",AV21),\"\")","v":""},{"$f":"IF($F21>=5,IF(BA21=\"\",\"\",BA21),\"\")","v":""},{"$f":"IF($F21>=5,IF(BF21=\"\",\"\",BF21),\"\")","v":""},{"$f":"IF($F21>=5,IF(BK21=\"\",\"\",BK21),\"\")","v":""},null,7,36,5,41,null,null,0,0,0,null,17,14,5,19,null,28,3,5,8,null,null,0,0,0,null,null,0,0,0,null,null,0,0,0,null,null,0,0,0,null,16,15,0,{"$f":"IF($F19=7,1,0)","v":0},{"$f":"IF($F19=6,1,0)","v":0},{"$f":"IF($F19=5,1,0)","v":0},{"$f":"IF($F19=4,1,0)","v":0},{"$f":"IF($F19=3,1,0)","v":1},{"$f":"IF($F19=2,1,0)","v":0},{"$f":"IF($F19=1,1,0)","v":0}]
[17,"Lødemel","Espen Alexander","Heming",68,2,null,"","",9,9,"",{"$f":"IF(AU22=\"\",\"\",AU22)","v":""},{"$f":"IF(AZ22=\"\",\"\",AZ22)","v":""},{"$f":"IF(BE22=\"\",\"\",BE22)","v":""},null,68,{"$f":"IF($F13>=5,IF(AB22=\"\",\"\",AB22),\"\")","v":""},{"$f":"IF($F13>=5,IF(AG22=\"\",\"\",AG22),\"\")","v":""},{"$f":"IF($F13>=5,IF(AL22=\"\",\"\",AL22),\"\")","v":""},{"$f":"IF($F13>=5,IF(AQ22=\"\",\"\",AQ22),\"\")","v":""},{"$f":"IF($F13>=5,IF(AR22=\"\",\"\",AR22),\"\")","v":""},{"$f":"IF($F13>=5,IF(AV22=\"\",\"\",AV22),\"\")","v":""},{"$f":"IF($F13>=5,IF(BA22=\"\",\"\",BA22),\"\")","v":""},{"$f":"IF($F13>=5,IF(BF22=\"\",\"\",BF22),\"\")","v":""},null,null,0,0,0,null,null,0,0,0,null,9,29,5,34,null,9,29,5,34,null,null,0,0,0,null,null,0,0,0,null,null,0,0,0,null,null,0,0,0,null,17,14,0,0,0,0,0,0,1,0]
[19,"Ekjord","Oskar Gedde-Dahl","Heming",66,2,null,"","",11,8,"",{"$f":"IF(AU23=\"\",\"\",AU23)","v":""},{"$f":"IF(AZ23=\"\",\"\",AZ23)","v":""},{"$f":"IF(BE23=\"\",\"\",BE23)","v":""},null,66,{"$f":"IF($F14>=5,IF(AB23=\"\",\"\",AB23),\"\")","v":""},{"$f":"IF($F14>=5,IF(AG23=\"\",\"\",AG23),\"\")","v":""},{"$f":"IF($F14>=5,IF(AL23=\"\",\"\",AL23),\"\")","v":""},{"$f":"IF($F14>=5,IF(AQ23=\"\",\"\",AQ23),\"\")","v":""},{"$f":"IF($F14>=5,IF(AR23=\"\",\"\",AR23),\"\")","v":""},{"$f":"IF($F14>=5,IF(AV23=\"\",\"\",AV23),\"\")","v":""},{"$f":"IF($F14>=5,IF(BA23=\"\",\"\",BA23),\"\")","v":""},{"$f":"IF($F14>=5,IF(BF23=\"\",\"\",BF23),\"\")","v":""},null,null,0,0,0,null,null,0,0,0,null,11,24,5,29,null,8,32,5,37,null,null,0,0,0,null,null,0,0,0,null,null,0,0,0,null,null,0,0,0,null,18,13,0,0,0,0,0,1,0,0]
[20,"Dannevig","Torbjørn","Ready",64,3,null,9,"dsq","",13,"",{"$f":"IF(AZ24=\"\",\"\",AZ24)","v":""},{"$f":"IF(BE24=\"\",\"\",BE24)","v":""},{"$f":"IF(BJ24=\"\",\"\",BJ24)","v":""},null,64,{"$f":"IF($F24>=5,IF(AB24=\"\",\"\",AB24),\"\")","v":""},{"$f":"IF($F24>=5,IF(AG24=\"\",\"\",AG24),\"\")","v":""},{"$f":"IF($F24>=5,IF(AL24=\"\",\"\",AL24),\"\")","v":""},{"$f":"IF($F24>=5,IF(AQ24=\"\",\"\",AQ24),\"\")","v":""},{"$f":"IF($F24>=5,IF(AV24=\"\",\"\",AV24),\"\")","v":""},{"$f":"IF($F24>=5,IF(BA24=\"\",\"\",BA24),\"\")","v":""},{"$f":"IF($F24>=5,IF(BF24=\"\",\"\",BF24),\"\")","v":""},{"$f":"IF($F24>=5,IF(BK24=\"\",\"\",BK24),\"\")","v":""},null,9,29,5,34,null,"dsq",0,5,5,null,null,0,0,0,null,13,20,5,25,null,null,0,0,0,null,null,0,0,0,null,null,0,0,0,null,null,0,0,0,null,19,12,0,0,0,0,0,0,1,0]
[21,"Svensen","Felix Granum","Ljan",62,4,null,"dsq",13,23,17,"",{"$f":"IF(AZ25=\"\",\"\",AZ25)","v":""},{"$f":"IF(BE25=\"\",\"\",BE25)","v":""},{"$f":"IF(BJ25=\"\",\"\",BJ25)","v":""},null,62,{"$f":"IF($F25>=5,IF(AB25=\"\",\"\",AB25),\"\")","v":""},{"$f":"IF($F25>=5,IF(AG25=\"\",\"\",AG25),\"\")","v":""},{"$f":"IF($F25>=5,IF(AL25=\"\",\"\",AL25),\"\")","v":""},{"$f":"IF($F25>=5,IF(AQ25=\"\",\"\",AQ25),\"\")","v":""},{"$f":"IF($F25>=5,IF(AV25=\"\",\"\",AV25),\"\")","v":""},{"$f":"IF($F25>=5,IF(BA25=\"\",\"\",BA25),\"\")","v":""},{"$f":"IF($F25>=5,IF(BF25=\"\",\"\",BF25),\"\")","v":""},{"$f":"IF($F25>=5,IF(BK25=\"\",\"\",BK25),\"\")","v":""},null,"dsq",0,5,5,null,13,20,5,25,null,23,8,5,13,null,17,14,5,19,null,null,0,0,0,null,null,0,0,0,null,null,0,0,0,null,null,0,0,0,null,20,11,0,0,0,0,0,0,1,0]
[22,"Larsen","Bendik Stangebye","Njård",59,4,null,19,15,27,24,"",{"$f":"IF(AZ26=\"\",\"\",AZ26)","v":""},{"$f":"IF(BE26=\"\",\"\",BE26)","v":""},{"$f":"IF(BJ26=\"\",\"\",BJ26)","v":""},null,59,{"$f":"IF($F26>=5,IF(AB26=\"\",\"\",AB26),\"\")","v":""},{"$f":"IF($F26>=5,IF(AG26=\"\",\"\",AG26),\"\")","v":""},{"$f":"IF($F26>=5,IF(AL26=\"\",\"\",AL26),\"\")","v":""},{"$f":"IF($F26>=5,IF(AQ26=\"\",\"\",AQ26),\"\")","v":""},{"$f":"IF($F26>=5,IF(AV26=\"\",\"\",AV26),\"\")","v":""},{"$f":"IF($F26>=5,IF(BA26=\"\",\"\",BA26),\"\")","v":""},{"$f":"IF($F26>=5,IF(BF26=\"\",\"\",BF26),\"\")","v":""},{"$f":"IF($F26>=5,IF(BK26=\"\",\"\",BK26),\"\")","v":""},null,19,12,5,17,null,15,16,5,21,null,27,4,5,9,null,24,7,5,12,null,null,0,0,0,null,null,0,0,0,null,null,0,0,0,null,null,0,0,0,null,21,10,0,0,0,0,0,1,0,0]
[23,"Astad","Sjur","Kjelsås",57,3,null,"",10,25,21,{"$f":"IF(AU27=\"\",\"\",AU27)","v":""},{"$f":"IF(AZ27=\"\",\"\",AZ27)","v":""},{"$f":"IF(BE27=\"\",\"\",BE27)","v":""},{"$f":"IF(BJ27=\"\",\"\",BJ27)","v":""},null,57,{"$f":"IF($F27>=5,IF(AB27=\"\",\"\",AB27),\"\")","v":""},{"$f":"IF($F27>=5,IF(AG27=\"\",\"\",AG27),\"\")","v":""},{"$f":"IF($F27>=5,IF(AL27=\"\",\"\",AL27),\"\")","v":""},{"$f":"IF($F27>=5,IF(AQ27=\"\",\"\",AQ27),\"\")","v":""},{"$f":"IF($F27>=5,IF(AV27=\"\",\"\",AV27),\"\")","v":""},{"$f":"IF($F27>=5,IF(BA27=\"\",\"\",BA27),\"\")","v":""},{"$f":"IF($F27>=5,IF(BF27=\"\",\"\",BF27),\"\")","v":""},{"$f":"IF($F27>=5,IF(BK27=\"\",\"\",BK27),\"\")","v":""},null,null,0,0,0,null,10,26,5,31,null,25,6,5,11,null,21,10,5,15,null,null,0,0,0,null,null,0,0,0,null,null,0,0,0,null,null,0,0,0,null,22,9,0,0,0,0,1,0,0,0]
[24,"Lødemel","Nikolai","Heming",56,2,null,"","",13,10,"","","","",null,56,{"$f":"IF($F28>=5,IF(AB28=\"\",\"\",AB28),\"\")","v":""},{"$f":"IF($F28>=5,IF(AG28=\"\",\"\",AG28),\"\")","v":""},{"$f":"IF($F28>=5,IF(AL28=\"\",\"\",AL28),\"\")","v":""},{"$f":"IF($F28>=5,IF(AQ28=\"\",\"\",AQ28),\"\")","v":""},{"$f":"IF($F28>=5,IF(AV28=\"\",\"\",AV28),\"\")","v":""},{"$f":"IF($F28>=5,IF(BA28=\"\",\"\",BA28),\"\")","v":""},{"$f":"IF($F28>=5,IF(BF28=\"\",\"\",BF28),\"\")","v":""},{"$f":"IF($F28>=5,IF(BK28=\"\",\"\",BK28),\"\")","v":""},null,null,0,0,0,null,null,0,0,0,null,13,20,5,25,null,10,26,5,31,null,null,0,0,0,null,null,0,0,0,null,null,0,0,0,null,null,0,0,0,null,23,8,0,{"$f":"IF($F23=7,1,0)","v":0},{"$f":"IF($F23=6,1,0)","v":0},{"$f":"IF($F23=5,1,0)","v":0},{"$f":"IF($F23=4,1,0)","v":0},{"$f":"IF($F23=3,1,0)","v":0},{"$f":"IF($F23=2,1,0)","v":1},{"$f":"IF($F23=1,1,0)","v":0}]
[25,"Hovind","Adrian R. Nuila","Ljan",55,3,null,16,11,30,"","","","","",null,55,"","","","","","","","",null,16,15,5,20,null,11,24,5,29,null,30,1,5,6,null,null,0,0,0,null,null,0,0,0,null,null,0,0,0,null,null,0,0,0,null,null,0,0,0,null,24,7,0,{"$f":"IF($F24=7,1,0)","v":0},{"$f":"IF($F24=6,1,0)","v":0},{"$f":"IF($F24=5,1,0)","v":0},{"$f":"IF($F24=4,1,0)","v":0},{"$f":"IF($F24=3,1,0)","v":1},{"$f":"IF($F24=2,1,0)","v":0},{"$f":"IF($F24=1,1,0)","v":0}]
[26,"Arnesen","Lukas","Heming",52,3,null,"",12,33,16,"","","","",null,52,"","","","","","","","",null,null,0,0,0,null,12,22,5,27,null,33,0,5,5,null,16,15,5,20,null,null,0,0,0,null,null,0,0,0,null,null,0,0,0,null,null,0,0,0,null,25,6,0,{"$f":"IF($F25=7,1,0)","v":0},{"$f":"IF($F25=6,1,0)","v":0},{"$f":"IF($F25=5,1,0)","v":0},{"$f":"IF($F25=4,1,0)","v":1},{"$f":"IF($F25=3,1,0)","v":0},{"$f":"IF($F25=2,1,0)","v":0},{"$f":"IF($F25=1,1,0)","v":0}]
[27,"Lacoste","Felix Trudeng","Ready",51,4,null,17,"dsq",26,19,"","","","",null,51,"","","","","","","","",null,17,14,5,19,null,"dsq",0,5,5,null,26,5,5,10,null,19,12,5,17,null,null,0,0,0,null,null,0,0,0,null,null,0,0,0,null,null,0,0,0,null,26,5,0,{"$f":"IF($F25=7,1,0)","v":0},{"$f":"IF($F25=6,1,0)","v":0},{"$f":"IF($F25=5,1,0)","v":0},{"$f":"IF($F25=4,1,0)","v":1},{"$f":"IF($F25=3,1,0)","v":0},{"$f":"IF($F25=2,1,0)","v":0},{"$f":"IF($F25=1,1,0)","v":0}]
[28,"Sandengen","Falk Willian","Njård",44,4,null,22,16,31,31,"","","","",null,44,"","","","","","","","",null,22,9,5,14,null,16,15,5,20,null,31,0,5,5,null,31,0,5,5,null,null,0,0,0,null,null,0,0,0,null,null,0,0,0,null,null,0,0,0,null,27,4,0,{"$f":"IF($F26=7,1,0)","v":0},{"$f":"IF($F26=6,1,0)","v":0},{"$f":"IF($F26=5,1,0)","v":0},{"$f":"IF($F26=4,1,0)","v":1},{"$f":"IF($F26=3,1,0)","v":0},{"$f":"IF($F26=2,1,0)","v":0},{"$f":"IF($F26=1,1,0)","v":0}]
[29,"Linna","Simon","Heming",38,2,null,"","",19,15,"","","","",null,38,"","","","","","","","",null,null,0,0,0,null,null,0,0,0,null,19,12,5,17,null,15,16,5,21,null,null,0,0,0,null,null,0,0,0,null,null,0,0,0,null,null,0,0,0,null,28,3,0,0,0,0,0,1,0,0]
[30,"Dyrstad","Morten","Kjelsås",37,1,null,"",8,"","","","","","",null,37,"","","","","","","","",null,null,0,0,0,null,8,32,5,37,null,null,0,0,0,null,null,0,0,0,null,null,0,0,0,null,null,0,0,0,null,null,0,0,0,null,null,0,0,0,null,29,2,0,0,0,0,0,0,1,0]
[30,"Rygh","Ole Marius","Ready",37,1,null,8,"","","","","","","",null,37,"","","","","","","","",null,8,32,5,37,null,null,0,0,0,null,null,0,0,0,null,null,0,0,0,null,null,0,0,0,null,null,0,0,0,null,null,0,0,0,null,null,0,0,0,null,30,1,0,{"$f":"IF($F26=7,1,0)","v":0},{"$f":"IF($F26=6,1,0)","v":0},{"$f":"IF($F26=5,1,0)","v":0},{"$f":"IF($F26=4,1,0)","v":1},{"$f":"IF($F26=3,1,0)","v":0},{"$f":"IF($F26=2,1,0)","v":0},{"$f":"IF($F26=1,1,0)","v":0}]
[32,"Enoksen","Elias","IRS",32,2,null,15,"","",25,"","","","",null,32,"","","","","","","","",null,15,16,5,21,null,null,0,0,0,null,null,0,0,0,null,25,6,5,11,null,null,0,0,0,null,null,0,0,0,null,null,0,0,0,null,null,0,0,0,null,31,0,0,0,0,0,0,1,0,0]
[33,"Engell","Martin","Kjelsås",28,3,null,"","dsq",39,18,{"$f":"IF(AU37=\"\",\"\",AU37)","v":""},{"$f":"IF(AZ37=\"\",\"\",AZ37)","v":""},{"$f":"IF(BE37=\"\",\"\",BE37)","v":""},{"$f":"IF(BJ37=\"\",\"\",BJ37)","v":""},null,28,"","","","","","","","",null,null,0,0,0,null,"dsq",0,5,5,null,39,0,5,5,null,18,13,5,18,null,null,0,0,0,null,null,0,0,0,null,null,0,0,0,null,null,0,0,0,null,32,0,0,0,0,0,0,0,1,0]
[33,"Hellerud","Lars","Ullensaker",{"$f":"Q38","v":28},{"$f":"(IF(AC38=5,1,0)+IF(AH38=5,1,0)+IF(AM38=5,1,0)+IF(AR38=5,1,0)+IF(AW38=5,1,0)+IF(BA38=5,1,0)+IF(BG38=5,1,0)+IF(BL38=5,1,0))","v":3},null,{"$f":"IF(AA38=\"\",\"\",AA38)","v":23},{"$f":"IF(AF38=\"\",\"\",AF38)","v":"dsq"},{"$f":"IF(AK38=\"\",\"\",AK38)","v":""},{"$f":"IF(AP38=\"\",\"\",AP38)","v":26},"","","","",null,28,"","","","","","","","",null,23,{"$f":"IF(ISNUMBER(AA38),(VLOOKUP(AA38,$BO$6:$BP$50,2)),0)","v":8},{"$f":"IF(AA38<>\"\",5,0)","v":5},{"$f":"AB38+AC38","v":13},null,"dsq",{"$f":"IF(ISNUMBER(AF38),(VLOOKUP(AF38,$BO$6:$BP$50,2)),0)","v":0},{"$f":"IF(AF38<>\"\",5,0)","v":5},{"$f":"AG38+AH38","v":5},null,null,{"$f":"IF(ISNUMBER(AK38),(VLOOKUP(AK38,$BO$6:$BP$50,2)),0)","v":0},{"$f":"IF(AK38<>\"\",5,0)","v":0},{"$f":"AL38+AM38","v":0},null,26,{"$f":"IF(ISNUMBER(AP38),(VLOOKUP(AP38,$BO$6:$BP$50,2)),0)","v":5},{"$f":"IF(AP38<>\"\",5,0)","v":5},{"$f":"AQ38+AR38","v":10},null,null,{"$f":"IF(ISNUMBER(AU38),(VLOOKUP(AU38,$BO$6:$BP$50,2)),0)","v":0},{"$f":"IF(AU38<>\"\",5,0)","v":0},{"$f":"AV38+AW38","v":0},null,null,{"$f":"IF(ISNUMBER(AZ38),(VLOOKUP(AZ38,$BO$6:$BP$50,2)),0)","v":0},{"$f":"IF(AZ38<>\"\",5,0)","v":0},{"$f":"BA38+BB38","v":0},null,null,{"$f":"IF(ISNUMBER(BE38),(VLOOKUP(BE38,$BO$6:$BP$50,2)),0)","v":0},{"$f":"IF(BE38<>\"\",5,0)","v":0},{"$f":"BF38+BG38","v":0},null,null,{"$f":"IF(ISNUMBER(BJ38),(VLOOKUP(BJ38,$BO$6:$BP$50,2)),0)","v":0},{"$f":"IF(BJ38<>\"\",5,0)","v":0},{"$f":"BK38+BL38","v":0},null,33,0,0,0,0,0,0,1,0,0]
[35,"Andersen","Oscar","IRS",22,2,null,21,"","",29,"","","","",null,22,"","","","","","","","",null,21,10,5,15,null,null,0,0,0,null,null,0,0,0,null,29,2,5,7,null,null,0,0,0,null,null,0,0,0,null,null,0,0,0,null,null,0,0,0,null,34,0,0,0,0,0,0,1,0,0]
[36,"Horntvedt","Oliver Ragnar","Ljan",21,2,null,20,"dsq","","","","","","",null,21,"","","","","","","","",null,20,11,5,16,null,"dsq",0,5,5,null,null,0,0,0,null,null,0,0,0,null,null,0,0,0,null,null,0,0,0,null,null,0,0,0,null,null,0,0,0,null,35,0,0,0,0,0,1,0,0,0]
[36,"Heide","William Weedon","Heming",21,1,null,"","",15,"","","","","",null,21,"","","","","","","","",null,null,0,0,0,null,null,0,0,0,null,15,16,5,21,null,null,0,0,0,null,null,0,0,0,null,null,0,0,0,null,null,0,0,0,null,null,0,0,0,null,36,0,0,0,0,0,1,0,0,0]
[36,"Ulrichsen","Daniel Krüger","Ready",21,2,null,"","",29,22,"","","","",null,21,"","","","","","","","",null,null,0,0,0,null,null,0,0,0,null,29,2,5,7,null,22,9,5,14,null,null,0,0,0,null,null,0,0,0,null,null,0,0,0,null,null,0,0,0,null,37,0,0,0,0,0,0,0,1,0]
[39,"Nyman","Carl Axel","Kjelsås",19,1,null,"",17,"","","","","","",null,19,"","","","","","","","",null,null,0,0,0,null,17,14,5,19,null,null,0,0,0,null,null,0,0,0,null,null,0,0,0,null,null,0,0,0,null,null,0,0,0,null,null,0,0,0,null,38,0,0,0,0,0,0,0,0,1]
[39,"Skirstad","Jacob","Ready",19,2,null,"","dsq",22,"","","","","",null,19,"","","","","","","","",null,null,0,0,0,null,"dsq",0,5,5,null,22,9,5,14,null,null,0,0,0,null,null,0,0,0,null,null,0,0,0,null,null,0,0,0,null,null,0,0,0,null,39,0,0,0,0,0,0,0,0,1]
[41,"Christiansen","Arthur Åstasund","IRS",18,1,null,18,"","","","","","","",null,18,"","","","","","","","",null,18,13,5,18,null,null,0,0,0,null,null,0,0,0,null,null,0,0,0,null,null,0,0,0,null,null,0,0,0,null,null,0,0,0,null,null,0,0,0,null,40,0,0,0,0,0,0,0,1,0]
[42,"Gaarder","Oskar Jølle","HSIL",16,1,null,"","",20,"","","","","",null,16,"","","","","","","","",null,null,0,0,0,null,null,0,0,0,null,20,11,5,16,null,null,0,0,0,null,null,0,0,0,null,null,0,0,0,null,null,0,0,0,null,null,0,0,0,null,41,0,0,0,0,0,0,1,0,0]
[43,"Trondsen","Kristian Arnstad","Heming",15,1,null,"","",21,"","","","","",null,15,"","","","","","","","",null,null,0,0,0,null,null,0,0,0,null,21,10,5,15,null,null,0,0,0,null,null,0,0,0,null,null,0,0,0,null,null,0,0,0,null,null,0,0,0,null,42,0,0,0,0,0,0,1,0,0]
[44,"Eriksson","Peder","Try",14,2,null,"","dsq","",27,"","","","",null,14,"","","","","","","","",null,null,0,0,0,null,"dsq",0,5,5,null,null,0,0,0,null,27,4,5,9,null,null,0,0,0,null,null,0,0,0,null,null,0,0,0,null,null,0,0,0,null,43,0,0,0,0,0,0,0,1,0]
[45,"Vodal","Christian Folkenborg","Heming",12,1,null,"","",24,"","","","","",null,12,"","","","","","","","",null,null,0,0,0,null,null,0,0,0,null,24,7,5,12,null,null,0,0,0,null,null,0,0,0,null,null,0,0,0,null,null,0,0,0,null,null,0,0,0,null,44,0,0,0,0,0,0,0,1,0]
[46,"Ring","Simon Lae","Njård",11,2,null,"","",38,30,"","","","",null,11,"","","","","","","","",null,null,0,0,0,null,null,0,0,0,null,38,0,5,5,null,30,1,5,6,null,null,0,0,0,null,null,0,0,0,null,null,0,0,0,null,null,0,0,0,null,45,0,0,0,0,0,0,0,0,1]
[47,"Sundal","Nicolay Neuberth","HSIL",8,1,null,"","",28,"","","","","",null,8,"","","","","","","","",null,null,0,0,0,null,null,0,0,0,null,28,3,5,8,null,null,0,0,0,null,null,0,0,0,null,null,0,0,0,null,null,0,0,0,null,null,0,0,0,null,46,0,0,0,0,0,0,0,1,0]
[48,"Bergh","Odin","Ljan",5,1,null,"","dsq","","","","","","",null,5,"","","","","","","","",null,null,0,0,0,null,"dsq",0,5,5,null,null,0,0,0,null,null,0,0,0,null,null,0,0,0,null,null,0,0,0,null,null,0,0,0,null,null,0,0,0,null,47,0,0,0,0,0,0,0,0,1]
[48,"Ofstad","Lukas","Ljan",5,1,null,"","dsq","","","","","","",null,5,"","","","","","","","",null,null,0,0,0,null,"dsq",0,5,5,null,null,0,0,0,null,null,0,0,0,null,null,0,0,0,null,null,0,0,0,null,null,0,0,0,null,null,0,0,0,null,48,0,0,0,0,0,0,0,1,0]
[48,"Skard","Edvard","Ljan",5,1,null,"","dsq","","","","","","",null,5,"","","","","","","","",null,null,0,0,0,null,"dsq",0,5,5,null,null,0,0,0,null,null,0,0,0,null,null,0,0,0,null,null,0,0,0,null,null,0,0,0,null,null,0,0,0,null,49,0,0,0,0,0,0,0,0,1]
[48,"Lad","Lukas Ofstad","Ljan",5,1,null,"","",32,"","","","","",null,5,"","","","","","","","",null,null,0,0,0,null,null,0,0,0,null,32,0,5,5,null,null,0,0,0,null,null,0,0,0,null,null,0,0,0,null,null,0,0,0,null,null,0,0,0,null,50,0,0,0,0,0,0,0,0,1]
[48,"Pavolas","Paulius","HSIL",5,1,null,"","",34,"","","","","",null,5,"","","","","","","","",null,null,0,0,0,null,null,0,0,0,null,34,0,5,5,null,null,0,0,0,null,null,0,0,0,null,null,0,0,0,null,null,0,0,0,null,null,0,0,0,null,51,0,0,0,0,0,0,0,0,1]

{"sheet":"Forside 2017","index":5,"n_rows":24,"n_cols":1,"rows_kept":24,"cut":false,"hidden":false,"merged":[]}
["Resultatliste Oslo Cup 2017"]
["Etter 5 av 8 renn"]
[]
[]
["- Oslo Cup arrangeres av Oslo Skikrets i samarbeid med IRS, Heming, Ready, Njård, HSIL og Kjelsås"]
["- 8 renn, arrangert av de samarbeidende klubbene, inngår i Oslo Cup "]
["- Det konkurreres i separate årsklasser, J11, G11, J12 og G12"]
["- Sammenlagtresultatene beregnes med World Cup poeng + deltakerpoeng."]
["- De fire beste resultatene er tellende sammenlagt, men alle deltakerpoengene teller med i totalresultatet"]
["- Premiering av de tre beste sammenlagt i hver klasse"]
[]
[]
["Poengsystem:"]
["- World Cup poeng for plasseringer (100 poeng for seier, 80 for andre plass osv). "]
["- De fire beste resultatene er tellende i sammendraget"]
["- Det gis 5 deltakerpoeng pr. renn, uanhengig av resultat og om resultatet er tellende i sammendraget"]
[]
[]
["Forklaring på overskriften i resultatlistene:"]
["- Plass = plassering i rennet "]
["- Res. = resultatpoeng etter World Cup skala "]
["- Del. = deltakerpoeng, 5 poeng for deltakelse "]
["- Tot. = totalpoeng for rennet, sum av resultatpoeng og deltakerpoeng "]
["- Resultater/poeng som ikke er tellende for de som har kjørt flere enn fire renn er markert/skravert med grått"]

{"sheet":"J11 2017","index":6,"n_rows":53,"n_cols":75,"rows_kept":53,"cut":false,"hidden":false,"merged":[[2,61,2,64],[3,27,3,29],[3,32,3,34],[3,37,3,39],[3,42,3,44],[3,47,3,49],[3,52,3,54],[3,57,3,59],[3,62,3,64],[2,26,2,29],[2,31,2,34],[2,36,2,39],[2,46,2,49],[2,51,2,54],[4,7,4,14],[4,17,4,24],[0,42,0,45],[2,41,2,44],[2,56,2,59]]}
["Resultatliste Oslo Cup 2017 - Jenter 11 år",null,null,null,null,null,null,null,null,null,null,null,null,null,null,null,null,null,null,null,null,null,null,null,null,null,null,null,null,null,null,null,null,null,null,null,null,null,null,null,null,null,"-----Telenor Arena Cup----"]
[{"$f":"'Forside 2017'!A2","v":"Etter 5 av 8 renn"}]
[null,null,null,null,null,null,null,"IRS Rennet","Ljan Rennet","Njård Rennet","Ready Rennet","Telenor Arena Cup","Euro-tecfarten","Oslo Alpinfestival SL","Oslo Alpinfestival SSL",null,null,"IRS Rennet","Ljan Rennet","Njård Rennet","Ready Rennet","Telenor Arena Cup","Euro-tecfarten","Oslo Alpinfestival SL","Oslo Alpinfestival SSL",null,"--------IRS Rennet----------",null,null,null,null,"----------Ljan Rennet---------",null,null,null,null,"--------Njård Rennet----------",null,null,null,null,"--------Ready Rennet---------",null,null,null,null,"-----Telenor Arena Cup----",null,null,null,null,"------Euro-tecfarten--------",null,null,null,null,"---Oslo Alpinfestival SL---",null,null,null,null,"---Oslo Alpinfestival SSL---"]
[null,null,null,null,null,"Antall",null,"2016-02-04","2016-02-05","2016-02-10","2016-02-11","2016-02-15","2016-03-01","2017-03-11","2016-03-12",null,"Poeng","2016-02-04","2016-02-05","2016-02-10","2016-02-11","2016-02-15","2016-03-01","2017-03-11","2016-03-12",null,null,"--------Poeng--------",null,null,null,null,"--------Poeng--------",null,null,null,null,"-------Poeng---------",null,null,null,null,"-------Poeng---------",null,null,null,null,"-------Poeng---------",null,null,null,null,"-------Poeng---------",null,null,null,null,"-------Poeng---------",null,null,null,null,"-------Poeng---------",null,null,null,null,null,"Løpere med ","Løpere med ","Løpere med ","Løpere med ","Løpere med ","Løpere med ","Løpere med "]
["Plass","Etternavn","Fornavn","Klubb","Poeng","renn",null,"------------------------------Plassering i rennene---------------------------------",null,null,null,null,null,null,null,null,"brutto","----------------Resultatpoeng hvis mer enn 4 renn----------------",null,null,null,null,null,null,null,null,"Plass","Res.","Del.","Tot.",null,"Plass","Res.","Del.","Tot.",null,"Plass","Res.","Del.","Tot.",null,"Plass","Res.","Del.","Tot.",null,"Plass","Res.","Del.","Tot.",null,"Plass","Res.","Del.","Tot.",null,"Plass","Res.","Del.","Tot.",null,"Plass","Res.","Del.","Tot.",null,null,null,"8 renn","7 renn","6 renn","5 renn","4 renn","3 renn","kun 1 renn"]
[1,"Rasmussen","Cornelia Nystrøm","Heming",{"$f":"Q6-V6","v":385},{"$f":"COUNT(AC6,AH6,AM6,AR6,AW6,BB6,BG6,BL6)","v":5},null,{"$f":"IF(AA6=\"\",\"\",AA6)","v":2},{"$f":"IF(AF6=\"\",\"\",AF6)","v":1},{"$f":"IF(AK6=\"\",\"\",AK6)","v":2},{"$f":"IF(AP6=\"\",\"\",AP6)","v":1},{"$f":"IF(AU6=\"\",\"\",AU6)","v":2},{"$f":"IF(AZ6=\"\",\"\",AZ6)","v":""},{"$f":"IF(BE6=\"\",\"\",BE6)","v":""},{"$f":"IF(BJ6=\"\",\"\",BJ6)","v":""},null,{"$f":"AD6+AI6+AN6+AS6+AX6+BC6+BH6","v":465},{"$f":"IF($F6>=5,IF(AB6=\"\",\"\",AB6),\"\")","v":80},{"$f":"IF($F6>=5,IF(AG6=\"\",\"\",AG6),\"\")","v":100},{"$f":"IF($F6>=5,IF(AL6=\"\",\"\",AL6),\"\")","v":80},{"$f":"IF($F6>=5,IF(AQ6=\"\",\"\",AQ6),\"\")","v":100},{"$f":"IF($F6>=5,IF(AV6=\"\",\"\",AV6),\"\")","v":80},{"$f":"IF($F6>=5,IF(BA6=\"\",\"\",BA6),\"\")","v":""},{"$f":"IF($F6>=5,IF(BF6=\"\",\"\",BF6),\"\")","v":""},{"$f":"IF($F6>=5,IF(BK6=\"\",\"\",BK6),\"\")","v":""},null,2,80,5,{"$f":"AB6+AC6","v":85},null,1,100,5,{"$f":"AG6+AH6","v":105},null,2,80,5,{"$f":"AL6+AM6","v":85},null,1,100,5,{"$f":"AQ6+AR6","v":105},null,2,80,5,{"$f":"AV6+AW6","v":85},null,null,null,null,{"$f":"BA6+BB6","v":0},null,null,null,null,{"$f":"BF6+BG6","v":0},null,null,null,null,{"$f":"BK6+BL6","v":0},null,1,100,{"$f":"IF($F6=7,1,0)","v":0},{"$f":"IF($F6=6,1,0)","v":0},{"$f":"IF($F6=5,1,0)","v":1},{"$f":"IF($F6=4,1,0)","v":0},{"$f":"IF($F6=3,1,0)","v":0},{"$f":"IF($F6=2,1,0)","v":0},{"$f":"IF($F6=1,1,0)","v":0}]
[{"$f":"IF(E7<E6,BO7,A6)","v":2},"Frederiksen","Charlotte Løvenskiold","Ready",{"$f":"Q7","v":241},5,null,"DSQ",7,3,3,3,"","","",null,241,0,36,60,60,60,"","","",null,"DSQ",0,5,5,null,7,36,5,41,null,3,60,5,65,null,3,60,5,65,null,3,60,5,65,null,null,null,null,0,null,null,null,null,0,null,null,null,null,0,null,2,80,{"$f":"IF($F7=7,1,0)","v":0},{"$f":"IF($F7=6,1,0)","v":0},{"$f":"IF($F7=5,1,0)","v":1},{"$f":"IF($F7=4,1,0)","v":0},{"$f":"IF($F7=3,1,0)","v":0},{"$f":"IF($F7=2,1,0)","v":0},{"$f":"IF($F7=1,1,0)","v":0}]
[3,"Thorsby","Pernille","Heming",{"$f":"Q8-V8","v":232},5,null,5,2,8,4,13,"","","",null,252,45,80,32,50,20,"","","",null,5,45,5,50,null,2,80,5,85,null,8,32,5,37,null,4,50,5,55,null,13,20,5,25,null,null,null,null,0,null,null,null,null,0,null,null,null,null,0,null,3,60,0,0,1,0,0,0,0]
[4,"Finn-Hansen","Nora","Heming ",{"$f":"Q9-V9","v":230},5,null,4,3,4,5,9,"","","",null,259,50,60,50,45,29,"","","",null,4,50,5,55,null,3,60,5,65,null,4,50,5,55,null,5,45,5,50,null,9,29,5,34,null,null,null,null,0,null,null,null,null,0,null,null,null,null,0,null,4,50,0,0,1,0,0,0,0]
[5,"Rasmussen","Maisen Holst","Stabæk",{"$f":"Q10","v":210},2,null,"","",1,"",1,"","","",null,210,"","","","","","","","",null,null,null,null,0,null,null,null,null,0,null,1,100,5,105,null,null,null,null,0,null,1,100,5,105,null,null,null,null,0,null,null,null,null,0,null,null,null,null,0,null,5,45,0,0,0,0,0,1,0]
[6,"Alsos","Synne","Ready",{"$f":"Q11","v":199},5,null,7,4,10,7,10,"","","",null,199,36,50,26,36,26,"","","",null,7,36,5,41,null,4,50,5,55,null,10,26,5,31,null,7,36,5,41,null,10,26,5,31,null,null,null,null,0,null,null,null,null,0,null,null,null,null,0,null,6,40,0,0,1,0,0,0,0]
[7,"Hemme Granerud","Cornelie","Ljan",{"$f":"Q12-V12","v":186},5,null,6,5,7,6,11,"","","",null,210,40,45,36,40,24,"","","",null,6,40,5,45,null,5,45,5,50,null,7,36,5,41,null,6,40,5,45,null,11,24,5,29,null,null,null,null,0,null,null,null,null,0,null,null,null,null,0,null,7,36,0,0,1,0,0,0,0]
[8,"Aardal","Mina","NeRo",{"$f":"Q13","v":147},3,null,3,"",6,"",8,"","","",null,{"$f":"AD13+AI13+AN13+AS13+AX13+BC13+BH13+BM13","v":147},"","","","","","","","",null,3,60,5,65,null,null,null,null,0,null,6,40,5,45,null,null,null,null,0,null,8,32,5,37,null,null,null,null,0,null,null,null,null,0,null,null,null,null,0,null,8,32,0,0,0,0,1,0,0]
[9,"Aandahl","Nicola","Ready",140,3,null,"","",5,2,"DNF",{"$f":"IF(AU14=\"\",\"\",AU14)","v":"DNF"},{"$f":"IF(AZ14=\"\",\"\",AZ14)","v":""},{"$f":"IF(BE14=\"\",\"\",BE14)","v":""},null,{"$f":"AD14+AI14+AN14+AS14+AX14+BC14+BH14","v":140},"","","","","","","","",null,null,null,null,0,null,null,null,null,0,null,5,45,5,50,null,2,80,5,85,null,"DNF",0,5,5,null,null,null,null,0,null,null,null,null,0,null,null,null,null,0,null,9,29,0,0,0,0,1,0,0]
[10,"Pechhacker","Julia","Lillehammer",105,1,null,1,"","","","",{"$f":"IF(AZ15=\"\",\"\",AZ15)","v":""},{"$f":"IF(BE15=\"\",\"\",BE15)","v":""},{"$f":"IF(BJ15=\"\",\"\",BJ15)","v":""},null,105,"","","","","","","","",null,1,100,5,105,null,null,null,null,0,null,null,null,null,0,null,null,null,null,0,null,null,null,null,0,null,null,null,null,0,null,null,null,null,0,null,null,null,null,0,null,10,26,0,0,0,0,0,0,1]
[11,"Øye","Alva Østnes","IRS",98,3,null,9,6,"","",17,{"$f":"IF(AU16=\"\",\"\",AU16)","v":17},{"$f":"IF(AZ16=\"\",\"\",AZ16)","v":""},{"$f":"IF(BE16=\"\",\"\",BE16)","v":""},null,98,"","","","","","","","",null,9,29,5,34,null,6,40,5,45,null,null,null,null,0,null,null,null,null,0,null,17,14,5,19,null,null,null,null,0,null,null,null,null,0,null,null,null,null,0,null,11,24,0,0,0,0,1,0,0]
[12,"Swenson","Lily","Ljan",94,3,null,10,"",11,9,"",{"$f":"IF(AU17=\"\",\"\",AU17)","v":""},{"$f":"IF(AZ17=\"\",\"\",AZ17)","v":""},{"$f":"IF(BE17=\"\",\"\",BE17)","v":""},null,94,"","","","","","","","",null,10,26,5,31,null,null,null,null,0,null,11,24,5,29,null,9,29,5,34,null,null,null,null,0,null,null,null,null,0,null,null,null,null,0,null,null,null,null,0,null,12,22,0,0,0,0,1,0,0]
[13,"Solhusløkk","Carina","IRS",76,4,null,"DSQ","",13,10,21,{"$f":"IF(AZ18=\"\",\"\",AZ18)","v":""},{"$f":"IF(BE18=\"\",\"\",BE18)","v":""},{"$f":"IF(BJ18=\"\",\"\",BJ18)","v":""},null,76,"","","","","","","","",null,"DSQ",0,5,5,null,null,null,null,0,null,13,20,5,25,null,10,26,5,31,null,21,10,5,15,null,null,null,null,0,null,null,null,null,0,null,null,null,null,0,null,13,20,0,0,0,1,0,0,0]
[14,"Kristensen","Mathilde","Njård",68,3,null,"","",14,11,20,{"$f":"IF(AU19=\"\",\"\",AU19)","v":20},{"$f":"IF(AZ19=\"\",\"\",AZ19)","v":""},{"$f":"IF(BE19=\"\",\"\",BE19)","v":""},null,68,"","","","","","","","",null,null,null,null,0,null,null,null,null,0,null,14,18,5,23,null,11,24,5,29,null,20,11,5,16,null,null,null,null,0,null,null,null,null,0,null,null,null,null,0,null,14,18,{"$f":"IF($F18=7,1,0)","v":0},{"$f":"IF($F18=6,1,0)","v":0},{"$f":"IF($F18=5,1,0)","v":0},{"$f":"IF($F18=4,1,0)","v":1},{"$f":"IF($F18=3,1,0)","v":0},{"$f":"IF($F18=2,1,0)","v":0},{"$f":"IF($F18=1,1,0)","v":0}]
[14,"Talén","Henriette","Heming",68,3,null,"",10,16,"",19,{"$f":"IF(AZ20=\"\",\"\",AZ20)","v":""},{"$f":"IF(BE20=\"\",\"\",BE20)","v":""},{"$f":"IF(BJ20=\"\",\"\",BJ20)","v":""},null,68,"","","","","","","","",null,null,null,null,0,null,10,26,5,31,null,16,15,5,20,null,null,null,null,0,null,19,12,5,17,null,null,null,null,0,null,null,null,null,0,null,null,null,null,0,null,15,16,{"$f":"IF($F19=7,1,0)","v":0},{"$f":"IF($F19=6,1,0)","v":0},{"$f":"IF($F19=5,1,0)","v":0},{"$f":"IF($F19=4,1,0)","v":0},{"$f":"IF($F19=3,1,0)","v":1},{"$f":"IF($F19=2,1,0)","v":0},{"$f":"IF($F19=1,1,0)","v":0}]
[16,"Dynna","Nathalie","IRS",56,4,null,"DSQ","DSQ",17,12,"",{"$f":"IF(AZ21=\"\",\"\",AZ21)","v":""},{"$f":"IF(BE21=\"\",\"\",BE21)","v":""},{"$f":"IF(BJ21=\"\",\"\",BJ21)","v":""},null,56,"","","","","","","","",null,"DSQ",0,5,5,null,"DSQ",0,5,5,null,17,14,5,19,null,12,22,5,27,null,null,null,null,0,null,null,null,null,0,null,null,null,null,0,null,null,null,null,0,null,16,15,{"$f":"IF($F20=7,1,0)","v":0},{"$f":"IF($F20=6,1,0)","v":0},{"$f":"IF($F20=5,1,0)","v":0},{"$f":"IF($F20=4,1,0)","v":0},{"$f":"IF($F20=3,1,0)","v":1},{"$f":"IF($F20=2,1,0)","v":0},{"$f":"IF($F20=1,1,0)","v":0}]
[17,"Norstrand","Nicolaine","Heming",55,1,null,"","","","",{"$f":"IF(AQ22=\"\",\"\",AQ22)","v":""},{"$f":"IF(AU22=\"\",\"\",AU22)","v":4},{"$f":"IF(AZ22=\"\",\"\",AZ22)","v":""},{"$f":"IF(BE22=\"\",\"\",BE22)","v":""},null,55,{"$f":"IF($F13>=5,IF(AB22=\"\",\"\",AB22),\"\")","v":""},{"$f":"IF($F13>=5,IF(AG22=\"\",\"\",AG22),\"\")","v":""},{"$f":"IF($F13>=5,IF(AL22=\"\",\"\",AL22),\"\")","v":""},{"$f":"IF($F13>=5,IF(AQ22=\"\",\"\",AQ22),\"\")","v":""},{"$f":"IF($F13>=5,IF(AR22=\"\",\"\",AR22),\"\")","v":""},{"$f":"IF($F13>=5,IF(AV22=\"\",\"\",AV22),\"\")","v":""},{"$f":"IF($F13>=5,IF(BA22=\"\",\"\",BA22),\"\")","v":""},{"$f":"IF($F13>=5,IF(BF22=\"\",\"\",BF22),\"\")","v":""},null,null,null,null,0,null,null,null,null,0,null,null,null,null,0,null,null,null,null,0,null,4,50,5,55,null,null,null,null,0,null,null,null,null,0,null,null,null,null,0,null,17,14,{"$f":"IF($F20=7,1,0)","v":0},{"$f":"IF($F20=6,1,0)","v":0},{"$f":"IF($F20=5,1,0)","v":0},{"$f":"IF($F20=4,1,0)","v":0},{"$f":"IF($F20=3,1,0)","v":1},{"$f":"IF($F20=2,1,0)","v":0},{"$f":"IF($F20=1,1,0)","v":0}]
[18,"Hamran","Helga","Kjelsås",54,2,null,"",11,"",13,{"$f":"IF(AU23=\"\",\"\",AU23)","v":""},{"$f":"IF(AU23=\"\",\"\",AU23)","v":""},{"$f":"IF(AZ23=\"\",\"\",AZ23)","v":""},{"$f":"IF(BE23=\"\",\"\",BE23)","v":""},null,54,{"$f":"IF($F23>=5,IF(AB23=\"\",\"\",AB23),\"\")","v":""},{"$f":"IF($F23>=5,IF(AG23=\"\",\"\",AG23),\"\")","v":""},{"$f":"IF($F23>=5,IF(AL23=\"\",\"\",AL23),\"\")","v":""},{"$f":"IF($F23>=5,IF(AQ23=\"\",\"\",AQ23),\"\")","v":""},{"$f":"IF($F23>=5,IF(AV23=\"\",\"\",AV23),\"\")","v":""},{"$f":"IF($F23>=5,IF(BA23=\"\",\"\",BA23),\"\")","v":""},{"$f":"IF($F23>=5,IF(BF23=\"\",\"\",BF23),\"\")","v":""},{"$f":"IF($F23>=5,IF(BK23=\"\",\"\",BK23),\"\")","v":""},null,null,null,null,0,null,11,24,5,29,null,null,null,null,0,null,13,20,5,25,null,null,null,null,0,null,null,null,null,0,null,null,null,null,0,null,null,null,null,0,null,18,13,{"$f":"IF($F21=7,1,0)","v":0},{"$f":"IF($F21=6,1,0)","v":0},{"$f":"IF($F21=5,1,0)","v":0},{"$f":"IF($F21=4,1,0)","v":1},{"$f":"IF($F21=3,1,0)","v":0},{"$f":"IF($F21=2,1,0)","v":0},{"$f":"IF($F21=1,1,0)","v":0}]
[19,"Hoel","Hermine Owesen","Heming",50,1,null,"","","","",{"$f":"IF(AQ24=\"\",\"\",AQ24)","v":""},{"$f":"IF(AU24=\"\",\"\",AU24)","v":5},{"$f":"IF(AZ24=\"\",\"\",AZ24)","v":""},{"$f":"IF(BE24=\"\",\"\",BE24)","v":""},null,50,{"$f":"IF($F15>=5,IF(AB24=\"\",\"\",AB24),\"\")","v":""},{"$f":"IF($F15>=5,IF(AG24=\"\",\"\",AG24),\"\")","v":""},{"$f":"IF($F15>=5,IF(AL24=\"\",\"\",AL24),\"\")","v":""},{"$f":"IF($F15>=5,IF(AQ24=\"\",\"\",AQ24),\"\")","v":""},{"$f":"IF($F15>=5,IF(AR24=\"\",\"\",AR24),\"\")","v":""},{"$f":"IF($F15>=5,IF(AV24=\"\",\"\",AV24),\"\")","v":""},{"$f":"IF($F15>=5,IF(BA24=\"\",\"\",BA24),\"\")","v":""},{"$f":"IF($F15>=5,IF(BF24=\"\",\"\",BF24),\"\")","v":""},null,null,null,null,0,null,null,null,null,0,null,null,null,null,0,null,null,null,null,0,null,5,45,5,50,null,null,null,null,0,null,null,null,null,0,null,null,null,null,0,null,19,12,{"$f":"IF($F22=7,1,0)","v":0},{"$f":"IF($F22=6,1,0)","v":0},{"$f":"IF($F22=5,1,0)","v":0},{"$f":"IF($F22=4,1,0)","v":0},{"$f":"IF($F22=3,1,0)","v":0},{"$f":"IF($F22=2,1,0)","v":0},{"$f":"IF($F22=1,1,0)","v":1}]
[20,"Braathen","Selma Georigia","Stabæk",45,1,null,"","","","",{"$f":"IF(AQ25=\"\",\"\",AQ25)","v":""},{"$f":"IF(AU25=\"\",\"\",AU25)","v":6},{"$f":"IF(AZ25=\"\",\"\",AZ25)","v":""},{"$f":"IF(BE25=\"\",\"\",BE25)","v":""},null,45,{"$f":"IF($F16>=5,IF(AB25=\"\",\"\",AB25),\"\")","v":""},{"$f":"IF($F16>=5,IF(AG25=\"\",\"\",AG25),\"\")","v":""},{"$f":"IF($F16>=5,IF(AL25=\"\",\"\",AL25),\"\")","v":""},{"$f":"IF($F16>=5,IF(AQ25=\"\",\"\",AQ25),\"\")","v":""},{"$f":"IF($F16>=5,IF(AR25=\"\",\"\",AR25),\"\")","v":""},{"$f":"IF($F16>=5,IF(AV25=\"\",\"\",AV25),\"\")","v":""},{"$f":"IF($F16>=5,IF(BA25=\"\",\"\",BA25),\"\")","v":""},{"$f":"IF($F16>=5,IF(BF25=\"\",\"\",BF25),\"\")","v":""},null,null,null,null,0,null,null,null,null,0,null,null,null,null,0,null,null,null,null,0,null,6,40,5,45,null,null,null,null,0,null,null,null,null,0,null,null,null,null,0,null,20,11,{"$f":"IF($F23=7,1,0)","v":0},{"$f":"IF($F23=6,1,0)","v":0},{"$f":"IF($F23=5,1,0)","v":0},{"$f":"IF($F23=4,1,0)","v":0},{"$f":"IF($F23=3,1,0)","v":0},{"$f":"IF($F23=2,1,0)","v":1},{"$f":"IF($F23=1,1,0)","v":0}]
[21,"Rustad","Petronella G","Njård",44,3,null,"DSQ","",15,"",{"$f":"IF(AU26=\"\",\"\",AU26)","v":18},{"$f":"IF(AZ26=\"\",\"\",AZ26)","v":""},{"$f":"IF(BE26=\"\",\"\",BE26)","v":""},{"$f":"IF(BJ26=\"\",\"\",BJ26)","v":""},null,44,{"$f":"IF($F26>=5,IF(AB26=\"\",\"\",AB26),\"\")","v":""},{"$f":"IF($F26>=5,IF(AG26=\"\",\"\",AG26),\"\")","v":""},{"$f":"IF($F26>=5,IF(AL26=\"\",\"\",AL26),\"\")","v":""},{"$f":"IF($F26>=5,IF(AQ26=\"\",\"\",AQ26),\"\")","v":""},{"$f":"IF($F26>=5,IF(AV26=\"\",\"\",AV26),\"\")","v":""},{"$f":"IF($F26>=5,IF(BA26=\"\",\"\",BA26),\"\")","v":""},{"$f":"IF($F26>=5,IF(BF26=\"\",\"\",BF26),\"\")","v":""},{"$f":"IF($F26>=5,IF(BK26=\"\",\"\",BK26),\"\")","v":""},null,"DSQ",0,5,5,null,null,null,null,0,null,15,16,5,21,null,null,null,null,0,null,18,13,5,18,null,null,null,null,0,null,null,null,null,0,null,null,null,null,0,null,21,10,{"$f":"IF($F24=7,1,0)","v":0},{"$f":"IF($F24=6,1,0)","v":0},{"$f":"IF($F24=5,1,0)","v":0},{"$f":"IF($F24=4,1,0)","v":0},{"$f":"IF($F24=3,1,0)","v":0},{"$f":"IF($F24=2,1,0)","v":0},{"$f":"IF($F24=1,1,0)","v":1}]
[22,"Sartz-Lunde","Emily","Heming",41,1,null,"","","","",{"$f":"IF(AQ27=\"\",\"\",AQ27)","v":""},{"$f":"IF(AU27=\"\",\"\",AU27)","v":7},{"$f":"IF(AZ27=\"\",\"\",AZ27)","v":""},{"$f":"IF(BE27=\"\",\"\",BE27)","v":""},null,41,{"$f":"IF($F18>=5,IF(AB27=\"\",\"\",AB27),\"\")","v":""},{"$f":"IF($F18>=5,IF(AG27=\"\",\"\",AG27),\"\")","v":""},{"$f":"IF($F18>=5,IF(AL27=\"\",\"\",AL27),\"\")","v":""},{"$f":"IF($F18>=5,IF(AQ27=\"\",\"\",AQ27),\"\")","v":""},{"$f":"IF($F18>=5,IF(AR27=\"\",\"\",AR27),\"\")","v":""},{"$f":"IF($F18>=5,IF(AV27=\"\",\"\",AV27),\"\")","v":""},{"$f":"IF($F18>=5,IF(BA27=\"\",\"\",BA27),\"\")","v":""},{"$f":"IF($F18>=5,IF(BF27=\"\",\"\",BF27),\"\")","v":""},null,null,null,null,0,null,null,null,null,0,null,null,null,null,0,null,null,null,null,0,null,7,36,5,41,null,null,null,null,0,null,null,null,null,0,null,null,null,null,0,null,22,9,0,0,0,0,0,0,1]
[23,"Zimmer","Lisa","IRS",39,2,null,"","DSQ",9,"",{"$f":"IF(AU28=\"\",\"\",AU28)","v":""},{"$f":"IF(AZ28=\"\",\"\",AZ28)","v":""},{"$f":"IF(BE28=\"\",\"\",BE28)","v":""},{"$f":"IF(BJ28=\"\",\"\",BJ28)","v":""},null,39,{"$f":"IF($F28>=5,IF(AB28=\"\",\"\",AB28),\"\")","v":""},{"$f":"IF($F28>=5,IF(AG28=\"\",\"\",AG28),\"\")","v":""},{"$f":"IF($F28>=5,IF(AL28=\"\",\"\",AL28),\"\")","v":""},{"$f":"IF($F28>=5,IF(AQ28=\"\",\"\",AQ28),\"\")","v":""},{"$f":"IF($F28>=5,IF(AV28=\"\",\"\",AV28),\"\")","v":""},{"$f":"IF($F28>=5,IF(BA28=\"\",\"\",BA28),\"\")","v":""},{"$f":"IF($F28>=5,IF(BF28=\"\",\"\",BF28),\"\")","v":""},{"$f":"IF($F28>=5,IF(BK28=\"\",\"\",BK28),\"\")","v":""},null,null,null,null,0,null,"DSQ",0,5,5,null,9,29,5,34,null,null,null,null,0,null,null,null,null,0,null,null,null,null,0,null,null,null,null,0,null,null,null,null,0,null,23,8,0,0,0,0,1,0,0]
[24,"Teigen","Cassandra","Nannestad",37,1,null,8,"","","","",{"$f":"IF(AZ29=\"\",\"\",AZ29)","v":""},{"$f":"IF(BE29=\"\",\"\",BE29)","v":""},{"$f":"IF(BJ29=\"\",\"\",BJ29)","v":""},null,37,"","","","","","","","",null,8,32,5,37,null,null,null,null,0,null,null,null,null,0,null,null,null,null,0,null,null,null,null,0,null,null,null,null,0,null,null,null,null,0,null,null,null,null,0,null,24,7,{"$f":"IF($F24=7,1,0)","v":0},{"$f":"IF($F24=6,1,0)","v":0},{"$f":"IF($F24=5,1,0)","v":0},{"$f":"IF($F24=4,1,0)","v":0},{"$f":"IF($F24=3,1,0)","v":0},{"$f":"IF($F24=2,1,0)","v":0},{"$f":"IF($F24=1,1,0)","v":1}]
[24,"Sandal","Jenny Bye","Ljan",37,1,null,"",8,"","","",{"$f":"IF(AZ30=\"\",\"\",AZ30)","v":""},{"$f":"IF(BE30=\"\",\"\",BE30)","v":""},{"$f":"IF(BJ30=\"\",\"\",BJ30)","v":""},null,37,"","","","","","","","",null,null,null,null,0,null,8,32,5,37,null,null,null,null,0,null,null,null,null,0,null,null,null,null,0,null,null,null,null,0,null,null,null,null,0,null,null,null,null,0,null,25,6,{"$f":"IF($F25=7,1,0)","v":0},{"$f":"IF($F25=6,1,0)","v":0},{"$f":"IF($F25=5,1,0)","v":0},{"$f":"IF($F25=4,1,0)","v":0},{"$f":"IF($F25=3,1,0)","v":0},{"$f":"IF($F25=2,1,0)","v":0},{"$f":"IF($F25=1,1,0)","v":1}]
[24,"Roos","Elisabeth","TRY",37,1,null,"","","",8,"",{"$f":"IF(AU31=\"\",\"\",AU31)","v":""},{"$f":"IF(AZ31=\"\",\"\",AZ31)","v":""},{"$f":"IF(BE31=\"\",\"\",BE31)","v":""},null,37,"","","","","","","","",null,null,null,null,0,null,null,null,null,0,null,null,null,null,0,null,8,32,5,37,null,null,null,null,0,null,null,null,null,0,null,null,null,null,0,null,null,null,null,0,null,26,5,{"$f":"IF($F26=7,1,0)","v":0},{"$f":"IF($F26=6,1,0)","v":0},{"$f":"IF($F26=5,1,0)","v":0},{"$f":"IF($F26=4,1,0)","v":0},{"$f":"IF($F26=3,1,0)","v":1},{"$f":"IF($F26=2,1,0)","v":0},{"$f":"IF($F26=1,1,0)","v":0}]
[27,"Rabben","Ella Dahle","Ljan",34,1,null,"",9,"","","",{"$f":"IF(AZ32=\"\",\"\",AZ32)","v":""},{"$f":"IF(BE32=\"\",\"\",BE32)","v":""},{"$f":"IF(BJ32=\"\",\"\",BJ32)","v":""},null,34,"","","","","","","","",null,null,null,null,0,null,9,29,5,34,null,null,null,null,0,null,null,null,null,0,null,null,null,null,0,null,null,null,null,0,null,null,null,null,0,null,null,null,null,0,null,27,4,{"$f":"IF($F26=7,1,0)","v":0},{"$f":"IF($F26=6,1,0)","v":0},{"$f":"IF($F26=5,1,0)","v":0},{"$f":"IF($F26=4,1,0)","v":0},{"$f":"IF($F26=3,1,0)","v":1},{"$f":"IF($F26=2,1,0)","v":0},{"$f":"IF($F26=1,1,0)","v":0}]
[28,"Bjørnstad","Erika Scheid","IRS",29,1,null,11,"","","","",{"$f":"IF(AZ33=\"\",\"\",AZ33)","v":""},{"$f":"IF(BE33=\"\",\"\",BE33)","v":""},{"$f":"IF(BJ33=\"\",\"\",BJ33)","v":""},null,29,"","","","","","","","",null,11,24,5,29,null,null,null,null,0,null,null,null,null,0,null,null,null,null,0,null,null,null,null,0,null,null,null,null,0,null,null,null,null,0,null,null,null,null,0,null,28,3,{"$f":"IF($F27=7,1,0)","v":0},{"$f":"IF($F27=6,1,0)","v":0},{"$f":"IF($F27=5,1,0)","v":0},{"$f":"IF($F27=4,1,0)","v":0},{"$f":"IF($F27=3,1,0)","v":0},{"$f":"IF($F27=2,1,0)","v":0},{"$f":"IF($F27=1,1,0)","v":1}]
[29,"Brækken ","Eili","IRS",27,1,null,12,"","","","",{"$f":"IF(AZ34=\"\",\"\",AZ34)","v":""},{"$f":"IF(BE34=\"\",\"\",BE34)","v":""},{"$f":"IF(BJ34=\"\",\"\",BJ34)","v":""},null,27,"","","","","","","","",null,12,22,5,27,null,null,null,null,0,null,null,null,null,0,null,null,null,null,0,null,null,null,null,0,null,null,null,null,0,null,null,null,null,0,null,null,null,null,0,null,29,2,0,0,0,0,0,1,0]
[29,"Solheim","Cornelia Margrethe Lysne","Njård",27,1,null,"","",12,"","",{"$f":"IF(AU35=\"\",\"\",AU35)","v":""},{"$f":"IF(AZ35=\"\",\"\",AZ35)","v":""},{"$f":"IF(BE35=\"\",\"\",BE35)","v":""},null,27,"","","","","","","","",null,null,null,null,0,null,null,null,null,0,null,12,22,5,27,null,null,null,null,0,null,null,null,null,0,null,null,null,null,{"$f":"BA35+BB35","v":0},null,null,null,null,{"$f":"BF35+BG35","v":0},null,null,null,null,{"$f":"BK35+BL35","v":0},null,30,1,0,0,0,0,0,0,1]
[29,"Horgen","Alexandra Astrup","Heming",27,1,null,"","","","",{"$f":"IF(AQ36=\"\",\"\",AQ36)","v":""},{"$f":"IF(AU36=\"\",\"\",AU36)","v":12},{"$f":"IF(AZ36=\"\",\"\",AZ36)","v":""},{"$f":"IF(BE36=\"\",\"\",BE36)","v":""},null,27,"","","","",{"$f":"IF($F36>=5,IF(AR36=\"\",\"\",AR36),\"\")","v":""},{"$f":"IF($F36>=5,IF(AV36=\"\",\"\",AV36),\"\")","v":""},{"$f":"IF($F36>=5,IF(BA36=\"\",\"\",BA36),\"\")","v":""},{"$f":"IF($F36>=5,IF(BF36=\"\",\"\",BF36),\"\")","v":""},null,null,null,null,0,null,null,null,null,0,null,null,null,null,0,null,null,null,null,0,null,12,22,5,27,null,null,null,null,0,null,null,null,null,0,null,null,null,null,0,null,31,null,{"$f":"IF($F27=7,1,0)","v":0},{"$f":"IF($F27=6,1,0)","v":0},{"$f":"IF($F27=5,1,0)","v":0},{"$f":"IF($F27=4,1,0)","v":0},{"$f":"IF($F27=3,1,0)","v":0},{"$f":"IF($F27=2,1,0)","v":0},{"$f":"IF($F27=1,1,0)","v":1}]
[32,"Mortensen","Christina","LIL Alpin",23,1,null,"","","","",{"$f":"IF(AU37=\"\",\"\",AU37)","v":14},{"$f":"IF(AU37=\"\",\"\",AU37)","v":14},{"$f":"IF(AZ37=\"\",\"\",AZ37)","v":""},{"$f":"IF(BE37=\"\",\"\",BE37)","v":""},null,23,"","","","",{"$f":"IF($F37>=5,IF(AV37=\"\",\"\",AV37),\"\")","v":""},{"$f":"IF($F37>=5,IF(BA37=\"\",\"\",BA37),\"\")","v":""},{"$f":"IF($F37>=5,IF(BF37=\"\",\"\",BF37),\"\")","v":""},{"$f":"IF($F37>=5,IF(BK37=\"\",\"\",BK37),\"\")","v":""},null,null,null,null,0,null,null,null,null,0,null,null,null,null,0,null,null,null,null,0,null,14,18,5,23,null,null,null,null,0,null,null,null,null,0,null,null,null,null,0,null,32,null,0,0,0,0,0,1,0]
[33,"Wessel Ass","Camilla","Heming",21,1,null,"","","","",{"$f":"IF(AQ38=\"\",\"\",AQ38)","v":""},{"$f":"IF(AU38=\"\",\"\",AU38)","v":15},{"$f":"IF(AZ38=\"\",\"\",AZ38)","v":""},{"$f":"IF(BE38=\"\",\"\",BE38)","v":""},null,21,"","","","",{"$f":"IF($F38>=5,IF(AR38=\"\",\"\",AR38),\"\")","v":""},{"$f":"IF($F38>=5,IF(AV38=\"\",\"\",AV38),\"\")","v":""},{"$f":"IF($F38>=5,IF(BA38=\"\",\"\",BA38),\"\")","v":""},{"$f":"IF($F38>=5,IF(BF38=\"\",\"\",BF38),\"\")","v":""},null,null,null,null,0,null,null,null,null,0,null,null,null,null,0,null,null,null,null,0,null,15,16,5,21,null,null,null,null,0,null,null,null,null,0,null,null,null,null,0,null,33,null,0,0,0,0,0,0,1]
[34,"Benjamin-Wormdal","Sarah Louise","Heming",20,1,null,"","","","",{"$f":"IF(AQ39=\"\",\"\",AQ39)","v":""},{"$f":"IF(AU39=\"\",\"\",AU39)","v":16},{"$f":"IF(AZ39=\"\",\"\",AZ39)","v":""},{"$f":"IF(BE39=\"\",\"\",BE39)","v":""},null,20,{"$f":"IF($F30>=5,IF(AB39=\"\",\"\",AB39),\"\")","v":""},{"$f":"IF($F30>=5,IF(AG39=\"\",\"\",AG39),\"\")","v":""},{"$f":"IF($F30>=5,IF(AL39=\"\",\"\",AL39),\"\")","v":""},{"$f":"IF($F30>=5,IF(AQ39=\"\",\"\",AQ39),\"\")","v":""},{"$f":"IF($F30>=5,IF(AR39=\"\",\"\",AR39),\"\")","v":""},{"$f":"IF($F30>=5,IF(AV39=\"\",\"\",AV39),\"\")","v":""},{"$f":"IF($F30>=5,IF(BA39=\"\",\"\",BA39),\"\")","v":""},{"$f":"IF($F30>=5,IF(BF39=\"\",\"\",BF39),\"\")","v":""},null,null,null,null,0,null,null,null,null,0,null,null,null,null,0,null,null,null,null,0,null,16,15,5,20,null,null,null,null,0,null,null,null,null,0,null,null,null,null,0,null,34,null,0,0,0,0,0,0,1]
[35,"Høgebøl","Ella Louise","Heming",18,1,null,"","",18,"",{"$f":"IF(AU40=\"\",\"\",AU40)","v":""},{"$f":"IF(AZ40=\"\",\"\",AZ40)","v":""},{"$f":"IF(BE40=\"\",\"\",BE40)","v":""},{"$f":"IF(BJ40=\"\",\"\",BJ40)","v":""},null,18,{"$f":"IF($F40>=5,IF(AB40=\"\",\"\",AB40),\"\")","v":""},{"$f":"IF($F40>=5,IF(AG40=\"\",\"\",AG40),\"\")","v":""},{"$f":"IF($F40>=5,IF(AL40=\"\",\"\",AL40),\"\")","v":""},{"$f":"IF($F40>=5,IF(AQ40=\"\",\"\",AQ40),\"\")","v":""},{"$f":"IF($F40>=5,IF(AV40=\"\",\"\",AV40),\"\")","v":""},{"$f":"IF($F40>=5,IF(BA40=\"\",\"\",BA40),\"\")","v":""},{"$f":"IF($F40>=5,IF(BF40=\"\",\"\",BF40),\"\")","v":""},{"$f":"IF($F40>=5,IF(BK40=\"\",\"\",BK40),\"\")","v":""},null,null,null,null,0,null,null,null,null,0,null,18,13,5,18,null,null,null,null,0,null,null,null,null,0,null,null,null,null,0,null,null,null,null,0,null,null,null,null,0,null,35,null,0,0,0,0,0,0,1]
[36,"Oustad","Mina Foronda","Nannestad",5,1,null,"DSQ","","","",{"$f":"IF(AU41=\"\",\"\",AU41)","v":""},{"$f":"IF(AZ41=\"\",\"\",AZ41)","v":""},{"$f":"IF(BE41=\"\",\"\",BE41)","v":""},{"$f":"IF(BJ41=\"\",\"\",BJ41)","v":""},null,5,{"$f":"IF($F41>=5,IF(AB41=\"\",\"\",AB41),\"\")","v":""},{"$f":"IF($F41>=5,IF(AG41=\"\",\"\",AG41),\"\")","v":""},{"$f":"IF($F41>=5,IF(AL41=\"\",\"\",AL41),\"\")","v":""},{"$f":"IF($F41>=5,IF(AQ41=\"\",\"\",AQ41),\"\")","v":""},{"$f":"IF($F41>=5,IF(AV41=\"\",\"\",AV41),\"\")","v":""},{"$f":"IF($F41>=5,IF(BA41=\"\",\"\",BA41),\"\")","v":""},{"$f":"IF($F41>=5,IF(BF41=\"\",\"\",BF41),\"\")","v":""},{"$f":"IF($F41>=5,IF(BK41=\"\",\"\",BK41),\"\")","v":""},null,"DSQ",0,5,5,null,null,null,null,0,null,null,null,null,0,null,null,null,null,0,null,null,null,null,0,null,null,null,null,0,null,null,null,null,0,null,null,null,null,0,null,36,null,0,0,0,0,0,0,1]
[36,"Piene Skard","Caroline","Heming",5,1,null,"","","","",{"$f":"IF(AQ42=\"\",\"\",AQ42)","v":""},{"$f":"IF(AU42=\"\",\"\",AU42)","v":"DNF"},{"$f":"IF(AZ42=\"\",\"\",AZ42)","v":""},{"$f":"IF(BE42=\"\",\"\",BE42)","v":""},null,5,{"$f":"IF($F42>=5,IF(AB42=\"\",\"\",AB42),\"\")","v":""},{"$f":"IF($F42>=5,IF(AG42=\"\",\"\",AG42),\"\")","v":""},{"$f":"IF($F42>=5,IF(AL42=\"\",\"\",AL42),\"\")","v":""},{"$f":"IF($F42>=5,IF(AQ42=\"\",\"\",AQ42),\"\")","v":""},{"$f":"IF($F42>=5,IF(AR42=\"\",\"\",AR42),\"\")","v":""},{"$f":"IF($F42>=5,IF(AV42=\"\",\"\",AV42),\"\")","v":""},{"$f":"IF($F42>=5,IF(BA42=\"\",\"\",BA42),\"\")","v":""},{"$f":"IF($F42>=5,IF(BF42=\"\",\"\",BF42),\"\")","v":""},null,null,null,null,0,null,null,null,null,0,null,null,null,null,0,null,null,null,null,0,null,"DNF",0,5,5,null,null,null,null,0,null,null,null,null,0,null,null,null,null,0,null,37,null,0,0,0,0,0,0,1]
[null,null,null,null,null,null,null,{"$f":"IF(AA43=\"\",\"\",AA43)","v":""},{"$f":"IF(AF43=\"\",\"\",AF43)","v":""},{"$f":"IF(AK43=\"\",\"\",AK43)","v":""},{"$f":"IF(AP43=\"\",\"\",AP43)","v":""},"",{"$f":"IF(AU43=\"\",\"\",AU43)","v":""},{"$f":"IF(AZ43=\"\",\"\",AZ43)","v":""},{"$f":"IF(BE43=\"\",\"\",BE43)","v":""},null,{"$f":"AD43+AI43+AN43+AS43+AX43+BC43+BH43","v":0},{"$f":"IF($F34>=5,IF(AB43=\"\",\"\",AB43),\"\")","v":""},{"$f":"IF($F34>=5,IF(AG43=\"\",\"\",AG43),\"\")","v":""},{"$f":"IF($F34>=5,IF(AL43=\"\",\"\",AL43),\"\")","v":""},{"$f":"IF($F34>=5,IF(AQ43=\"\",\"\",AQ43),\"\")","v":""},"",{"$f":"IF($F34>=5,IF(AV43=\"\",\"\",AV43),\"\")","v":""},{"$f":"IF($F34>=5,IF(BA43=\"\",\"\",BA43),\"\")","v":""},{"$f":"IF($F34>=5,IF(BF43=\"\",\"\",BF43),\"\")","v":""},null,null,null,null,{"$f":"AB43+AC43","v":0},null,null,null,null,{"$f":"AG43+AH43","v":0},null,null,null,null,{"$f":"AL43+AM43","v":0},null,null,null,null,{"$f":"AQ43+AR43","v":0},null,null,null,null,{"$f":"AV43+AW43","v":0},null,null,null,null,0,null,null,null,null,0,null,null,null,null,0,null,38,null,0,0,0,0,0,0,1]
[null,null,null,null,null,null,null,"","","","","","","","",null,0,"","","","","","","","",null,null,null,null,0,null,null,null,null,0,null,null,null,null,0,null,null,null,null,0,null,null,null,null,0,null,null,null,null,0,null,null,null,null,0,null,null,null,null,0,null,39,null,0,0,0,0,0,0,1]
[null,null,null,null,null,null,null,"","","","","","","","",null,0,"","","","","","","","",null,null,null,null,0,null,null,null,null,0,null,null,null,null,0,null,null,null,null,0,null,null,null,null,0,null,null,null,null,0,null,null,null,null,0,null,null,null,null,0,null,40,null,0,0,0,0,0,0,1]
[null,null,null,null,null,null,null,"","","","","","","","",null,0,"","","","","","","","",null,null,null,null,0,null,null,null,null,0,null,null,null,null,0,null,null,null,null,0,null,null,null,null,0,null,null,null,null,0,null,null,null,null,0,null,null,null,null,0,null,41,null,0,0,0,0,0,0,1]
[null,null,null,null,null,null,null,"","","","","","","","",null,0,"","","","","","","","",null,null,null,null,0,null,null,null,null,0,null,null,null,null,0,null,null,null,null,0,null,null,null,null,0,null,null,null,null,0,null,null,null,null,0,null,null,null,null,0,null,42,null,0,0,0,0,0,0,1]
[null,null,null,null,null,null,null,"","","","","","","","",null,0,"","","","","","","","",null,null,null,null,0,null,null,null,null,0,null,null,null,null,0,null,null,null,null,0,null,null,null,null,0,null,null,null,null,0,null,null,null,null,0,null,null,null,null,0,null,43,null,0,0,0,0,0,0,1]
[null,null,null,null,null,null,null,"","","","","","","","",null,0,"","","","","","","","",null,null,null,null,0,null,null,null,null,0,null,null,null,null,0,null,null,null,null,0,null,null,null,null,0,null,null,null,null,0,null,null,null,null,0,null,null,null,null,0,null,44,null,0,0,0,0,0,0,1]
[null,null,null,null,null,null,null,"","","","","","","","",null,0,"","","","","","","","",null,null,null,null,0,null,null,null,null,0,null,null,null,null,0,null,null,null,null,0,null,null,null,null,0,null,null,null,null,0,null,null,null,null,0,null,null,null,null,0,null,45,null,0,0,0,0,0,0,1]
[null,null,null,null,null,null,null,"","","",{"$f":"IF(AP51=\"\",\"\",AP51)","v":""},"","","","",null,0,"","","","","","","","",null,null,null,null,0,null,null,null,null,0,null,null,null,null,0,null,null,null,null,0,null,null,null,null,0,null,null,null,null,0,null,null,null,null,0,null,null,null,null,0,null,46,null,0,0,0,0,0,0,1]
[null,null,null,null,null,null,null,"","","","","","","","",null,0,"","","","","","","","",null,null,null,null,0,null,null,null,null,0,null,null,null,null,0,null,null,null,null,0,null,null,null,null,0,null,null,null,null,0,null,null,null,null,0,null,null,null,null,0,null,47,null,0,0,0,0,0,0,0]
[null,null,null,null,null,null,null,"","","","","","","","",null,0,"","","","","","","","",null,null,null,null,0,null,null,null,null,0,null,null,null,null,0,null,null,null,null,0,null,null,null,null,0,null,null,null,null,0,null,null,null,null,0,null,null,null,null,0,null,48,null,0,0,0,0,0,0,0]

{"sheet":"G11 2017","index":7,"n_rows":72,"n_cols":75,"rows_kept":72,"cut":false,"hidden":false,"merged":[[0,42,0,45],[2,26,2,29],[2,31,2,34],[2,36,2,39],[2,41,2,44],[3,62,3,64],[4,7,4,14],[4,17,4,24],[2,51,2,54],[2,56,2,59],[2,61,2,64],[3,27,3,29],[3,32,3,34],[3,37,3,39],[3,42,3,44],[3,47,3,49],[3,52,3,54],[3,57,3,59],[2,46,2,49]]}
["Resultatliste Oslo Cup 2017 - Gutter 11 år"]
[{"$f":"'Forside 2017'!A2","v":"Etter 5 av 8 renn"}]
[null,null,null,null,null,null,null,"IRS Rennet","Ljan Rennet","Njård Rennet","Ready Rennet","Telenor Arena Cup","Euro-tecfarten","Oslo Alpinfestival SL","Oslo Alpinfestival SSL",null,null,"IRS Rennet","Ljan Rennet","Njård Rennet","Ready Rennet","Telenor Arena Cup","Euro-tecfarten","Oslo Alpinfestival SL","Oslo Alpinfestival SSL",null,"--------IRS Rennet----------",null,null,null,null,"----------Ljan Rennet---------",null,null,null,null,"--------Njård Rennet----------",null,null,null,null,"--------Ready Rennet---------",null,null,null,null,"-----Telenor Arena Cup----",null,null,null,null,"------Euro-tecfarten--------",null,null,null,null,"---Oslo Alpinfestival SL---",null,null,null,null,"---Oslo Alpinfestival SSL---"]
[null,null,null,null,null,"Antall",null,"2016-02-04","2016-02-05","2016-02-10","2016-02-11","2016-02-15","2016-03-01","2017-03-11","2016-03-12",null,"Poeng","2016-02-04","2016-02-05","2016-02-10","2016-02-11","2016-02-15","2016-03-01","2017-03-11","2016-03-12",null,null,"--------Poeng--------",null,null,null,null,"--------Poeng--------",null,null,null,null,"-------Poeng---------",null,null,null,null,"-------Poeng---------",null,null,null,null,"-------Poeng---------",null,null,null,null,"-------Poeng---------",null,null,null,null,"-------Poeng---------",null,null,null,null,"-------Poeng---------",null,null,null,null,null,"Løpere med ","Løpere med ","Løpere med ","Løpere med ","Løpere med ","Løpere med ","Løpere med "]
["Plass","Etternavn","Fornavn","Klubb","Poeng","renn",null,"------------------------------Plassering i rennene---------------------------------",null,null,null,null,null,null,null,null,"brutto","----------------Resultatpoeng hvis mer enn 4 renn----------------",null,null,null,null,null,null,null,null,"Plass","Res.","Del.","Tot.",null,"Plass","Res.","Del.","Tot.",null,"Plass","Res.","Del.","Tot.",null,"Plass","Res.","Del.","Tot.",null,"Plass","Res.","Del.","Tot.",null,"Plass","Res.","Del.","Tot.",null,"Plass","Res.","Del.","Tot.",null,"Plass","Res.","Del.","Tot.",null,null,null,"8 renn","7 renn","6 renn","5 renn","4 renn","3 renn","kun 1 renn"]
[1,"Polmar","Ola Skaar","Heming",{"$f":"Q6-T6","v":405},{"$f":"COUNT(AC6,AH6,AM6,AR6,AW6,BB6,BG6,BL6)","v":5},null,{"$f":"IF(AA6=\"\",\"\",AA6)","v":1},{"$f":"IF(AF6=\"\",\"\",AF6)","v":1},{"$f":"IF(AK6=\"\",\"\",AK6)","v":2},{"$f":"IF(AP6=\"\",\"\",AP6)","v":2},{"$f":"IF(AU6=\"\",\"\",AU6)","v":1},{"$f":"IF(AZ6=\"\",\"\",AZ6)","v":""},{"$f":"IF(BE6=\"\",\"\",BE6)","v":""},{"$f":"IF(BJ6=\"\",\"\",BJ6)","v":""},null,{"$f":"AD6+AI6+AN6+AS6+AX6+BC6+BH6","v":485},{"$f":"IF($F6>=5,IF(AB6=\"\",\"\",AB6),\"\")","v":100},{"$f":"IF($F6>=5,IF(AG6=\"\",\"\",AG6),\"\")","v":100},{"$f":"IF($F6>=5,IF(AL6=\"\",\"\",AL6),\"\")","v":80},{"$f":"IF($F6>=5,IF(AQ6=\"\",\"\",AQ6),\"\")","v":80},{"$f":"IF($F6>=5,IF(AV6=\"\",\"\",AV6),\"\")","v":100},{"$f":"IF($F6>=5,IF(BA6=\"\",\"\",BA6),\"\")","v":""},{"$f":"IF($F6>=5,IF(BF6=\"\",\"\",BF6),\"\")","v":""},{"$f":"IF($F6>=5,IF(BK6=\"\",\"\",BK6),\"\")","v":""},null,1,100,5,{"$f":"AB6+AC6","v":105},null,1,100,5,{"$f":"AG6+AH6","v":105},null,2,80,5,{"$f":"AL6+AM6","v":85},null,2,80,5,{"$f":"AQ6+AR6","v":85},null,1,100,5,{"$f":"AV6+AW6","v":105},null,null,null,null,{"$f":"BA6+BB6","v":0},null,null,null,null,{"$f":"BF6+BG6","v":0},null,null,null,null,{"$f":"BK6+BL6","v":0},null,1,100,{"$f":"IF($F6=7,1,0)","v":0},{"$f":"IF($F6=6,1,0)","v":0},{"$f":"IF($F6=5,1,0)","v":1},{"$f":"IF($F6=4,1,0)","v":0},{"$f":"IF($F6=3,1,0)","v":0},{"$f":"IF($F6=2,1,0)","v":0},{"$f":"IF($F6=1,1,0)","v":0}]
[{"$f":"IF(E7<E6,BO7,A6)","v":2},"Spone","Fabian","Heming",{"$f":"Q7-V7","v":280},5,null,2,3,1,16,27,"",{"$f":"IF(BE7=\"\",\"\",BE7)","v":""},{"$f":"IF(BJ7=\"\",\"\",BJ7)","v":""},null,284,80,60,100,15,4,"","","",null,2,80,5,85,null,3,60,5,65,null,1,100,5,105,null,16,15,5,20,null,27,4,5,9,null,null,null,null,0,null,null,null,null,0,null,null,null,null,0,null,2,80,{"$f":"IF($F7=7,1,0)","v":0},{"$f":"IF($F7=6,1,0)","v":0},{"$f":"IF($F7=5,1,0)","v":1},{"$f":"IF($F7=4,1,0)","v":0},{"$f":"IF($F7=3,1,0)","v":0},{"$f":"IF($F7=2,1,0)","v":0},{"$f":"IF($F7=1,1,0)","v":0}]
[3,"Ekjord","Oskar Gedde-dahl","Heming",{"$f":"Q8","v":252},4,null,8,"",6,1,3,"",{"$f":"IF(BE8=\"\",\"\",BE8)","v":""},{"$f":"IF(BJ8=\"\",\"\",BJ8)","v":""},null,252,"","","","","","","","",null,8,32,5,37,null,null,null,null,0,null,6,40,5,45,null,1,100,5,105,null,3,60,5,65,null,null,null,null,0,null,null,null,null,0,null,null,null,null,0,null,3,60,0,0,0,1,0,0,0]
[4,"Wroll-Evensen","Mikkel","Heming",{"$f":"Q9","v":217},4,null,"",2,5,4,12,"",{"$f":"IF(BE9=\"\",\"\",BE9)","v":""},{"$f":"IF(BJ9=\"\",\"\",BJ9)","v":""},null,217,"","","","","","","","",null,null,null,null,0,null,2,80,5,85,null,5,45,5,50,null,4,50,5,55,null,12,22,5,27,null,null,null,null,0,null,null,null,null,0,null,null,null,null,0,null,4,50,0,0,0,1,0,0,0]
[5,"Hiorth","Felix","Heming",{"$f":"Q10-T10","v":216},5,null,3,4,8,7,5,"",{"$f":"IF(AZ10=\"\",\"\",AZ10)","v":""},{"$f":"IF(BE10=\"\",\"\",BE10)","v":""},null,248,60,50,32,36,45,"","","",null,3,60,5,65,null,4,50,5,55,null,8,32,5,37,null,7,36,5,41,null,5,45,5,50,null,null,null,null,0,null,null,null,null,0,null,null,null,null,0,null,5,45,0,0,1,0,0,0,0]
[6,"Engell","Martin","Kjelsås",{"$f":"Q11-T11","v":187},5,null,6,5,15,5,8,"",{"$f":"IF(BE11=\"\",\"\",BE11)","v":""},{"$f":"IF(BJ11=\"\",\"\",BJ11)","v":""},null,203,40,45,16,45,32,"","","",null,6,40,5,45,null,5,45,5,50,null,15,16,5,21,null,5,45,5,50,null,8,32,5,37,null,null,null,null,0,null,null,null,null,0,null,null,null,null,0,null,6,40,0,0,1,0,0,0,0]
[7,"Halvorsen","Mathias","Heming",{"$f":"Q12","v":151},5,null,4,"DSQ",7,6,"DSQ","","","",null,151,50,0,36,40,0,"","","",null,4,50,5,55,null,"DSQ",0,5,5,null,7,36,5,41,null,6,40,5,45,null,"DSQ",0,5,5,null,null,null,null,0,null,null,null,null,0,null,null,null,null,0,null,7,36,0,0,1,0,0,0,0]
[8,"Friis Rølles","Axel","Ready",{"$f":"Q13","v":145},5,null,"DSQ","DSQ",3,3,39,"","","",null,145,0,0,60,60,0,"","","",null,"DSQ",0,5,5,null,"DSQ",0,5,5,null,3,60,5,65,null,3,60,5,65,null,39,0,5,5,null,null,null,null,0,null,null,null,null,0,null,null,null,null,0,null,8,32,0,0,1,0,0,0,0]
[9,"Skirstad","Jacob","Ready",{"$f":"Q14-V14","v":143},5,null,7,8,14,8,30,"","","",null,144,36,32,18,32,1,"","","",null,7,36,5,41,null,8,32,5,37,null,14,18,5,23,null,8,32,5,37,null,30,1,5,6,null,null,null,null,0,null,null,null,null,0,null,null,null,null,0,null,9,29,0,0,1,0,0,0,0]
[10,"Brevik","Magnus","Ljan",{"$f":"Q15-S15","v":136},5,null,12,21,9,21,4,"","","",null,146,22,10,29,10,50,"","","",null,12,22,5,27,null,21,10,5,15,null,9,29,5,34,null,21,10,5,15,null,4,50,5,55,null,null,null,null,0,null,null,null,null,0,null,null,null,null,0,null,10,26,0,0,1,0,0,0,0]
[11,"Reiersen","Fredrik","Ready",{"$f":"Q16","v":118},4,null,15,6,12,"",13,"","","",null,118,"","","","","","","","",null,15,16,5,21,null,6,40,5,45,null,12,22,5,27,null,null,null,null,0,null,13,20,5,25,null,null,null,null,0,null,null,null,null,0,null,null,null,null,0,null,11,24,0,0,0,1,0,0,0]
[12,"Graff-Sponheim","Felix","Heming",113,5,null,29,7,31,11,10,"","","",null,113,2,36,0,24,26,"","","",null,29,2,5,7,null,7,36,5,41,null,31,0,5,5,null,11,24,5,29,null,10,26,5,31,null,null,null,null,0,null,null,null,null,0,null,null,null,null,0,null,12,22,0,0,1,0,0,0,0]
[13,"Lødemel","Nikolai","Heming",109,4,null,5,"",16,9,37,"","","",null,109,"","","","","","","","",null,5,45,5,50,null,null,null,null,0,null,16,15,5,20,null,9,29,5,34,null,37,0,5,5,null,null,null,null,0,null,null,null,null,0,null,null,null,null,0,null,13,20,0,0,0,1,0,0,0]
[14,"Strauss","Mikkel","Ready",104,4,null,13,"",11,20,9,"","","",null,104,"","","","","","","","",null,13,20,5,25,null,null,null,null,0,null,11,24,5,29,null,20,11,5,16,null,9,29,5,34,null,null,null,null,0,null,null,null,null,0,null,null,null,null,0,null,14,18,{"$f":"IF($F18=7,1,0)","v":0},{"$f":"IF($F18=6,1,0)","v":0},{"$f":"IF($F18=5,1,0)","v":0},{"$f":"IF($F18=4,1,0)","v":1},{"$f":"IF($F18=3,1,0)","v":0},{"$f":"IF($F18=2,1,0)","v":0},{"$f":"IF($F18=1,1,0)","v":0}]
[15,"Lødemel","Espen Alexander","Heming",99,4,null,9,"",10,17,21,"","","",null,99,"","","","","","","","",null,9,29,5,34,null,null,null,null,0,null,10,26,5,31,null,17,14,5,19,null,21,10,5,15,null,null,null,null,0,null,null,null,null,0,null,null,null,null,0,null,15,16,{"$f":"IF($F19=7,1,0)","v":0},{"$f":"IF($F19=6,1,0)","v":0},{"$f":"IF($F19=5,1,0)","v":0},{"$f":"IF($F19=4,1,0)","v":1},{"$f":"IF($F19=3,1,0)","v":0},{"$f":"IF($F19=2,1,0)","v":0},{"$f":"IF($F19=1,1,0)","v":0}]
[16,"Arnesen","Lukas Jones","Heming",94,4,null,"",9,17,10,26,"","","",null,94,"","","","","","","","",null,null,null,null,0,null,9,29,5,34,null,17,14,5,19,null,10,26,5,31,null,26,5,5,10,null,null,null,null,0,null,null,null,null,0,null,null,null,null,0,null,16,15,{"$f":"IF($F20=7,1,0)","v":0},{"$f":"IF($F20=6,1,0)","v":0},{"$f":"IF($F20=5,1,0)","v":0},{"$f":"IF($F20=4,1,0)","v":1},{"$f":"IF($F20=3,1,0)","v":0},{"$f":"IF($F20=2,1,0)","v":0},{"$f":"IF($F20=1,1,0)","v":0}]
[17,"Rygh","Ole Marius","Ready",88,5,null,22,"DSQ",19,14,11,"","","",null,88,9,0,12,18,24,"","","",null,22,9,5,14,null,"DSQ",0,5,5,null,19,12,5,17,null,14,18,5,23,null,11,24,5,29,null,null,null,null,0,null,null,null,null,0,null,null,null,null,0,null,17,14,{"$f":"IF($F20=7,1,0)","v":0},{"$f":"IF($F20=6,1,0)","v":0},{"$f":"IF($F20=5,1,0)","v":0},{"$f":"IF($F20=4,1,0)","v":1},{"$f":"IF($F20=3,1,0)","v":0},{"$f":"IF($F20=2,1,0)","v":0},{"$f":"IF($F20=1,1,0)","v":0}]
[18,"Kihle","Jacob Lunde","Kjelsås",87,4,null,16,12,21,13,"","","","",null,87,"","","","","","","","",null,16,15,5,20,null,12,22,5,27,null,21,10,5,15,null,13,20,5,25,null,null,null,null,0,null,null,null,null,0,null,null,null,null,0,null,null,null,null,0,null,18,13,{"$f":"IF($F21=7,1,0)","v":0},{"$f":"IF($F21=6,1,0)","v":0},{"$f":"IF($F21=5,1,0)","v":0},{"$f":"IF($F21=4,1,0)","v":1},{"$f":"IF($F21=3,1,0)","v":0},{"$f":"IF($F21=2,1,0)","v":0},{"$f":"IF($F21=1,1,0)","v":0}]
[19,"Yngland","Teo Borge","Stabæk",85,1,null,"","","","",2,"","","",null,85,"","","","","","","","",null,null,null,null,0,null,null,null,null,0,null,null,null,null,0,null,null,null,null,0,null,2,80,5,85,null,null,null,null,0,null,null,null,null,0,null,null,null,null,0,null,19,12,{"$f":"IF($F22=7,1,0)","v":0},{"$f":"IF($F22=6,1,0)","v":0},{"$f":"IF($F22=5,1,0)","v":1},{"$f":"IF($F22=4,1,0)","v":0},{"$f":"IF($F22=3,1,0)","v":0},{"$f":"IF($F22=2,1,0)","v":0},{"$f":"IF($F22=1,1,0)","v":0}]
[20,"Oksvik","Sander August","IRS",70,3,null,14,12,"","",16,"","","",null,70,"","","","","","","","",null,14,18,5,23,null,12,22,5,27,null,null,null,null,0,null,null,null,null,0,null,16,15,5,20,null,null,null,null,0,null,null,null,null,0,null,null,null,null,0,null,20,11,{"$f":"IF($F23=7,1,0)","v":0},{"$f":"IF($F23=6,1,0)","v":0},{"$f":"IF($F23=5,1,0)","v":0},{"$f":"IF($F23=4,1,0)","v":1},{"$f":"IF($F23=3,1,0)","v":0},{"$f":"IF($F23=2,1,0)","v":0},{"$f":"IF($F23=1,1,0)","v":0}]
[21,"Hovind Nuila","Adrian Rafael","Ljan",{"$f":"Q26-T26","v":65},5,null,24,11,28,22,34,"","","",null,68,7,24,3,9,0,"","","",null,24,7,5,12,null,11,24,5,29,null,28,3,5,8,null,22,9,5,14,null,34,0,5,5,null,null,null,null,0,null,null,null,null,0,null,null,null,null,0,null,21,10,{"$f":"IF($F24=7,1,0)","v":0},{"$f":"IF($F24=6,1,0)","v":0},{"$f":"IF($F24=5,1,0)","v":0},{"$f":"IF($F24=4,1,0)","v":0},{"$f":"IF($F24=3,1,0)","v":0},{"$f":"IF($F24=2,1,0)","v":0},{"$f":"IF($F24=1,1,0)","v":1}]
[22,"Cock","William","Heming",{"$f":"Q27","v":63},3,null,"","",18,12,18,"","","",null,63,"","","","","","","","",null,null,null,null,0,null,null,null,null,0,null,18,13,5,18,null,12,22,5,27,null,18,13,5,18,null,null,null,null,0,null,null,null,null,0,null,null,null,null,0,null,22,9,0,0,0,0,1,0,0]
[23,"Lacoste","Felix","Ready",{"$f":"Q28-V28","v":62},5,null,26,17,26,18,28,"",{"$f":"IF(AZ28=\"\",\"\",AZ28)","v":""},{"$f":"IF(BE28=\"\",\"\",BE28)","v":""},null,65,5,14,5,13,3,"","","",null,26,5,5,10,null,17,14,5,19,null,26,5,5,10,null,18,13,5,18,null,28,3,5,8,null,null,null,null,0,null,null,null,null,0,null,null,null,null,0,null,23,8,0,0,1,0,0,0,0]
[24,"Vodal","Christian Folkenborg","Heming",{"$f":"Q29","v":57},3,null,11,"DSQ","","",14,"",{"$f":"IF(BE29=\"\",\"\",BE29)","v":""},{"$f":"IF(BJ29=\"\",\"\",BJ29)","v":""},null,57,"","","","","","","","",null,11,24,5,29,null,"DSQ",0,5,5,null,null,null,null,0,null,null,null,null,0,null,14,18,5,23,null,null,null,null,0,null,null,null,null,0,null,null,null,null,0,null,24,7,{"$f":"IF($F24=7,1,0)","v":0},{"$f":"IF($F24=6,1,0)","v":0},{"$f":"IF($F24=5,1,0)","v":0},{"$f":"IF($F24=4,1,0)","v":0},{"$f":"IF($F24=3,1,0)","v":0},{"$f":"IF($F24=2,1,0)","v":0},{"$f":"IF($F24=1,1,0)","v":1}]
[25,"Furuseth","Nicolai Mathias","Ullensaker",55,1,null,"","",4,"","","",{"$f":"IF(BE30=\"\",\"\",BE30)","v":""},{"$f":"IF(BJ30=\"\",\"\",BJ30)","v":""},null,55,"","","","","","","","",null,null,null,null,0,null,null,null,null,0,null,4,50,5,55,null,null,null,null,0,null,null,null,null,0,null,null,null,null,0,null,null,null,null,0,null,null,null,null,0,null,25,6,{"$f":"IF($F25=7,1,0)","v":0},{"$f":"IF($F25=6,1,0)","v":0},{"$f":"IF($F25=5,1,0)","v":0},{"$f":"IF($F25=4,1,0)","v":0},{"$f":"IF($F25=3,1,0)","v":1},{"$f":"IF($F25=2,1,0)","v":0},{"$f":"IF($F25=1,1,0)","v":0}]
[26,"Gaarder","Oskar Jølle","HSIL",47,2,null,"",10,20,"","","",{"$f":"IF(BE31=\"\",\"\",BE31)","v":""},{"$f":"IF(BJ31=\"\",\"\",BJ31)","v":""},null,47,"","","","","","","","",null,null,null,null,0,null,10,26,5,31,null,20,11,5,16,null,null,null,null,0,null,null,null,null,0,null,null,null,null,0,null,null,null,null,0,null,null,null,null,0,null,26,5,{"$f":"IF($F26=7,1,0)","v":0},{"$f":"IF($F26=6,1,0)","v":0},{"$f":"IF($F26=5,1,0)","v":1},{"$f":"IF($F26=4,1,0)","v":0},{"$f":"IF($F26=3,1,0)","v":0},{"$f":"IF($F26=2,1,0)","v":0},{"$f":"IF($F26=1,1,0)","v":0}]
[27,"Johannessen","Oscar Løkke","Njård",46,5,null,30,15,35,27,38,"",{"$f":"IF(AZ32=\"\",\"\",AZ32)","v":""},{"$f":"IF(BE32=\"\",\"\",BE32)","v":""},null,46,1,16,0,4,0,"","","",null,30,1,5,6,null,15,16,5,21,null,35,0,5,5,null,27,4,5,9,null,38,0,5,5,null,null,null,null,0,null,null,null,null,0,null,null,null,null,0,null,27,4,{"$f":"IF($F26=7,1,0)","v":0},{"$f":"IF($F26=6,1,0)","v":0},{"$f":"IF($F26=5,1,0)","v":1},{"$f":"IF($F26=4,1,0)","v":0},{"$f":"IF($F26=3,1,0)","v":0},{"$f":"IF($F26=2,1,0)","v":0},{"$f":"IF($F26=1,1,0)","v":0}]
[27,"Trondsen","Kristian Arnstad","Heming",46,4,null,18,"DSQ",27,"",22,"",{"$f":"IF(BE33=\"\",\"\",BE33)","v":""},{"$f":"IF(BJ33=\"\",\"\",BJ33)","v":""},null,46,"","","","","","","","",null,18,13,5,18,null,"DSQ",0,5,5,null,27,4,5,9,null,null,null,null,0,null,22,9,5,14,null,null,null,null,0,null,null,null,null,0,null,null,null,null,0,null,28,3,{"$f":"IF($F27=7,1,0)","v":0},{"$f":"IF($F27=6,1,0)","v":0},{"$f":"IF($F27=5,1,0)","v":0},{"$f":"IF($F27=4,1,0)","v":0},{"$f":"IF($F27=3,1,0)","v":1},{"$f":"IF($F27=2,1,0)","v":0},{"$f":"IF($F27=1,1,0)","v":0}]
[29,"Axelsen","Kristian Andenæs","Stabæk",45,1,null,"","","","",6,"","","",null,45,"","","","","","","","",null,null,null,null,0,null,null,null,null,0,null,null,null,null,0,null,null,null,null,0,null,6,40,5,45,null,null,null,null,0,null,null,null,null,0,null,null,null,null,0,null,29,2,0,0,1,0,0,0,0]
[30,"Ofstad Lad","Lukas","Ljan",44,5,null,"DSQ",19,32,24,36,"","","",null,44,0,12,0,7,0,"","","",null,"DSQ",0,5,5,null,19,12,5,17,null,32,0,5,5,null,24,7,5,12,null,36,0,5,5,null,null,null,null,0,null,null,null,null,0,null,null,null,null,0,null,30,1,0,0,0,0,1,0,0]
[30,"Forberg","Ludvig","Heming",44,3,null,"","",24,15,25,"","","",null,44,"","","","","","","","",null,null,null,null,0,null,null,null,null,0,null,24,7,5,12,null,15,16,5,21,null,25,6,5,11,null,null,null,null,0,null,null,null,null,0,null,null,null,null,0,null,31,null,{"$f":"IF($F27=7,1,0)","v":0},{"$f":"IF($F27=6,1,0)","v":0},{"$f":"IF($F27=5,1,0)","v":0},{"$f":"IF($F27=4,1,0)","v":0},{"$f":"IF($F27=3,1,0)","v":1},{"$f":"IF($F27=2,1,0)","v":0},{"$f":"IF($F27=1,1,0)","v":0}]
[30,"Sundborn","William","Heming",44,2,null,"","",12,"",19,"","","",null,44,"","","","","","","","",null,null,null,null,0,null,null,null,null,0,null,12,22,5,27,null,null,null,null,0,null,19,12,5,17,null,null,null,null,0,null,null,null,null,0,null,null,null,null,0,null,32,null,0,0,1,0,0,0,0]
[33,"Espe","Alexander","Heming",41,{"$f":"COUNT(AC38,AH38,AM38,AR38,AW38,BB38,BG38,BL38)","v":1},null,{"$f":"IF(AA38=\"\",\"\",AA38)","v":""},{"$f":"IF(AF38=\"\",\"\",AF38)","v":""},{"$f":"IF(AK38=\"\",\"\",AK38)","v":""},{"$f":"IF(AP38=\"\",\"\",AP38)","v":""},{"$f":"IF(AU38=\"\",\"\",AU38)","v":7},{"$f":"IF(AZ38=\"\",\"\",AZ38)","v":""},"","",null,41,{"$f":"IF($F38>=5,IF(AB38=\"\",\"\",AB38),\"\")","v":""},{"$f":"IF($F38>=5,IF(AG38=\"\",\"\",AG38),\"\")","v":""},{"$f":"IF($F38>=5,IF(AL38=\"\",\"\",AL38),\"\")","v":""},{"$f":"IF($F38>=5,IF(AQ38=\"\",\"\",AQ38),\"\")","v":""},{"$f":"IF($F38>=5,IF(AV38=\"\",\"\",AV38),\"\")","v":""},{"$f":"IF($F38>=5,IF(BA38=\"\",\"\",BA38),\"\")","v":""},{"$f":"IF($F38>=5,IF(BF38=\"\",\"\",BF38),\"\")","v":""},{"$f":"IF($F38>=5,IF(BK38=\"\",\"\",BK38),\"\")","v":""},null,null,null,null,{"$f":"AB38+AC38","v":0},null,null,null,null,{"$f":"AG38+AH38","v":0},null,null,null,null,{"$f":"AL38+AM38","v":0},null,null,null,null,{"$f":"AQ38+AR38","v":0},null,7,36,5,{"$f":"AV38+AW38","v":41},null,null,null,null,{"$f":"BA38+BB38","v":0},null,null,null,null,{"$f":"BF38+BG38","v":0},null,null,null,null,{"$f":"BK38+BL38","v":0},null,33,null,0,0,0,0,1,0,0]
[34,"Dannevig","Torbjørn","Ready",40,5,null,"DSQ","DSQ",23,"DNF",24,"","","",null,40,0,0,8,0,7,"","","",null,"DSQ",0,5,5,null,"DSQ",0,5,5,null,23,8,5,13,null,"DNF",0,5,5,null,24,7,5,12,null,null,null,null,0,null,null,null,null,0,null,null,null,null,0,null,34,null,0,0,0,0,0,0,1]
[35,"Heide","William","Heming",39,2,null,"",14,"","",20,"","","",null,39,"","","","","","","","",null,null,null,null,0,null,14,18,5,23,null,null,null,null,0,null,null,null,null,0,null,20,11,5,16,null,null,null,null,0,null,null,null,null,0,null,null,null,null,0,null,35,null,0,0,0,0,0,1,0]
[36,"Astad","Sjur Torvald Roberts","Kjelsås",37,4,null,21,"DSQ",30,25,"","","","",null,37,"","","","","","","","",null,21,10,5,15,null,"DSQ",0,5,5,null,30,1,5,6,null,25,6,5,11,null,null,null,null,0,null,null,null,null,0,null,null,null,null,0,null,null,null,null,0,null,36,null,0,0,1,0,0,0,0]
[37,"Sandengen","Falk Vike","Njård",36,5,null,"DSQ",20,38,31,40,"","","",null,36,0,11,0,0,0,"","","",null,"DSQ",0,5,5,null,20,11,5,16,null,38,0,5,5,null,31,0,5,5,null,40,0,5,5,null,null,null,null,0,null,null,null,null,0,null,null,null,null,0,null,37,null,0,0,0,1,0,0,0]
[38,"Svensen","Felix Granum","Ljan",35,4,null,28,"",33,19,31,"","","",null,35,"","","","","","","","",null,28,3,5,8,null,null,null,null,0,null,33,0,5,5,null,19,12,5,17,null,31,0,5,5,null,null,null,null,0,null,null,null,null,0,null,null,null,null,0,null,38,null,0,0,0,0,0,0,1]
[39,"Holter","Nikolai Kristian","Rælingen",31,1,null,10,"","","","","","","",null,31,"","","","","","","","",null,10,26,5,31,null,null,null,null,0,null,null,null,null,0,null,null,null,null,0,null,null,null,null,0,null,null,null,null,0,null,null,null,null,0,null,null,null,null,0,null,39,null,0,0,1,0,0,0,0]
[40,"Horntvedt","Oliver","Ljan",26,3,null,"DSQ",22,"",29,"","","","",null,26,"","","","","","","","",null,"DSQ",0,5,5,null,22,9,5,14,null,null,null,null,0,null,29,2,5,7,null,null,null,null,0,null,null,null,null,0,null,null,null,null,0,null,null,null,null,0,null,40,null,0,0,0,0,1,0,0]
[41,"Pappos","Nikolas","Heming",25,3,null,"","",29,23,33,"","","",null,25,"","","","","","","","",null,null,null,null,0,null,null,null,null,0,null,29,2,5,7,null,23,8,5,13,null,33,0,5,5,null,null,null,null,0,null,null,null,null,0,null,null,null,null,0,null,41,null,0,0,0,0,0,1,0]
[41,"Vedal","Kristoffer","Heming",25,2,null,"",16,"","",35,"","","",null,25,"","","","","","","","",null,null,null,null,0,null,16,15,5,20,null,null,null,null,0,null,null,null,null,0,null,35,0,5,5,null,null,null,null,0,null,null,null,null,0,null,null,null,null,0,null,42,null,0,0,0,0,0,0,1]
[43,"Lydersen","Morten Dyrstad","Kjelsås",24,2,null,"","",25,"",23,"","","",null,24,"","","","","","","","",null,null,null,null,0,null,null,null,null,0,null,25,6,5,11,null,null,null,null,0,null,23,8,5,13,null,null,null,null,0,null,null,null,null,0,null,null,null,null,0,null,43,null,0,0,1,0,0,0,0]
[44,"Rafaelsen","Olav Einar","Ljan",23,2,null,"",18,"DNF","","","","","",null,23,"","","","","","","","",null,null,null,null,0,null,18,13,5,18,null,"DNF",0,5,5,null,null,null,null,0,null,null,null,null,0,null,null,null,null,0,null,null,null,null,0,null,null,null,null,0,null,44,null,0,0,0,0,0,1,0]
[45,"Astrup","Felix","Heming",21,1,null,"","","","",15,"","","",null,21,"","","","","","","","",null,null,null,null,0,null,null,null,null,0,null,null,null,null,0,null,null,null,null,0,null,15,16,5,21,null,null,null,null,0,null,null,null,null,0,null,null,null,null,0,null,45,null,0,0,0,1,0,0,0]
[46,"Bengtson","Nicolai  ","Heming",19,1,null,"","","","",17,"","","",null,19,"","","","","","","","",null,null,null,null,0,null,null,null,null,0,null,null,null,null,0,null,null,null,null,0,null,17,14,5,19,null,null,null,null,0,null,null,null,null,0,null,null,null,null,0,null,46,null,0,0,1,0,0,0,0]
[46,"Noer","Kristoffer","Rælingen",19,1,null,17,"","","","","","","",null,19,"","","","","","","","",null,17,14,5,19,null,null,null,null,0,null,null,null,null,0,null,null,null,null,0,null,null,null,null,0,null,null,null,null,0,null,null,null,null,0,null,null,null,null,0,null,47,null,0,0,0,1,0,0,0]
[48,"Olafsen Eriksson","Peder","TRY",18,3,null,"","",34,28,"DSQ","","","",null,18,"","","","","","","","",null,null,null,null,0,null,null,null,null,0,null,34,0,5,5,null,28,3,5,8,null,"DSQ",0,5,5,null,null,null,null,0,null,null,null,null,0,null,null,null,null,0,null,48,null,0,0,0,0,0,0,1]
[49,"Andersen","Fredrik","NeRo",17,1,null,19,"","","","","","","",null,{"$f":"AD54+AI54+AN54+AS54+AX54+BC54+BH54+BM54","v":17},"","","","","","","","",null,19,12,5,17,null,null,null,null,0,null,null,null,null,0,null,null,null,null,0,null,null,null,null,0,null,null,null,null,0,null,null,null,null,0,null,null,null,null,0,null,49]
[50,"Skalstad","Gabriel Maximus Lorang","Kjelsås",16,1,null,20,"","","","","","","",null,{"$f":"AD55+AI55+AN55+AS55+AX55+BC55+BH55","v":16},"","","","","","","","",null,20,11,5,16,null,null,null,null,0,null,null,null,null,0,null,null,null,null,0,null,null,null,null,0,null,null,null,null,0,null,null,null,null,0,null,null,null,null,0,null,50]
[51,"Meland","Jonas","HSIL",14,1,null,"","",22,"","","","","",null,14,"","","","","","","","",null,null,null,null,0,null,null,null,null,0,null,22,9,5,14,null,null,null,null,0,null,null,null,null,0,null,null,null,null,0,null,null,null,null,0,null,null,null,null,0,null,51]
[52,"Moen","Jacob","IRS",13,1,null,23,"","","","","","","",null,13,"","","","","","","","",null,23,8,5,13,null,null,null,null,0,null,null,null,null,0,null,null,null,null,0,null,null,null,null,0,null,null,null,null,0,null,null,null,null,0,null,null,null,null,0,null,52]
[53,"Fleischer","Ulrich","Heming",12,2,null,"","DSQ","","",29,"","","",null,12,"","","","","","","","",null,null,null,null,0,null,"DSQ",0,5,5,null,null,null,null,0,null,null,null,null,0,null,29,2,5,7,null,null,null,null,0,null,null,null,null,0,null,null,null,null,0,null,53]
[54,"Thorstensen","Magnus","Njård",11,2,null,"","",37,30,"","","","",null,11,"","","","","","","","",null,null,null,null,0,null,null,null,null,0,null,37,0,5,5,null,30,1,5,6,null,null,null,null,0,null,null,null,null,0,null,null,null,null,0,null,null,null,null,0,null,54]
[54,"Christiansen","Arthur Åstasund","IRS",11,1,null,25,"","","","","","","",null,11,"","","","","","","","",null,25,6,5,11,null,null,null,null,0,null,null,null,null,0,null,null,null,null,0,null,null,null,null,0,null,null,null,null,0,null,null,null,null,0,null,null,null,null,0,null,55]
[56,"Larsen","Bendik Stangebye","Njård",10,2,null,"","",36,"",41,"","","",null,10,"","","","","","","","",null,null,null,null,0,null,null,null,null,0,null,36,0,5,5,null,null,null,null,0,null,41,0,5,5,null,null,null,null,0,null,null,null,null,0,null,null,null,null,0,null,56]
[56,"Berg","Odin","Ljan",10,1,null,"","","",26,"","","","",null,10,"","","","","","","","",null,null,null,null,0,null,null,null,null,0,null,null,null,null,0,null,26,5,5,10,null,null,null,null,0,null,null,null,null,0,null,null,null,null,0,null,null,null,null,0,null,57]
[58,"Hellerud","Lars","Ullensaker",9,1,null,27,"","","","","","","",null,9,"","","","","","","","",null,27,4,5,9,null,null,null,null,0,null,null,null,null,0,null,null,null,null,0,null,null,null,null,0,null,null,null,null,0,null,null,null,null,0,null,null,null,null,0,null,58]
[59,"Amundsen","Axel Røsberg","Heming",5,1,null,"","","","",32,"","","",null,5,"","","","","","","","",null,null,null,null,0,null,null,null,null,0,null,null,null,null,0,null,null,null,null,0,null,32,0,5,5,null,null,null,null,0,null,null,null,null,0,null,null,null,null,0,null,59]
[59,"Enoksen","Elias","IRS",5,1,null,"DSQ","","","","","","","",null,5,"","","","","","","","",null,"DSQ",0,5,5,null,null,null,null,0,null,null,null,null,0,null,null,null,null,0,null,null,null,null,0,null,null,null,null,0,null,null,null,null,0,null,null,null,null,0,null,60]
[59,"Linberg","Ulrik Fjeldavlie","Lillehammer",5,1,null,"DSQ","","","","","","","",null,5,"","","","","","","","",null,"DSQ",0,5,5,null,null,null,null,0,null,null,null,null,0,null,null,null,null,0,null,null,null,null,0,null,null,null,null,0,null,null,null,null,0,null,null,null,null,0,null,61]
[0,"Lunde","Jacob","Kjelsås",0,0,null,"","","","","","","","",null,0,"","","","","","","","",null,null,null,null,0,null,null,null,null,0,null,null,null,null,0,null,null,null,null,0,null,null,null,null,0,null,null,null,null,0,null,null,null,null,0,null,null,null,null,0]
[0,"Torpe","Alexander Berg","Stabæk",0,0,null,"","","","","","","","",null,0,"","","","","","","","",null,null,null,null,0,null,null,null,null,0,null,null,null,null,0,null,null,null,null,0,null,null,null,null,0,null,null,null,null,0,null,null,null,null,0,null,null,null,null,0]
[0,"Linna","Simon Maximillian","Heming",0,0,null,"","","","","","","","",null,0,"","","","","","","","",null,null,null,null,0,null,null,null,null,0,null,null,null,null,0,null,null,null,null,0,null,null,null,null,0,null,null,null,null,0,null,null,null,null,0,null,null,null,null,0]
[null,null,null,null,null,null,null,"","","","","","","","",null,0,"","","","","","","","",null,null,null,null,{"$f":"AB70+AC70","v":0},null,null,null,null,{"$f":"AG70+AH70","v":0},null,null,null,null,{"$f":"AL70+AM70","v":0},null,null,null,null,{"$f":"AQ70+AR70","v":0},null,null,null,null,{"$f":"AV70+AW70","v":0},null,null,null,null,{"$f":"BA70+BB70","v":0},null,null,null,null,{"$f":"BF70+BG70","v":0},null,null,null,null,{"$f":"BK70+BL70","v":0}]
[null,null,null,null,null,null,null,{"$f":"IF(AA71=\"\",\"\",AA71)","v":""},{"$f":"IF(AF71=\"\",\"\",AF71)","v":""},{"$f":"IF(AK71=\"\",\"\",AK71)","v":""},{"$f":"IF(AP71=\"\",\"\",AP71)","v":""},{"$f":"IF(AU71=\"\",\"\",AU71)","v":""},{"$f":"IF(AZ71=\"\",\"\",AZ71)","v":""},{"$f":"IF(BE71=\"\",\"\",BE71)","v":""},{"$f":"IF(BJ71=\"\",\"\",BJ71)","v":""},null,{"$f":"AD71+AI71+AN71+AS71+AX71+BC71+BH71","v":0},{"$f":"IF($F71>=5,IF(AB71=\"\",\"\",AB71),\"\")","v":""},{"$f":"IF($F71>=5,IF(AG71=\"\",\"\",AG71),\"\")","v":""},{"$f":"IF($F71>=5,IF(AL71=\"\",\"\",AL71),\"\")","v":""},{"$f":"IF($F71>=5,IF(AQ71=\"\",\"\",AQ71),\"\")","v":""},{"$f":"IF($F71>=5,IF(AV71=\"\",\"\",AV71),\"\")","v":""},{"$f":"IF($F71>=5,IF(BA71=\"\",\"\",BA71),\"\")","v":""},{"$f":"IF($F71>=5,IF(BF71=\"\",\"\",BF71),\"\")","v":""},{"$f":"IF($F71>=5,IF(BK71=\"\",\"\",BK71),\"\")","v":""},null,null,null,null,{"$f":"AB71+AC71","v":0},null,null,null,null,{"$f":"AG71+AH71","v":0},null,null,null,null,{"$f":"AL71+AM71","v":0},null,null,null,null,{"$f":"AQ71+AR71","v":0},null,null,null,null,{"$f":"AV71+AW71","v":0},null,null,null,null,{"$f":"BA71+BB71","v":0},null,null,null,null,{"$f":"BF71+BG71","v":0},null,null,null,null,{"$f":"BK71+BL71","v":0}]
[null,null,null,null,null,null,null,"","","","","","","","",null,0,"","","","","","","","",null,null,null,null,0,null,null,null,null,0,null,null,null,null,0,null,null,null,null,0,null,null,null,null,0,null,null,null,null,0,null,null,null,null,0,null,null,null,null,0]

{"sheet":"J12 2017","index":8,"n_rows":53,"n_cols":75,"rows_kept":53,"cut":false,"hidden":false,"merged":[[0,42,0,45],[2,26,2,29],[2,31,2,34],[2,36,2,39],[2,41,2,44],[3,62,3,64],[4,7,4,14],[4,17,4,24],[2,51,2,54],[2,56,2,59],[2,61,2,64],[3,27,3,29],[3,32,3,34],[3,37,3,39],[3,42,3,44],[3,47,3,49],[3,52,3,54],[3,57,3,59],[2,46,2,49]]}
["Resultatliste Oslo Cup 2017 - Jenter 12 år"]
[{"$f":"'Forside 2017'!A2","v":"Etter 5 av 8 renn"}]
[null,null,null,null,null,null,null,"IRS Rennet","Ljan Rennet","Njård Rennet","Ready Rennet","Telenor Arena Cup","Euro-tecfarten","Oslo Alpinfestival SL","Oslo Alpinfestival SSL",null,null,"IRS Rennet","Ljan Rennet","Njård Rennet","Ready Rennet","Telenor Arena Cup","Euro-tecfarten","Oslo Alpinfestival SL","Oslo Alpinfestival SSL",null,"--------IRS Rennet----------",null,null,null,null,"----------Ljan Rennet---------",null,null,null,null,"--------Njård Rennet----------",null,null,null,null,"--------Ready Rennet---------",null,null,null,null,"-----Telenor Arena Cup----",null,null,null,null,"------Euro-tecfarten--------",null,null,null,null,"---Oslo Alpinfestival SL---",null,null,null,null,"---Oslo Alpinfestival SSL---"]
[null,null,null,null,null,"Antall",null,"2016-02-04","2016-02-05","2016-02-10","2016-02-11","2016-02-15","2016-03-01","2017-03-11","2016-03-12",null,"Poeng","2016-02-04","2016-02-05","2016-02-10","2016-02-11","2016-02-15","2016-03-01","2017-03-11","2016-03-12",null,null,"--------Poeng--------",null,null,null,null,"--------Poeng--------",null,null,null,null,"-------Poeng---------",null,null,null,null,"-------Poeng---------",null,null,null,null,"-------Poeng---------",null,null,null,null,"-------Poeng---------",null,null,null,null,"-------Poeng---------",null,null,null,null,"-------Poeng---------",null,null,null,null,null,"Løpere med ","Løpere med ","Løpere med ","Løpere med ","Løpere med ","Løpere med ","Løpere med "]
["Plass","Etternavn","Fornavn","Klubb","Poeng","renn",null,"------------------------------Plassering i rennene---------------------------------",null,null,null,null,null,null,null,null,"brutto","----------------Resultatpoeng hvis mer enn 4 renn----------------",null,null,null,null,null,null,null,null,"Plass","Res.","Del.","Tot.",null,"Plass","Res.","Del.","Tot.",null,"Plass","Res.","Del.","Tot.",null,"Plass","Res.","Del.","Tot.",null,"Plass","Res.","Del.","Tot.",null,"Plass","Res.","Del.","Tot.",null,"Plass","Res.","Del.","Tot.",null,"Plass","Res.","Del.","Tot.",null,null,null,"8 renn","7 renn","6 renn","5 renn","4 renn","3 renn","kun 1 renn"]
[1,"Flåm","Amalie Skottun","Harestua",{"$f":"Q6-V6","v":405},{"$f":"COUNT(AC6,AH6,AM6,AR6,AW6,BB6,BG6,BL6)","v":5},null,{"$f":"IF(AA6=\"\",\"\",AA6)","v":2},{"$f":"IF(AF6=\"\",\"\",AF6)","v":1},{"$f":"IF(AK6=\"\",\"\",AK6)","v":1},{"$f":"IF(AP6=\"\",\"\",AP6)","v":1},{"$f":"IF(AU6=\"\",\"\",AU6)","v":18},{"$f":"IF(AZ6=\"\",\"\",AZ6)","v":""},{"$f":"IF(BE6=\"\",\"\",BE6)","v":""},{"$f":"IF(BJ6=\"\",\"\",BJ6)","v":""},null,{"$f":"AD6+AI6+AN6+AS6+AX6+BC6+BH6","v":418},{"$f":"IF($F6>=5,IF(AB6=\"\",\"\",AB6),\"\")","v":80},{"$f":"IF($F6>=5,IF(AG6=\"\",\"\",AG6),\"\")","v":100},{"$f":"IF($F6>=5,IF(AL6=\"\",\"\",AL6),\"\")","v":100},{"$f":"IF($F6>=5,IF(AQ6=\"\",\"\",AQ6),\"\")","v":100},{"$f":"IF($F6>=5,IF(AV6=\"\",\"\",AV6),\"\")","v":13},{"$f":"IF($F6>=5,IF(BA6=\"\",\"\",BA6),\"\")","v":""},{"$f":"IF($F6>=5,IF(BF6=\"\",\"\",BF6),\"\")","v":""},{"$f":"IF($F6>=5,IF(BK6=\"\",\"\",BK6),\"\")","v":""},null,2,80,5,{"$f":"AB6+AC6","v":85},null,1,100,5,{"$f":"AG6+AH6","v":105},null,1,100,5,{"$f":"AL6+AM6","v":105},null,1,100,5,{"$f":"AQ6+AR6","v":105},null,18,13,5,{"$f":"AV6+AW6","v":18},null,null,null,null,{"$f":"BA6+BB6","v":0},null,null,null,null,{"$f":"BF6+BG6","v":0},null,null,null,null,{"$f":"BK6+BL6","v":0},null,1,100,{"$f":"IF($F6=7,1,0)","v":0},{"$f":"IF($F6=6,1,0)","v":0},{"$f":"IF($F6=5,1,0)","v":1},{"$f":"IF($F6=4,1,0)","v":0},{"$f":"IF($F6=3,1,0)","v":0},{"$f":"IF($F6=2,1,0)","v":0},{"$f":"IF($F6=1,1,0)","v":0}]
[{"$f":"IF(E7<E6,BO7,A6)","v":2},"Grimkelsrud","Elisabet","Kjelsås",{"$f":"Q7-T7","v":335},5,null,1,2,6,4,2,"","","",null,375,100,80,40,50,80,"","","",null,1,100,5,105,null,2,80,5,85,null,6,40,5,45,null,4,50,5,55,null,2,80,5,85,null,null,null,null,0,null,null,null,null,0,null,null,null,null,0,null,2,80,{"$f":"IF($F7=7,1,0)","v":0},{"$f":"IF($F7=6,1,0)","v":0},{"$f":"IF($F7=5,1,0)","v":1},{"$f":"IF($F7=4,1,0)","v":0},{"$f":"IF($F7=3,1,0)","v":0},{"$f":"IF($F7=2,1,0)","v":0},{"$f":"IF($F7=1,1,0)","v":0}]
[3,"Bugge","Mathilde","Ready",{"$f":"Q8-R8","v":275},5,null,4,4,3,2,3,"","","",null,325,50,50,60,80,60,"","","",null,4,50,5,55,null,4,50,5,55,null,3,60,5,65,null,2,80,5,85,null,3,60,5,65,null,null,null,null,0,null,null,null,null,0,null,null,null,null,0,null,3,60,0,0,1,0,0,0,0]
[4,"Dietrichson","Iben","Ready",{"$f":"Q9-U9","v":235},5,null,3,3,5,6,5,"","","",null,275,60,60,45,40,45,"","","",null,3,60,5,65,null,3,60,5,65,null,5,45,5,50,null,6,40,5,45,null,5,45,5,50,null,null,null,null,0,null,null,null,null,0,null,null,null,null,0,null,4,50,0,0,1,0,0,0,0]
[5,"Kristiansen","Vilde Lovise","IRS",{"$f":"Q10-V10","v":161},5,null,8,6,8,8,9,"","","",null,190,32,40,32,32,29,"","","",null,8,32,5,37,null,6,40,5,45,null,8,32,5,37,null,8,32,5,37,null,9,29,5,34,null,null,null,null,0,null,null,null,null,0,null,null,null,null,0,null,5,45,0,0,1,0,0,0,0]
[5,"Sandvin","Eva","Kjelsås",{"$f":"Q11","v":161},4,null,5,"DSQ",7,3,"","","","",null,161,"","","","","","","","",null,5,45,5,50,null,"DSQ",0,5,5,null,7,36,5,41,null,3,60,5,65,null,null,null,null,0,null,null,null,null,0,null,null,null,null,0,null,null,null,null,0,null,6,40,0,0,0,1,0,0,0]
[7,"Brodwall","Emilie Rønnestad","Stabæk",{"$f":"Q12","v":160},2,null,"","",4,"",1,{"$f":"IF(AU12=\"\",\"\",AU12)","v":1},{"$f":"IF(AZ12=\"\",\"\",AZ12)","v":""},{"$f":"IF(BE12=\"\",\"\",BE12)","v":""},null,160,"","","","","","","","",null,null,null,null,0,null,null,null,null,0,null,4,50,5,55,null,null,null,null,0,null,1,100,5,105,null,null,null,null,0,null,null,null,null,0,null,null,null,null,0,null,7,36,0,0,0,0,0,1,0]
[8,"Lyså","Amalie Bugge","Ready",{"$f":"Q13-T13","v":135},5,null,10,8,17,10,10,{"$f":"IF(AZ13=\"\",\"\",AZ13)","v":""},{"$f":"IF(BE13=\"\",\"\",BE13)","v":""},{"$f":"IF(BJ13=\"\",\"\",BJ13)","v":""},null,149,26,32,14,26,26,"","","",null,10,26,5,31,null,8,32,5,37,null,17,14,5,19,null,10,26,5,31,null,10,26,5,31,null,null,null,null,0,null,null,null,null,0,null,null,null,null,0,null,8,32,0,0,1,0,0,0,0]
[9,"Flydal","Vilde","Heming",{"$f":"Q14-U14","v":130},5,null,13,5,12,16,14,{"$f":"IF(AZ14=\"\",\"\",AZ14)","v":""},{"$f":"IF(BE14=\"\",\"\",BE14)","v":""},{"$f":"IF(BJ14=\"\",\"\",BJ14)","v":""},null,145,20,45,22,15,18,"","","",null,13,20,5,25,null,5,45,5,50,null,12,22,5,27,null,16,15,5,20,null,14,18,5,23,null,null,null,null,0,null,null,null,null,0,null,null,null,null,0,null,9,29,0,0,1,0,0,0,0]
[10,"Wrage","Paulina Rønning","Heming",{"$f":"Q15","v":128},4,null,6,"",16,9,11,{"$f":"IF(AZ15=\"\",\"\",AZ15)","v":""},{"$f":"IF(BE15=\"\",\"\",BE15)","v":""},{"$f":"IF(BJ15=\"\",\"\",BJ15)","v":""},null,128,"","","","","","","","",null,6,40,5,45,null,null,null,null,0,null,16,15,5,20,null,9,29,5,34,null,11,24,5,29,null,null,null,null,0,null,null,null,null,0,null,null,null,null,0,null,10,26,0,0,0,1,0,0,0]
[11,"Røsjorde","Mira Sjøvik","Kjelsås",121,5,null,"DSQ","DSQ",11,7,7,{"$f":"IF(AU16=\"\",\"\",AU16)","v":7},{"$f":"IF(AZ16=\"\",\"\",AZ16)","v":""},{"$f":"IF(BE16=\"\",\"\",BE16)","v":""},null,121,0,0,24,36,36,"","","",null,"DSQ",0,5,5,null,"DSQ",0,5,5,null,11,24,5,29,null,7,36,5,41,null,7,36,5,41,null,null,null,null,0,null,null,null,null,0,null,null,null,null,0,null,11,24,0,0,1,0,0,0,0]
[12,"Gurholt","Ida Kristine","Njård",115,5,null,11,"DSQ",15,14,8,{"$f":"IF(AZ17=\"\",\"\",AZ17)","v":""},{"$f":"IF(BE17=\"\",\"\",BE17)","v":""},{"$f":"IF(BJ17=\"\",\"\",BJ17)","v":""},null,115,24,0,16,18,32,"","","",null,11,24,5,29,null,"DSQ",0,5,5,null,15,16,5,21,null,14,18,5,23,null,8,32,5,37,null,null,null,null,0,null,null,null,null,0,null,null,null,null,0,null,12,22,0,0,1,0,0,0,0]
[13,"Roed","Elphi Haukenes","Heming",103,3,null,7,"",9,"",12,{"$f":"IF(AZ18=\"\",\"\",AZ18)","v":""},{"$f":"IF(BE18=\"\",\"\",BE18)","v":""},{"$f":"IF(BJ18=\"\",\"\",BJ18)","v":""},null,103,"","","","","","","","",null,7,36,6,42,null,null,null,null,0,null,9,29,5,34,null,null,null,null,0,null,12,22,5,27,null,null,null,null,0,null,null,null,null,0,null,null,null,null,0,null,13,20,0,0,0,0,1,0,0]
[14,"Wurschmidt","Elise","Heming",97,5,null,15,10,"DNF",15,17,{"$f":"IF(AZ19=\"\",\"\",AZ19)","v":""},{"$f":"IF(BE19=\"\",\"\",BE19)","v":""},{"$f":"IF(BJ19=\"\",\"\",BJ19)","v":""},null,97,16,26,0,16,14,"","","",null,15,16,5,21,null,10,26,5,31,null,"DNF",0,5,5,null,15,16,5,21,null,17,14,5,19,null,null,null,null,0,null,null,null,null,0,null,null,null,null,0,null,14,18,{"$f":"IF($F18=7,1,0)","v":0},{"$f":"IF($F18=6,1,0)","v":0},{"$f":"IF($F18=5,1,0)","v":0},{"$f":"IF($F18=4,1,0)","v":0},{"$f":"IF($F18=3,1,0)","v":1},{"$f":"IF($F18=2,1,0)","v":0},{"$f":"IF($F18=1,1,0)","v":0}]
[15,"Naustdal","Elise","Kjelsås",86,3,null,9,"","",12,13,{"$f":"IF(AZ20=\"\",\"\",AZ20)","v":""},{"$f":"IF(BE20=\"\",\"\",BE20)","v":""},{"$f":"IF(BJ20=\"\",\"\",BJ20)","v":""},null,86,"","","","","","","","",null,9,29,5,34,null,null,null,null,0,null,null,null,null,0,null,12,22,5,27,null,13,20,5,25,null,null,null,null,0,null,null,null,null,0,null,null,null,null,0,null,15,16,{"$f":"IF($F19=7,1,0)","v":0},{"$f":"IF($F19=6,1,0)","v":0},{"$f":"IF($F19=5,1,0)","v":1},{"$f":"IF($F19=4,1,0)","v":0},{"$f":"IF($F19=3,1,0)","v":0},{"$f":"IF($F19=2,1,0)","v":0},{"$f":"IF($F19=1,1,0)","v":0}]
[16,"Olesen","Linnea Vie","Stabæk",85,1,null,"","",2,"",{"$f":"IF(AQ21=\"\",\"\",AQ21)","v":""},{"$f":"IF(AU21=\"\",\"\",AU21)","v":""},{"$f":"IF(AZ21=\"\",\"\",AZ21)","v":""},{"$f":"IF(BE21=\"\",\"\",BE21)","v":""},null,85,"","","","",{"$f":"IF($F21>=5,IF(AR21=\"\",\"\",AR21),\"\")","v":""},{"$f":"IF($F21>=5,IF(AV21=\"\",\"\",AV21),\"\")","v":""},{"$f":"IF($F21>=5,IF(BA21=\"\",\"\",BA21),\"\")","v":""},{"$f":"IF($F21>=5,IF(BF21=\"\",\"\",BF21),\"\")","v":""},null,null,null,null,0,null,null,null,null,0,null,2,80,5,85,null,null,null,null,0,null,null,null,null,0,null,null,null,null,0,null,null,null,null,0,null,null,null,null,0,null,16,15,{"$f":"IF($F20=7,1,0)","v":0},{"$f":"IF($F20=6,1,0)","v":0},{"$f":"IF($F20=5,1,0)","v":0},{"$f":"IF($F20=4,1,0)","v":0},{"$f":"IF($F20=3,1,0)","v":1},{"$f":"IF($F20=2,1,0)","v":0},{"$f":"IF($F20=1,1,0)","v":0}]
[17,"Haakensen","Hedda","Kjelsås",83,4,null,14,"","DNF",5,{"$f":"IF(AU22=\"\",\"\",AU22)","v":"DNF"},{"$f":"IF(AZ22=\"\",\"\",AZ22)","v":""},{"$f":"IF(BE22=\"\",\"\",BE22)","v":""},{"$f":"IF(BJ22=\"\",\"\",BJ22)","v":""},null,83,"","","","",{"$f":"IF($F22>=5,IF(AV22=\"\",\"\",AV22),\"\")","v":""},{"$f":"IF($F22>=5,IF(BA22=\"\",\"\",BA22),\"\")","v":""},{"$f":"IF($F22>=5,IF(BF22=\"\",\"\",BF22),\"\")","v":""},{"$f":"IF($F22>=5,IF(BK22=\"\",\"\",BK22),\"\")","v":""},null,14,18,5,23,null,null,null,null,0,null,"DNF",0,5,5,null,5,45,5,50,null,"DNF",0,5,5,null,null,null,null,0,null,null,null,null,0,null,null,null,null,0,null,17,14,{"$f":"IF($F20=7,1,0)","v":0},{"$f":"IF($F20=6,1,0)","v":0},{"$f":"IF($F20=5,1,0)","v":0},{"$f":"IF($F20=4,1,0)","v":0},{"$f":"IF($F20=3,1,0)","v":1},{"$f":"IF($F20=2,1,0)","v":0},{"$f":"IF($F20=1,1,0)","v":0}]
[18,"Briseid-Bødtker","Mia","Heming",72,2,null,12,"","","",{"$f":"IF(AU23=\"\",\"\",AU23)","v":6},{"$f":"IF(AZ23=\"\",\"\",AZ23)","v":""},{"$f":"IF(BE23=\"\",\"\",BE23)","v":""},{"$f":"IF(BJ23=\"\",\"\",BJ23)","v":""},null,{"$f":"AD23+AI23+AN23+AS23+AX23+BC23+BH23+BM23","v":72},"","","","",{"$f":"IF($F23>=5,IF(AV23=\"\",\"\",AV23),\"\")","v":""},{"$f":"IF($F23>=5,IF(BA23=\"\",\"\",BA23),\"\")","v":""},{"$f":"IF($F23>=5,IF(BF23=\"\",\"\",BF23),\"\")","v":""},{"$f":"IF($F23>=5,IF(BK23=\"\",\"\",BK23),\"\")","v":""},null,12,22,5,27,null,null,null,null,0,null,null,null,null,0,null,null,null,null,0,null,6,40,5,45,null,null,null,null,0,null,null,null,null,0,null,null,null,null,0,null,18,13,{"$f":"IF($F21=7,1,0)","v":0},{"$f":"IF($F21=6,1,0)","v":0},{"$f":"IF($F21=5,1,0)","v":0},{"$f":"IF($F21=4,1,0)","v":0},{"$f":"IF($F21=3,1,0)","v":0},{"$f":"IF($F21=2,1,0)","v":0},{"$f":"IF($F21=1,1,0)","v":1}]
[19,"Briskelid","Cornelia","Heming",69,3,null,"","",14,13,{"$f":"IF(AU24=\"\",\"\",AU24)","v":15},{"$f":"IF(AZ24=\"\",\"\",AZ24)","v":""},{"$f":"IF(BE24=\"\",\"\",BE24)","v":""},{"$f":"IF(BJ24=\"\",\"\",BJ24)","v":""},null,{"$f":"AD24+AI24+AN24+AS24+AX24+BC24+BH24","v":69},"","","","",{"$f":"IF($F24>=5,IF(AV24=\"\",\"\",AV24),\"\")","v":""},{"$f":"IF($F24>=5,IF(BA24=\"\",\"\",BA24),\"\")","v":""},{"$f":"IF($F24>=5,IF(BF24=\"\",\"\",BF24),\"\")","v":""},{"$f":"IF($F24>=5,IF(BK24=\"\",\"\",BK24),\"\")","v":""},null,null,null,null,0,null,null,null,null,0,null,14,18,5,23,null,13,20,5,25,null,15,16,5,21,null,null,null,null,0,null,null,null,null,0,null,null,null,null,0,null,19,12,{"$f":"IF($F22=7,1,0)","v":0},{"$f":"IF($F22=6,1,0)","v":0},{"$f":"IF($F22=5,1,0)","v":0},{"$f":"IF($F22=4,1,0)","v":1},{"$f":"IF($F22=3,1,0)","v":0},{"$f":"IF($F22=2,1,0)","v":0},{"$f":"IF($F22=1,1,0)","v":0}]
[20,"Folkvord","Rikke","HSIL",65,2,null,"",9,10,"",{"$f":"IF(AU25=\"\",\"\",AU25)","v":""},{"$f":"IF(AZ25=\"\",\"\",AZ25)","v":""},{"$f":"IF(BE25=\"\",\"\",BE25)","v":""},{"$f":"IF(BJ25=\"\",\"\",BJ25)","v":""},null,65,"","","","",{"$f":"IF($F25>=5,IF(AV25=\"\",\"\",AV25),\"\")","v":""},{"$f":"IF($F25>=5,IF(BA25=\"\",\"\",BA25),\"\")","v":""},{"$f":"IF($F25>=5,IF(BF25=\"\",\"\",BF25),\"\")","v":""},{"$f":"IF($F25>=5,IF(BK25=\"\",\"\",BK25),\"\")","v":""},null,null,null,null,0,null,9,29,5,34,null,10,26,5,31,null,null,null,null,0,null,null,null,null,0,null,null,null,null,0,null,null,null,null,0,null,null,null,null,0,null,20,11,{"$f":"IF($F23=7,1,0)","v":0},{"$f":"IF($F23=6,1,0)","v":0},{"$f":"IF($F23=5,1,0)","v":0},{"$f":"IF($F23=4,1,0)","v":0},{"$f":"IF($F23=3,1,0)","v":0},{"$f":"IF($F23=2,1,0)","v":1},{"$f":"IF($F23=1,1,0)","v":0}]
[21,"Andersen","Julie Kahrs","BSK",55,1,null,"","","","",{"$f":"IF(AQ26=\"\",\"\",AQ26)","v":""},{"$f":"IF(AU26=\"\",\"\",AU26)","v":4},{"$f":"IF(AZ26=\"\",\"\",AZ26)","v":""},{"$f":"IF(BE26=\"\",\"\",BE26)","v":""},null,55,"","","","",{"$f":"IF($F26>=5,IF(AR26=\"\",\"\",AR26),\"\")","v":""},{"$f":"IF($F26>=5,IF(AV26=\"\",\"\",AV26),\"\")","v":""},{"$f":"IF($F26>=5,IF(BA26=\"\",\"\",BA26),\"\")","v":""},{"$f":"IF($F26>=5,IF(BF26=\"\",\"\",BF26),\"\")","v":""},null,null,null,null,0,null,null,null,null,0,null,null,null,null,0,null,null,null,null,0,null,4,50,5,55,null,null,null,null,0,null,null,null,null,0,null,null,null,null,0,null,21,10,{"$f":"IF($F24=7,1,0)","v":0},{"$f":"IF($F24=6,1,0)","v":0},{"$f":"IF($F24=5,1,0)","v":0},{"$f":"IF($F24=4,1,0)","v":0},{"$f":"IF($F24=3,1,0)","v":1},{"$f":"IF($F24=2,1,0)","v":0},{"$f":"IF($F24=1,1,0)","v":0}]
[22,"Dahl","Pauline","Ljan",41,1,null,"",7,"","",{"$f":"IF(AU27=\"\",\"\",AU27)","v":""},{"$f":"IF(AU27=\"\",\"\",AU27)","v":""},{"$f":"IF(AZ27=\"\",\"\",AZ27)","v":""},{"$f":"IF(BE27=\"\",\"\",BE27)","v":""},null,41,"","","","",{"$f":"IF($F27>=5,IF(AV27=\"\",\"\",AV27),\"\")","v":""},{"$f":"IF($F27>=5,IF(BA27=\"\",\"\",BA27),\"\")","v":""},{"$f":"IF($F27>=5,IF(BF27=\"\",\"\",BF27),\"\")","v":""},{"$f":"IF($F27>=5,IF(BK27=\"\",\"\",BK27),\"\")","v":""},null,null,null,null,0,null,7,36,5,41,null,null,null,null,0,null,null,null,null,0,null,null,null,null,0,null,null,null,null,0,null,null,null,null,0,null,null,null,null,0,null,22,9,0,0,0,0,0,1,0]
[23,"Ellingsen","Mia Synnøve","NeRo",39,2,null,17,"","","",16,{"$f":"IF(AZ28=\"\",\"\",AZ28)","v":""},{"$f":"IF(BE28=\"\",\"\",BE28)","v":""},{"$f":"IF(BJ28=\"\",\"\",BJ28)","v":""},null,39,"","","","","","","","",null,17,14,5,19,null,null,null,null,0,null,null,null,null,0,null,null,null,null,0,null,16,15,5,20,null,null,null,null,0,null,null,null,null,0,null,null,null,null,0,null,23,8,0,0,0,0,0,0,1]
[24,"Placht","Thadea Martine","Kjelsås",29,1,null,"",11,"","","",{"$f":"IF(AZ29=\"\",\"\",AZ29)","v":""},{"$f":"IF(BE29=\"\",\"\",BE29)","v":""},{"$f":"IF(BJ29=\"\",\"\",BJ29)","v":""},null,29,"","","","","","","","",null,null,null,null,0,null,11,24,5,29,null,null,null,null,0,null,null,null,null,0,null,null,null,null,0,null,null,null,null,0,null,null,null,null,0,null,null,null,null,0,null,24,7,{"$f":"IF($F24=7,1,0)","v":0},{"$f":"IF($F24=6,1,0)","v":0},{"$f":"IF($F24=5,1,0)","v":0},{"$f":"IF($F24=4,1,0)","v":0},{"$f":"IF($F24=3,1,0)","v":1},{"$f":"IF($F24=2,1,0)","v":0},{"$f":"IF($F24=1,1,0)","v":0}]
[24,"Skavik","Thea Skogheim","Heming",29,1,null,"","","",11,"",{"$f":"IF(AZ30=\"\",\"\",AZ30)","v":""},{"$f":"IF(BE30=\"\",\"\",BE30)","v":""},{"$f":"IF(BJ30=\"\",\"\",BJ30)","v":""},null,29,"","","","","","","","",null,null,null,null,0,null,null,null,null,0,null,null,null,null,0,null,11,24,5,29,null,null,null,null,0,null,null,null,null,0,null,null,null,null,0,null,null,null,null,0,null,25,6,{"$f":"IF($F25=7,1,0)","v":0},{"$f":"IF($F25=6,1,0)","v":0},{"$f":"IF($F25=5,1,0)","v":0},{"$f":"IF($F25=4,1,0)","v":0},{"$f":"IF($F25=3,1,0)","v":0},{"$f":"IF($F25=2,1,0)","v":1},{"$f":"IF($F25=1,1,0)","v":0}]
[26,"Trondsen","Marie Arnstad","Heming",25,1,null,"","",13,"","",{"$f":"IF(AU31=\"\",\"\",AU31)","v":""},{"$f":"IF(AZ31=\"\",\"\",AZ31)","v":""},{"$f":"IF(BE31=\"\",\"\",BE31)","v":""},null,25,"","","","","","","","",null,null,null,null,0,null,null,null,null,0,null,13,20,5,25,null,null,null,null,0,null,null,null,null,0,null,null,null,null,0,null,null,null,null,0,null,null,null,null,0,null,26,5,{"$f":"IF($F26=7,1,0)","v":0},{"$f":"IF($F26=6,1,0)","v":0},{"$f":"IF($F26=5,1,0)","v":0},{"$f":"IF($F26=4,1,0)","v":0},{"$f":"IF($F26=3,1,0)","v":0},{"$f":"IF($F26=2,1,0)","v":0},{"$f":"IF($F26=1,1,0)","v":1}]
[27,"Pedersen","Thea","Ullensaker",20,1,null,16,"","","","",{"$f":"IF(AZ32=\"\",\"\",AZ32)","v":""},{"$f":"IF(BE32=\"\",\"\",BE32)","v":""},{"$f":"IF(BJ32=\"\",\"\",BJ32)","v":""},null,20,"","","","","","","","",null,16,15,5,20,null,null,null,null,0,null,null,null,null,0,null,null,null,null,0,null,null,null,null,0,null,null,null,null,0,null,null,null,null,0,null,null,null,null,0,null,27,4,{"$f":"IF($F26=7,1,0)","v":0},{"$f":"IF($F26=6,1,0)","v":0},{"$f":"IF($F26=5,1,0)","v":0},{"$f":"IF($F26=4,1,0)","v":0},{"$f":"IF($F26=3,1,0)","v":0},{"$f":"IF($F26=2,1,0)","v":0},{"$f":"IF($F26=1,1,0)","v":1}]
[28,"Westrum","Suzanne Paulette Leirvik","Njård",17,1,null,"","","","",{"$f":"IF(AQ33=\"\",\"\",AQ33)","v":""},{"$f":"IF(AU33=\"\",\"\",AU33)","v":19},{"$f":"IF(AZ33=\"\",\"\",AZ33)","v":""},{"$f":"IF(BE33=\"\",\"\",BE33)","v":""},null,17,"","","","",{"$f":"IF($F33>=5,IF(AR33=\"\",\"\",AR33),\"\")","v":""},{"$f":"IF($F33>=5,IF(AV33=\"\",\"\",AV33),\"\")","v":""},{"$f":"IF($F33>=5,IF(BA33=\"\",\"\",BA33),\"\")","v":""},{"$f":"IF($F33>=5,IF(BF33=\"\",\"\",BF33),\"\")","v":""},null,null,null,null,0,null,null,null,null,0,null,null,null,null,0,null,null,null,null,0,null,19,12,5,17,null,null,null,null,0,null,null,null,null,0,null,null,null,null,0,null,28,3,{"$f":"IF($F27=7,1,0)","v":0},{"$f":"IF($F27=6,1,0)","v":0},{"$f":"IF($F27=5,1,0)","v":0},{"$f":"IF($F27=4,1,0)","v":0},{"$f":"IF($F27=3,1,0)","v":0},{"$f":"IF($F27=2,1,0)","v":0},{"$f":"IF($F27=1,1,0)","v":1}]
[29,"Sylvester-Davik","Madeleine","Tertnes",5,1,null,"","","DNF","",{"$f":"IF(AU34=\"\",\"\",AU34)","v":""},"","","",null,5,"","","","",{"$f":"IF($F34>=5,IF(AV34=\"\",\"\",AV34),\"\")","v":""},{"$f":"IF($F34>=5,IF(BA34=\"\",\"\",BA34),\"\")","v":""},{"$f":"IF($F34>=5,IF(BF34=\"\",\"\",BF34),\"\")","v":""},{"$f":"IF($F34>=5,IF(BK34=\"\",\"\",BK34),\"\")","v":""},null,null,null,null,0,null,null,null,null,0,null,"DNF",0,5,5,null,null,null,null,0,null,null,null,null,0,null,null,null,null,0,null,null,null,null,0,null,null,null,null,0,null,29,2,0,0,0,0,0,1,0]
[29,"Sylvester-Davik","Pia","Tertnes",5,1,null,"","","DNF","",{"$f":"IF(AQ35=\"\",\"\",AQ35)","v":""},"","","",null,5,"","","","",{"$f":"IF($F35>=5,IF(AV35=\"\",\"\",AV35),\"\")","v":""},{"$f":"IF($F35>=5,IF(BA35=\"\",\"\",BA35),\"\")","v":""},{"$f":"IF($F35>=5,IF(BF35=\"\",\"\",BF35),\"\")","v":""},{"$f":"IF($F35>=5,IF(BK35=\"\",\"\",BK35),\"\")","v":""},null,null,null,null,0,null,null,null,null,0,null,"DNF",0,5,5,null,null,null,null,0,null,null,null,null,0,null,null,null,null,0,null,null,null,null,0,null,null,null,null,0,null,30,1,0,0,0,0,0,0,1]
[29,"Larsen","Kornelia Wang","LIL Alpin",5,1,null,"","","","DNF",{"$f":"IF(AU36=\"\",\"\",AU36)","v":""},"","","",null,5,"","","","",{"$f":"IF($F36>=5,IF(AV36=\"\",\"\",AV36),\"\")","v":""},{"$f":"IF($F36>=5,IF(BA36=\"\",\"\",BA36),\"\")","v":""},{"$f":"IF($F36>=5,IF(BF36=\"\",\"\",BF36),\"\")","v":""},{"$f":"IF($F36>=5,IF(BK36=\"\",\"\",BK36),\"\")","v":""},null,null,null,null,0,null,null,null,null,0,null,null,null,null,0,null,"DNF",0,5,5,null,null,null,null,0,null,null,null,null,0,null,null,null,null,0,null,null,null,null,0,null,31,null,{"$f":"IF($F27=7,1,0)","v":0},{"$f":"IF($F27=6,1,0)","v":0},{"$f":"IF($F27=5,1,0)","v":0},{"$f":"IF($F27=4,1,0)","v":0},{"$f":"IF($F27=3,1,0)","v":0},{"$f":"IF($F27=2,1,0)","v":0},{"$f":"IF($F27=1,1,0)","v":1}]
[29,"Greibrokk","Mathilde","Stabæk",5,1,null,"","","","",{"$f":"IF(AQ37=\"\",\"\",AQ37)","v":""},"DNF","","",null,5,{"$f":"IF($F28>=5,IF(AB37=\"\",\"\",AB37),\"\")","v":""},{"$f":"IF($F28>=5,IF(AG37=\"\",\"\",AG37),\"\")","v":""},{"$f":"IF($F28>=5,IF(AL37=\"\",\"\",AL37),\"\")","v":""},{"$f":"IF($F28>=5,IF(AQ37=\"\",\"\",AQ37),\"\")","v":""},{"$f":"IF($F28>=5,IF(AR37=\"\",\"\",AR37),\"\")","v":""},{"$f":"IF($F28>=5,IF(AV37=\"\",\"\",AV37),\"\")","v":""},{"$f":"IF($F28>=5,IF(BA37=\"\",\"\",BA37),\"\")","v":""},{"$f":"IF($F28>=5,IF(BF37=\"\",\"\",BF37),\"\")","v":""},null,null,null,null,0,null,null,null,null,0,null,null,null,null,0,null,null,null,null,0,null,"DNF",0,5,5,null,null,null,null,0,null,null,null,null,0,null,null,null,null,0,null,32,null,0,0,0,0,0,1,0]
[33,"Sandal","Jenny Bye","Ljan",0,0,null,"","","","",{"$f":"IF(AU38=\"\",\"\",AU38)","v":""},"","","",null,0,{"$f":"IF($F38>=5,IF(AB38=\"\",\"\",AB38),\"\")","v":""},{"$f":"IF($F38>=5,IF(AG38=\"\",\"\",AG38),\"\")","v":""},{"$f":"IF($F38>=5,IF(AL38=\"\",\"\",AL38),\"\")","v":""},{"$f":"IF($F38>=5,IF(AQ38=\"\",\"\",AQ38),\"\")","v":""},{"$f":"IF($F38>=5,IF(AV38=\"\",\"\",AV38),\"\")","v":""},{"$f":"IF($F38>=5,IF(BA38=\"\",\"\",BA38),\"\")","v":""},{"$f":"IF($F38>=5,IF(BF38=\"\",\"\",BF38),\"\")","v":""},{"$f":"IF($F38>=5,IF(BK38=\"\",\"\",BK38),\"\")","v":""},null,null,null,null,0,null,null,null,null,0,null,null,null,null,0,null,null,null,null,0,null,null,null,null,0,null,null,null,null,0,null,null,null,null,0,null,null,null,null,0,null,33,null,0,0,0,0,0,0,1]
[null,null,null,null,null,null,null,{"$f":"IF(AA39=\"\",\"\",AA39)","v":""},{"$f":"IF(AF39=\"\",\"\",AF39)","v":""},{"$f":"IF(AK39=\"\",\"\",AK39)","v":""},{"$f":"IF(AP39=\"\",\"\",AP39)","v":""},"",{"$f":"IF(AU39=\"\",\"\",AU39)","v":""},{"$f":"IF(AZ39=\"\",\"\",AZ39)","v":""},{"$f":"IF(BE39=\"\",\"\",BE39)","v":""},null,{"$f":"AD39+AI39+AN39+AS39+AX39+BC39+BH39","v":0},{"$f":"IF($F30>=5,IF(AB39=\"\",\"\",AB39),\"\")","v":""},{"$f":"IF($F30>=5,IF(AG39=\"\",\"\",AG39),\"\")","v":""},{"$f":"IF($F30>=5,IF(AL39=\"\",\"\",AL39),\"\")","v":""},{"$f":"IF($F30>=5,IF(AQ39=\"\",\"\",AQ39),\"\")","v":""},"",{"$f":"IF($F30>=5,IF(AV39=\"\",\"\",AV39),\"\")","v":""},{"$f":"IF($F30>=5,IF(BA39=\"\",\"\",BA39),\"\")","v":""},{"$f":"IF($F30>=5,IF(BF39=\"\",\"\",BF39),\"\")","v":""},null,null,null,null,{"$f":"AB39+AC39","v":0},null,null,null,null,{"$f":"AG39+AH39","v":0},null,null,null,null,{"$f":"AL39+AM39","v":0},null,null,null,null,{"$f":"AQ39+AR39","v":0},null,null,null,null,{"$f":"AV39+AW39","v":0},null,null,null,null,{"$f":"BA39+BB39","v":0},null,null,null,null,{"$f":"BF39+BG39","v":0},null,null,null,null,{"$f":"BK39+BL39","v":0},null,34,null,0,0,0,0,0,0,1]
[null,null,null,null,null,null,null,"","","","","","","","",null,0,"","","","","","","","",null,null,null,null,0,null,null,null,null,0,null,null,null,null,0,null,null,null,null,0,null,null,null,null,0,null,null,null,null,0,null,null,null,null,0,null,null,null,null,0,null,35,null,0,0,0,0,0,0,1]
[null,null,null,null,null,null,null,"","","","","","","","",null,0,"","","","","","","","",null,null,null,null,0,null,null,null,null,0,null,null,null,null,0,null,null,null,null,0,null,null,null,null,0,null,null,null,null,0,null,null,null,null,0,null,null,null,null,0,null,36,null,0,0,0,0,0,0,1]
[null,null,null,null,null,null,null,"","","","","","","","",null,0,"","","","","","","","",null,null,null,null,0,null,null,null,null,0,null,null,null,null,0,null,null,null,null,0,null,null,null,null,0,null,null,null,null,0,null,null,null,null,0,null,null,null,null,0,null,37,null,0,0,0,0,0,0,1]
[null,null,null,null,null,null,null,"","","","","","","","",null,0,"","","","","","","","",null,null,null,null,0,null,null,null,null,0,null,null,null,null,0,null,null,null,null,0,null,null,null,null,0,null,null,null,null,0,null,null,null,null,0,null,null,null,null,0,null,38,null,0,0,0,0,0,0,1]
[null,null,null,null,null,null,null,"","","","","","","","",null,0,"","","","","","","","",null,null,null,null,0,null,null,null,null,0,null,null,null,null,0,null,null,null,null,0,null,null,null,null,0,null,null,null,null,0,null,null,null,null,0,null,null,null,null,0,null,39,null,0,0,0,0,0,0,1]
[null,null,null,null,null,null,null,"","","","","","","","",null,0,"","","","","","","","",null,null,null,null,0,null,null,null,null,0,null,null,null,null,0,null,null,null,null,0,null,null,null,null,0,null,null,null,null,0,null,null,null,null,0,null,null,null,null,0,null,40,null,0,0,0,0,0,0,1]
[null,null,null,null,null,null,null,"","","","","","","","",null,0,"","","","","","","","",null,null,null,null,0,null,null,null,null,0,null,null,null,null,0,null,null,null,null,0,null,null,null,null,0,null,null,null,null,0,null,null,null,null,0,null,null,null,null,0,null,41,null,0,0,0,0,0,0,1]
[null,null,null,null,null,null,null,"","","","","","","","",null,0,"","","","","","","","",null,null,null,null,0,null,null,null,null,0,null,null,null,null,0,null,null,null,null,0,null,null,null,null,0,null,null,null,null,0,null,null,null,null,0,null,null,null,null,0,null,42,null,0,0,0,0,0,0,0]
[null,null,null,null,null,null,null,"","","","","","","","",null,0,"","","","","","","","",null,null,null,null,0,null,null,null,null,0,null,null,null,null,0,null,null,null,null,0,null,null,null,null,0,null,null,null,null,0,null,null,null,null,0,null,null,null,null,0,null,43,null,0,0,0,0,0,0,0]
[null,null,null,null,null,null,null,"","","","","","","","",null,0,"","","","","","","","",null,null,null,null,0,null,null,null,null,0,null,null,null,null,0,null,null,null,null,0,null,null,null,null,0,null,null,null,null,0,null,null,null,null,0,null,null,null,null,0,null,44,null,0,0,0,0,0,0,0]
[null,null,null,null,null,null,null,"","","","","","","","",null,0,"","","","","","","","",null,null,null,null,0,null,null,null,null,0,null,null,null,null,0,null,null,null,null,0,null,null,null,null,0,null,null,null,null,0,null,null,null,null,0,null,null,null,null,0,null,45,null,0,0,0,0,0,0,0]
[null,null,null,null,null,null,null,"","","",{"$f":"IF(AP51=\"\",\"\",AP51)","v":""},"","","","",null,0,"","","","","","","","",null,null,null,null,0,null,null,null,null,0,null,null,null,null,0,null,null,null,null,0,null,null,null,null,0,null,null,null,null,0,null,null,null,null,0,null,null,null,null,0,null,46,null,0,0,0,0,0,0,0]
[null,null,null,null,null,null,null,"","","","","","","","",null,0,"","","","","","","","",null,null,null,null,0,null,null,null,null,0,null,null,null,null,0,null,null,null,null,0,null,null,null,null,0,null,null,null,null,0,null,null,null,null,0,null,null,null,null,0,null,47,null,0,0,0,0,0,0,0]
[null,null,null,null,null,null,null,"","","","","","","","",null,0,"","","","","","","","",null,null,null,null,0,null,null,null,null,0,null,null,null,null,0,null,null,null,null,0,null,null,null,null,0,null,null,null,null,0,null,null,null,null,0,null,null,null,null,0,null,48,null,0,0,0,0,0,0,0]

{"sheet":"G12 2017","index":9,"n_rows":53,"n_cols":75,"rows_kept":53,"cut":false,"hidden":false,"merged":[[0,42,0,45],[2,26,2,29],[2,31,2,34],[2,36,2,39],[2,41,2,44],[3,62,3,64],[4,7,4,14],[4,17,4,24],[2,51,2,54],[2,56,2,59],[2,61,2,64],[3,27,3,29],[3,32,3,34],[3,37,3,39],[3,42,3,44],[3,47,3,49],[3,52,3,54],[3,57,3,59],[2,46,2,49]]}
["Resultatliste Oslo Cup 2017 - Gutter 12 år"]
[{"$f":"'Forside 2017'!A2","v":"Etter 5 av 8 renn"}]
[null,null,null,null,null,null,null,"IRS Rennet","Ljan Rennet","Njård Rennet","Ready Rennet","Telenor Arena Cup","Euro-tecfarten","Oslo Alpinfestival SL","Oslo Alpinfestival SSL",null,null,"IRS Rennet","Ljan Rennet","Njård Rennet","Ready Rennet","Telenor Arena Cup","Euro-tecfarten","Oslo Alpinfestival SL","Oslo Alpinfestival SSL",null,"--------IRS Rennet----------",null,null,null,null,"----------Ljan Rennet---------",null,null,null,null,"--------Njård Rennet----------",null,null,null,null,"--------Ready Rennet---------",null,null,null,null,"-----Telenor Arena Cup----",null,null,null,null,"------Euro-tecfarten--------",null,null,null,null,"---Oslo Alpinfestival SL---",null,null,null,null,"---Oslo Alpinfestival SSL---"]
[null,null,null,null,null,"Antall",null,"2016-02-04","2016-02-05","2016-02-10","2016-02-11","2016-02-15","2016-03-01","2017-03-11","2016-03-12",null,"Poeng","2016-02-04","2016-02-05","2016-02-10","2016-02-11","2016-02-15","2016-03-01","2017-03-11","2016-03-12",null,null,"--------Poeng--------",null,null,null,null,"--------Poeng--------",null,null,null,null,"-------Poeng---------",null,null,null,null,"-------Poeng---------",null,null,null,null,"-------Poeng---------",null,null,null,null,"-------Poeng---------",null,null,null,null,"-------Poeng---------",null,null,null,null,"-------Poeng---------",null,null,null,null,null,"Løpere med ","Løpere med ","Løpere med ","Løpere med ","Løpere med ","Løpere med ","Løpere med "]
["Plass","Etternavn","Fornavn","Klubb","Poeng","renn",null,"------------------------------Plassering i rennene---------------------------------",null,null,null,null,null,null,null,null,"brutto","----------------Resultatpoeng hvis mer enn 4 renn----------------",null,null,null,null,null,null,null,null,"Plass","Res.","Del.","Tot.",null,"Plass","Res.","Del.","Tot.",null,"Plass","Res.","Del.","Tot.",null,"Plass","Res.","Del.","Tot.",null,"Plass","Res.","Del.","Tot.",null,"Plass","Res.","Del.","Tot.",null,"Plass","Res.","Del.","Tot.",null,"Plass","Res.","Del.","Tot.",null,null,null,"8 renn","7 renn","6 renn","5 renn","4 renn","3 renn","kun 1 renn"]
[1,"Fosseidbråten","Joakim","Ready",{"$f":"Q6-R6","v":365},{"$f":"COUNT(AC6,AH6,AM6,AR6,AW6,BB6,BG6,BL6)","v":5},null,{"$f":"IF(AA6=\"\",\"\",AA6)","v":14},{"$f":"IF(AF6=\"\",\"\",AF6)","v":2},{"$f":"IF(AK6=\"\",\"\",AK6)","v":1},{"$f":"IF(AP6=\"\",\"\",AP6)","v":1},{"$f":"IF(AU6=\"\",\"\",AU6)","v":3},{"$f":"IF(AZ6=\"\",\"\",AZ6)","v":""},{"$f":"IF(BE6=\"\",\"\",BE6)","v":""},{"$f":"IF(BJ6=\"\",\"\",BJ6)","v":""},null,{"$f":"AD6+AI6+AN6+AS6+AX6+BC6+BH6","v":383},{"$f":"IF($F6>=5,IF(AB6=\"\",\"\",AB6),\"\")","v":18},{"$f":"IF($F6>=5,IF(AG6=\"\",\"\",AG6),\"\")","v":80},{"$f":"IF($F6>=5,IF(AL6=\"\",\"\",AL6),\"\")","v":100},{"$f":"IF($F6>=5,IF(AQ6=\"\",\"\",AQ6),\"\")","v":100},{"$f":"IF($F6>=5,IF(AV6=\"\",\"\",AV6),\"\")","v":60},{"$f":"IF($F6>=5,IF(BA6=\"\",\"\",BA6),\"\")","v":""},{"$f":"IF($F6>=5,IF(BF6=\"\",\"\",BF6),\"\")","v":""},{"$f":"IF($F6>=5,IF(BK6=\"\",\"\",BK6),\"\")","v":""},null,14,18,5,{"$f":"AB6+AC6","v":23},null,2,80,5,{"$f":"AG6+AH6","v":85},null,1,100,5,{"$f":"AL6+AM6","v":105},null,1,100,5,{"$f":"AQ6+AR6","v":105},null,3,60,5,{"$f":"AV6+AW6","v":65},null,null,null,null,{"$f":"BA6+BB6","v":0},null,null,null,null,{"$f":"BF6+BG6","v":0},null,null,null,null,{"$f":"BK6+BL6","v":0},null,1,100,{"$f":"IF($F6=7,1,0)","v":0},{"$f":"IF($F6=6,1,0)","v":0},{"$f":"IF($F6=5,1,0)","v":1},{"$f":"IF($F6=4,1,0)","v":0},{"$f":"IF($F6=3,1,0)","v":0},{"$f":"IF($F6=2,1,0)","v":0},{"$f":"IF($F6=1,1,0)","v":0}]
[{"$f":"IF(E7<E6,BO7,A6)","v":1},"Ulrichsen Vigsnæs","Victor","Heming",{"$f":"Q7-R7","v":365},5,null,13,1,2,2,2,"","","",null,{"$f":"AD7+AI7+AN7+AS7+AX7+BC7+BH7","v":385},20,100,80,80,80,"","","",null,13,20,5,25,null,1,100,5,105,null,2,80,5,85,null,2,80,5,85,null,2,80,5,85,null,null,null,null,0,null,null,null,null,0,null,null,null,null,0,null,2,80,{"$f":"IF($F7=7,1,0)","v":0},{"$f":"IF($F7=6,1,0)","v":0},{"$f":"IF($F7=5,1,0)","v":1},{"$f":"IF($F7=4,1,0)","v":0},{"$f":"IF($F7=3,1,0)","v":0},{"$f":"IF($F7=2,1,0)","v":0},{"$f":"IF($F7=1,1,0)","v":0}]
[3,"Fredriksen","Mathias","Heming",{"$f":"Q8","v":237},5,null,1,"DSQ",4,12,6,"","","",null,{"$f":"AD8+AI8+AN8+AS8+AX8+BC8+BH8","v":237},100,0,50,22,40,"","","",null,1,100,5,105,null,"DSQ",0,5,5,null,4,50,5,55,null,12,22,5,27,null,6,40,5,45,null,null,null,null,0,null,null,null,null,0,null,null,null,null,0,null,3,60,0,0,1,0,0,0,0]
[4,"Østrøm","Christoffer","Heming",{"$f":"Q9-T9","v":234},5,null,2,3,10,6,9,"","","",null,{"$f":"AD9+AI9+AN9+AS9+AX9+BC9+BH9","v":260},80,60,26,40,29,"","","",null,2,80,5,85,null,3,60,5,65,null,10,26,5,31,null,6,40,5,45,null,9,29,5,34,null,null,null,null,0,null,null,null,null,0,null,null,null,null,0,null,4,50,0,0,1,0,0,0,0]
[5,"Bakkevig","Rasmus","Heming",{"$f":"Q10-S10","v":231},5,null,10,13,3,13,1,"","","",null,{"$f":"AD10+AI10+AN10+AS10+AX10+BC10+BH10+BM10","v":251},26,20,60,20,100,"","","",null,10,26,5,31,null,13,20,5,25,null,3,60,5,65,null,13,20,5,25,null,1,100,5,105,null,null,null,null,0,null,null,null,null,0,null,null,null,null,0,null,5,45,0,0,1,0,0,0,0]
[6,"Solheim","Erik Lund","Ready",{"$f":"Q11-V11","v":225},5,null,4,4,6,3,14,"","","",null,{"$f":"AD11+AI11+AN11+AS11+AX11+BC11+BH11","v":243},50,50,40,60,18,"","","",null,4,50,5,55,null,4,50,5,55,null,6,40,5,45,null,3,60,5,65,null,14,18,5,23,null,null,null,null,0,null,null,null,null,0,null,null,null,null,0,null,6,40,0,0,1,0,0,0,0]
[7,"Nergaard","Sverre","Heming",{"$f":"Q12","v":191},5,null,6,"DSQ",6,4,7,"","","",null,191,40,0,40,50,36,"","","",null,6,40,5,45,null,"DSQ",0,5,5,null,6,40,5,45,null,4,50,5,55,null,7,36,5,41,null,null,null,null,0,null,null,null,null,0,null,null,null,null,0,null,7,36,0,0,1,0,0,0,0]
[8,"Lorentzen","Carl Axel","Heming",{"$f":"Q13","v":171},5,null,3,"DSQ",5,9,8,"","","",null,171,60,0,45,9,32,"","","",null,3,60,5,65,null,"DSQ",0,5,5,null,5,45,5,50,null,9,9,5,14,null,8,32,5,37,null,null,null,null,0,null,null,null,null,0,null,null,null,null,0,null,8,32,0,0,1,0,0,0,0]
[9,"Buchardt","Aksel","Heming",{"$f":"Q14","v":166},4,null,8,6,9,5,"","","","",null,166,"","","","","","","","",null,8,32,5,37,null,6,40,5,45,null,9,29,5,34,null,5,45,5,50,null,null,null,null,0,null,null,null,null,0,null,null,null,null,0,null,null,null,null,0,null,9,29,0,0,0,1,0,0,0]
[10,"Torrissen","Philip Ingulstad","Kjelsås",{"$f":"Q15-T15","v":131},5,null,11,7,15,11,12,"",{"$f":"IF(AZ15=\"\",\"\",AZ15)","v":""},{"$f":"IF(BE15=\"\",\"\",BE15)","v":""},null,147,24,36,16,24,22,"","","",null,11,24,5,29,null,7,36,5,41,null,15,16,5,21,null,11,24,5,29,null,12,22,5,27,null,null,null,null,0,null,null,null,null,0,null,null,null,null,0,null,10,26,0,0,1,0,0,0,0]
[11,"Maaø","Filippo Fregosi","IRS",{"$f":"Q16","v":119},5,null,9,5,13,"DNF","DNF","",{"$f":"IF(BE16=\"\",\"\",BE16)","v":""},{"$f":"IF(BJ16=\"\",\"\",BJ16)","v":""},null,119,29,45,20,0,0,"","","",null,9,29,5,34,null,5,45,5,50,null,13,20,5,25,null,"DNF",0,5,5,null,"DNF",0,5,5,null,null,null,null,0,null,null,null,null,0,null,null,null,null,0,null,11,24,0,0,1,0,0,0,0]
[12,"Gjetsund","Eivind","Heming",97,3,null,"","",11,8,10,"",{"$f":"IF(AZ17=\"\",\"\",AZ17)","v":""},{"$f":"IF(BE17=\"\",\"\",BE17)","v":""},null,97,"","","","","","","","",null,null,null,null,0,null,null,null,null,0,null,11,24,5,29,null,8,32,5,37,null,10,26,5,31,null,null,null,null,0,null,null,null,null,0,null,null,null,null,0,null,12,22,0,0,0,0,1,0,0]
[13,"Holst","Marcus Normann","Kjelsås",83,5,null,"DSQ","DSQ",12,7,"DNF","",{"$f":"IF(BE18=\"\",\"\",BE18)","v":""},{"$f":"IF(BJ18=\"\",\"\",BJ18)","v":""},null,83,0,0,22,36,0,"","","",null,"DSQ",0,5,5,null,"DSQ",0,5,5,null,12,22,5,27,null,7,36,5,41,null,"DNF",0,5,5,null,null,null,null,0,null,null,null,null,0,null,null,null,null,0,null,13,20,0,0,1,0,0,0,0]
[14,"Schei","Viktor","IRS",77,3,null,"",8,"",10,11,"",{"$f":"IF(BE19=\"\",\"\",BE19)","v":""},{"$f":"IF(BJ19=\"\",\"\",BJ19)","v":""},null,77,"","","","","","","","",null,null,null,null,0,null,8,32,5,37,null,null,null,null,0,null,10,6,5,11,null,11,24,5,29,null,null,null,null,0,null,null,null,null,0,null,null,null,null,0,null,14,18,{"$f":"IF($F18=7,1,0)","v":0},{"$f":"IF($F18=6,1,0)","v":0},{"$f":"IF($F18=5,1,0)","v":1},{"$f":"IF($F18=4,1,0)","v":0},{"$f":"IF($F18=3,1,0)","v":0},{"$f":"IF($F18=2,1,0)","v":0},{"$f":"IF($F18=1,1,0)","v":0}]
[15,"Nordklev","Ola","Heming",70,2,null,7,11,"","","","",{"$f":"IF(BE20=\"\",\"\",BE20)","v":""},{"$f":"IF(BJ20=\"\",\"\",BJ20)","v":""},null,70,"","","","","","","","",null,7,36,5,41,null,11,24,5,29,null,null,null,null,0,null,null,null,null,0,null,null,null,null,0,null,null,null,null,0,null,null,null,null,0,null,null,null,null,0,null,15,16,{"$f":"IF($F19=7,1,0)","v":0},{"$f":"IF($F19=6,1,0)","v":0},{"$f":"IF($F19=5,1,0)","v":0},{"$f":"IF($F19=4,1,0)","v":0},{"$f":"IF($F19=3,1,0)","v":1},{"$f":"IF($F19=2,1,0)","v":0},{"$f":"IF($F19=1,1,0)","v":0}]
[16,"Pedersen","Sondre","Ullensaker",58,2,null,12,10,"","","","",{"$f":"IF(BE21=\"\",\"\",BE21)","v":""},{"$f":"IF(BJ21=\"\",\"\",BJ21)","v":""},null,58,"","","","","","","","",null,12,22,5,27,null,10,26,5,31,null,null,null,null,0,null,null,null,null,0,null,null,null,null,0,null,null,null,null,0,null,null,null,null,0,null,null,null,null,0,null,16,15,{"$f":"IF($F20=7,1,0)","v":0},{"$f":"IF($F20=6,1,0)","v":0},{"$f":"IF($F20=5,1,0)","v":0},{"$f":"IF($F20=4,1,0)","v":0},{"$f":"IF($F20=3,1,0)","v":0},{"$f":"IF($F20=2,1,0)","v":1},{"$f":"IF($F20=1,1,0)","v":0}]
[17,"Lunder","Peder","Stabæk",55,1,null,"","","","",4,"",{"$f":"IF(AZ22=\"\",\"\",AZ22)","v":""},{"$f":"IF(BE22=\"\",\"\",BE22)","v":""},null,55,"","","","","","","","",null,null,null,null,0,null,null,null,null,0,null,null,null,null,0,null,null,null,null,0,null,4,50,5,55,null,null,null,null,0,null,null,null,null,0,null,null,null,null,0,null,17,14,{"$f":"IF($F20=7,1,0)","v":0},{"$f":"IF($F20=6,1,0)","v":0},{"$f":"IF($F20=5,1,0)","v":0},{"$f":"IF($F20=4,1,0)","v":0},{"$f":"IF($F20=3,1,0)","v":0},{"$f":"IF($F20=2,1,0)","v":1},{"$f":"IF($F20=1,1,0)","v":0}]
[18,"Brandt","Kasper","Heming",53,3,null,"","",14,"DNF",13,"",{"$f":"IF(BE23=\"\",\"\",BE23)","v":""},{"$f":"IF(BJ23=\"\",\"\",BJ23)","v":""},null,53,"","","","","","","","",null,null,null,null,0,null,null,null,null,0,null,14,18,5,23,null,"DNF",0,5,5,null,13,20,5,25,null,null,null,null,0,null,null,null,null,0,null,null,null,null,0,null,18,13,{"$f":"IF($F21=7,1,0)","v":0},{"$f":"IF($F21=6,1,0)","v":0},{"$f":"IF($F21=5,1,0)","v":0},{"$f":"IF($F21=4,1,0)","v":0},{"$f":"IF($F21=3,1,0)","v":0},{"$f":"IF($F21=2,1,0)","v":1},{"$f":"IF($F21=1,1,0)","v":0}]
[19,"Cappelen Mazzocchi","Mats","Heming",50,1,null,5,"","","","","",{"$f":"IF(BE24=\"\",\"\",BE24)","v":""},{"$f":"IF(BJ24=\"\",\"\",BJ24)","v":""},null,50,"","","","","","","","",null,5,45,5,50,null,null,null,null,0,null,null,null,null,0,null,null,null,null,0,null,null,null,null,0,null,null,null,null,0,null,null,null,null,0,null,null,null,null,0,null,19,12,{"$f":"IF($F22=7,1,0)","v":0},{"$f":"IF($F22=6,1,0)","v":0},{"$f":"IF($F22=5,1,0)","v":0},{"$f":"IF($F22=4,1,0)","v":0},{"$f":"IF($F22=3,1,0)","v":0},{"$f":"IF($F22=2,1,0)","v":0},{"$f":"IF($F22=1,1,0)","v":1}]
[19,"Bengston","Sebastian","Heming",50,1,null,"","","","",5,"",{"$f":"IF(AZ25=\"\",\"\",AZ25)","v":""},{"$f":"IF(BE25=\"\",\"\",BE25)","v":""},null,50,"","","","","","","","",null,null,null,null,0,null,null,null,null,0,null,null,null,null,0,null,null,null,null,0,null,5,45,5,50,null,null,null,null,0,null,null,null,null,0,null,null,null,null,0,null,20,11,{"$f":"IF($F23=7,1,0)","v":0},{"$f":"IF($F23=6,1,0)","v":0},{"$f":"IF($F23=5,1,0)","v":0},{"$f":"IF($F23=4,1,0)","v":0},{"$f":"IF($F23=3,1,0)","v":1},{"$f":"IF($F23=2,1,0)","v":0},{"$f":"IF($F23=1,1,0)","v":0}]
[21,"Rasmussen","Jonathan Holst","Stabæk",37,1,null,"","",8,"","","",{"$f":"IF(BE26=\"\",\"\",BE26)","v":""},{"$f":"IF(BJ26=\"\",\"\",BJ26)","v":""},null,37,"","","","","","","","",null,null,null,null,0,null,null,null,null,0,null,8,32,5,37,null,null,null,null,0,null,null,null,null,0,null,null,null,null,0,null,null,null,null,0,null,null,null,null,0,null,21,10,{"$f":"IF($F24=7,1,0)","v":0},{"$f":"IF($F24=6,1,0)","v":0},{"$f":"IF($F24=5,1,0)","v":0},{"$f":"IF($F24=4,1,0)","v":0},{"$f":"IF($F24=3,1,0)","v":0},{"$f":"IF($F24=2,1,0)","v":0},{"$f":"IF($F24=1,1,0)","v":1}]
[22,"Hassel","Anton","Kjelsås",31,1,null,"",9,"","","","",{"$f":"IF(BE27=\"\",\"\",BE27)","v":""},{"$f":"IF(BJ27=\"\",\"\",BJ27)","v":""},null,31,"","","","","","","","",null,null,null,null,0,null,9,26,5,31,null,null,null,null,0,null,null,null,null,0,null,null,null,null,0,null,null,null,null,0,null,null,null,null,0,null,null,null,null,0,null,22,9,0,0,0,0,0,0,1]
[23,"Gras","Nicolas","Ljan",27,1,null,"",12,"","","","",{"$f":"IF(BE28=\"\",\"\",BE28)","v":""},{"$f":"IF(BJ28=\"\",\"\",BJ28)","v":""},null,27,"","","","","","","","",null,null,null,null,0,null,12,22,5,27,null,null,null,null,0,null,null,null,null,0,null,null,null,null,0,null,null,null,null,0,null,null,null,null,0,null,null,null,null,0,null,23,8,0,0,0,0,0,0,1]
[24,"Ellefsen","Nicolay","Ljan",23,1,null,"",14,"","","",{"$f":"IF(AU29=\"\",\"\",AU29)","v":""},{"$f":"IF(AZ29=\"\",\"\",AZ29)","v":""},{"$f":"IF(BE29=\"\",\"\",BE29)","v":""},null,23,"","","","","","","","",null,null,null,null,0,null,14,18,5,23,null,null,null,null,0,null,null,null,null,0,null,null,null,null,0,null,null,null,null,0,null,null,null,null,0,null,null,null,null,0,null,24,7,{"$f":"IF($F24=7,1,0)","v":0},{"$f":"IF($F24=6,1,0)","v":0},{"$f":"IF($F24=5,1,0)","v":0},{"$f":"IF($F24=4,1,0)","v":0},{"$f":"IF($F24=3,1,0)","v":0},{"$f":"IF($F24=2,1,0)","v":0},{"$f":"IF($F24=1,1,0)","v":1}]
[25,"Sellæg","Johannes","Ready",5,1,null,"DNF","","","","",{"$f":"IF(AZ30=\"\",\"\",AZ30)","v":""},{"$f":"IF(BE30=\"\",\"\",BE30)","v":""},{"$f":"IF(BJ30=\"\",\"\",BJ30)","v":""},null,5,"","","","","","","","",null,"DNF",0,5,5,null,null,null,null,0,null,null,null,null,0,null,null,null,null,0,null,null,null,null,0,null,null,null,null,0,null,null,null,null,0,null,null,null,null,0,null,25,6,{"$f":"IF($F25=7,1,0)","v":0},{"$f":"IF($F25=6,1,0)","v":0},{"$f":"IF($F25=5,1,0)","v":0},{"$f":"IF($F25=4,1,0)","v":0},{"$f":"IF($F25=3,1,0)","v":0},{"$f":"IF($F25=2,1,0)","v":0},{"$f":"IF($F25=1,1,0)","v":1}]
[25,"Opsann","Didrik Kalland","IRS",5,1,null,"DSQ","","","","",{"$f":"IF(AZ31=\"\",\"\",AZ31)","v":""},{"$f":"IF(BE31=\"\",\"\",BE31)","v":""},{"$f":"IF(BJ31=\"\",\"\",BJ31)","v":""},null,5,"","","","","","","","",null,"DSQ",0,5,5,null,null,null,null,0,null,null,null,null,0,null,null,null,null,0,null,null,null,null,0,null,null,null,null,0,null,null,null,null,0,null,null,null,null,0,null,26,5,{"$f":"IF($F26=7,1,0)","v":0},{"$f":"IF($F26=6,1,0)","v":0},{"$f":"IF($F26=5,1,0)","v":0},{"$f":"IF($F26=4,1,0)","v":0},{"$f":"IF($F26=3,1,0)","v":0},{"$f":"IF($F26=2,1,0)","v":0},{"$f":"IF($F26=1,1,0)","v":1}]
[null,null,null,null,null,null,null,{"$f":"IF(AA32=\"\",\"\",AA32)","v":""},{"$f":"IF(AF32=\"\",\"\",AF32)","v":""},{"$f":"IF(AK32=\"\",\"\",AK32)","v":""},{"$f":"IF(AP32=\"\",\"\",AP32)","v":""},{"$f":"IF(AU32=\"\",\"\",AU32)","v":""},{"$f":"IF(AU32=\"\",\"\",AU32)","v":""},{"$f":"IF(AZ32=\"\",\"\",AZ32)","v":""},{"$f":"IF(BE32=\"\",\"\",BE32)","v":""},null,{"$f":"AD32+AI32+AN32+AS32+AX32+BC32+BH32","v":0},{"$f":"IF($F32>=5,IF(AB32=\"\",\"\",AB32),\"\")","v":""},{"$f":"IF($F32>=5,IF(AG32=\"\",\"\",AG32),\"\")","v":""},{"$f":"IF($F32>=5,IF(AL32=\"\",\"\",AL32),\"\")","v":""},{"$f":"IF($F32>=5,IF(AQ32=\"\",\"\",AQ32),\"\")","v":""},{"$f":"IF($F32>=5,IF(AV32=\"\",\"\",AV32),\"\")","v":""},{"$f":"IF($F32>=5,IF(BA32=\"\",\"\",BA32),\"\")","v":""},{"$f":"IF($F32>=5,IF(BF32=\"\",\"\",BF32),\"\")","v":""},{"$f":"IF($F32>=5,IF(BK32=\"\",\"\",BK32),\"\")","v":""},null,null,null,null,{"$f":"AB32+AC32","v":0},null,null,null,null,{"$f":"AG32+AH32","v":0},null,null,null,null,{"$f":"AL32+AM32","v":0},null,null,null,null,{"$f":"AQ32+AR32","v":0},null,null,null,null,{"$f":"AV32+AW32","v":0},null,null,null,null,{"$f":"BA32+BB32","v":0},null,null,null,null,{"$f":"BF32+BG32","v":0},null,null,null,null,{"$f":"BK32+BL32","v":0},null,27,4,{"$f":"IF($F26=7,1,0)","v":0},{"$f":"IF($F26=6,1,0)","v":0},{"$f":"IF($F26=5,1,0)","v":0},{"$f":"IF($F26=4,1,0)","v":0},{"$f":"IF($F26=3,1,0)","v":0},{"$f":"IF($F26=2,1,0)","v":0},{"$f":"IF($F26=1,1,0)","v":1}]
[null,null,null,null,null,null,null,"","","","","","","","",null,0,"","","","","","","","",null,null,null,null,0,null,null,null,null,0,null,null,null,null,0,null,null,null,null,0,null,null,null,null,0,null,null,null,null,0,null,null,null,null,0,null,null,null,null,0,null,28,3,{"$f":"IF($F27=7,1,0)","v":0},{"$f":"IF($F27=6,1,0)","v":0},{"$f":"IF($F27=5,1,0)","v":0},{"$f":"IF($F27=4,1,0)","v":0},{"$f":"IF($F27=3,1,0)","v":0},{"$f":"IF($F27=2,1,0)","v":0},{"$f":"IF($F27=1,1,0)","v":1}]
[null,null,null,null,null,null,null,"","","","","","","","",null,0,"","","","","","","","",null,null,null,null,0,null,null,null,null,0,null,null,null,null,0,null,null,null,null,0,null,null,null,null,0,null,null,null,null,0,null,null,null,null,0,null,null,null,null,0,null,29,2,0,0,0,0,0,0,1]
[null,null,null,null,null,null,null,"","","",{"$f":"IF(AP35=\"\",\"\",AP35)","v":""},"","","","",null,0,"","","","","",{"$f":"IF($F35>=5,IF(AV35=\"\",\"\",AV35),\"\")","v":""},{"$f":"IF($F35>=5,IF(BA35=\"\",\"\",BA35),\"\")","v":""},{"$f":"IF($F35>=5,IF(BF35=\"\",\"\",BF35),\"\")","v":""},null,null,null,null,0,null,null,null,null,0,null,null,null,null,0,null,null,null,null,0,null,null,null,null,0,null,null,null,null,0,null,null,null,null,0,null,null,null,null,0,null,30,1,0,0,0,0,0,0,1]
[null,null,null,null,null,null,null,"","","","","","","","",null,0,"","","",{"$f":"IF($F36>=5,IF(AQ36=\"\",\"\",AQ36),\"\")","v":""},"","","","",null,null,null,null,0,null,null,null,null,0,null,null,null,null,0,null,null,null,null,0,null,null,null,null,0,null,null,null,null,0,null,null,null,null,0,null,null,null,null,0,null,31,null,{"$f":"IF($F27=7,1,0)","v":0},{"$f":"IF($F27=6,1,0)","v":0},{"$f":"IF($F27=5,1,0)","v":0},{"$f":"IF($F27=4,1,0)","v":0},{"$f":"IF($F27=3,1,0)","v":0},{"$f":"IF($F27=2,1,0)","v":0},{"$f":"IF($F27=1,1,0)","v":1}]
[null,null,null,null,null,null,null,"","","","","","","","",null,0,"","","","","","","","",null,null,null,null,0,null,null,null,null,0,null,null,null,null,0,null,null,null,null,0,null,null,null,null,0,null,null,null,null,0,null,null,null,null,0,null,null,null,null,0,null,32,null,0,0,0,0,0,0,1]
[null,null,null,null,null,null,null,"","","","","","","","",null,0,{"$f":"IF($F29>=5,IF(AB38=\"\",\"\",AB38),\"\")","v":""},{"$f":"IF($F29>=5,IF(AG38=\"\",\"\",AG38),\"\")","v":""},{"$f":"IF($F29>=5,IF(AL38=\"\",\"\",AL38),\"\")","v":""},{"$f":"IF($F29>=5,IF(AQ38=\"\",\"\",AQ38),\"\")","v":""},"",{"$f":"IF($F29>=5,IF(AV38=\"\",\"\",AV38),\"\")","v":""},{"$f":"IF($F29>=5,IF(BA38=\"\",\"\",BA38),\"\")","v":""},{"$f":"IF($F29>=5,IF(BF38=\"\",\"\",BF38),\"\")","v":""},null,null,null,null,0,null,null,null,null,0,null,null,null,null,0,null,null,null,null,0,null,null,null,null,0,null,null,null,null,0,null,null,null,null,0,null,null,null,null,0,null,33,null,0,0,0,0,0,0,1]
[null,null,null,null,null,null,null,"","","","","","","","",null,0,"","","","","","","","",null,null,null,null,0,null,null,null,null,0,null,null,null,null,0,null,null,null,null,0,null,null,null,null,0,null,null,null,null,0,null,null,null,null,0,null,null,null,null,0,null,34,null,0,0,0,0,0,0,1]
[null,null,null,null,null,null,null,"","","","","","","","",null,0,"","","","","","","","",null,null,null,null,0,null,null,null,null,0,null,null,null,null,0,null,null,null,null,0,null,null,null,null,0,null,null,null,null,0,null,null,null,null,0,null,null,null,null,0,null,35,null,0,0,0,0,0,0,1]
[null,null,null,null,null,null,null,"","","","","","","","",null,0,"","","","","","","","",null,null,null,null,0,null,null,null,null,0,null,null,null,null,0,null,null,null,null,0,null,null,null,null,0,null,null,null,null,0,null,null,null,null,0,null,null,null,null,0,null,36,null,0,0,0,0,0,0,0]
[null,null,null,null,null,null,null,"","","","","","","","",null,0,"","","","","","","","",null,null,null,null,0,null,null,null,null,0,null,null,null,null,0,null,null,null,null,0,null,null,null,null,0,null,null,null,null,0,null,null,null,null,0,null,null,null,null,0,null,37,null,0,0,0,0,0,0,0]
[null,null,null,null,null,null,null,"","","","","","","","",null,0,"","","","","","","","",null,null,null,null,0,null,null,null,null,0,null,null,null,null,0,null,null,null,null,0,null,null,null,null,0,null,null,null,null,0,null,null,null,null,0,null,null,null,null,0,null,38,null,0,0,0,0,0,0,0]
[null,null,null,null,null,null,null,"","","","","","","","",null,0,"","","","","","","","",null,null,null,null,0,null,null,null,null,0,null,null,null,null,0,null,null,null,null,0,null,null,null,null,0,null,null,null,null,0,null,null,null,null,0,null,null,null,null,0,null,39,null,0,0,0,0,0,0,0]
[null,null,null,null,null,null,null,"","","","","","","","",null,0,"","","","","","","","",null,null,null,null,0,null,null,null,null,0,null,null,null,null,0,null,null,null,null,0,null,null,null,null,0,null,null,null,null,0,null,null,null,null,0,null,null,null,null,0,null,40,null,0,0,0,0,0,0,0]
[null,null,null,null,null,null,null,"","","","","","","","",null,0,"","","","","","","","",null,null,null,null,0,null,null,null,null,0,null,null,null,null,0,null,null,null,null,0,null,null,null,null,0,null,null,null,null,0,null,null,null,null,0,null,null,null,null,0,null,41,null,0,0,0,0,0,0,0]
[null,null,null,null,null,null,null,"","","","","","","","",null,0,"","","","","","","","",null,null,null,null,0,null,null,null,null,0,null,null,null,null,0,null,null,null,null,0,null,null,null,null,0,null,null,null,null,0,null,null,null,null,0,null,null,null,null,0,null,42,null,0,0,0,0,0,0,0]
[null,null,null,null,null,null,null,"","","","","","","","",null,0,"","","","","","","","",null,null,null,null,0,null,null,null,null,0,null,null,null,null,0,null,null,null,null,0,null,null,null,null,0,null,null,null,null,0,null,null,null,null,0,null,null,null,null,0,null,43,null,0,0,0,0,0,0,0]
[null,null,null,null,null,null,null,"","","","","","","","",null,0,"","","","","","","","",null,null,null,null,0,null,null,null,null,0,null,null,null,null,0,null,null,null,null,0,null,null,null,null,0,null,null,null,null,0,null,null,null,null,0,null,null,null,null,0,null,44,null,0,0,0,0,0,0,0]
[null,null,null,null,null,null,null,"","","","","","","","",null,0,"","","","","","","","",null,null,null,null,0,null,null,null,null,0,null,null,null,null,0,null,null,null,null,0,null,null,null,null,0,null,null,null,null,0,null,null,null,null,0,null,null,null,null,0,null,45,null,0,0,0,0,0,0,0]
[null,null,null,null,null,null,null,"","","",{"$f":"IF(AP51=\"\",\"\",AP51)","v":""},"","","","",null,0,"","","","","","","","",null,null,null,null,0,null,null,null,null,0,null,null,null,null,0,null,null,null,null,0,null,null,null,null,0,null,null,null,null,0,null,null,null,null,0,null,null,null,null,0,null,46,null,0,0,0,0,0,0,0]
[null,null,null,null,null,null,null,"","","","","","","","",null,0,"","","","","","","","",null,null,null,null,0,null,null,null,null,0,null,null,null,null,0,null,null,null,null,0,null,null,null,null,0,null,null,null,null,0,null,null,null,null,0,null,null,null,null,0,null,47,null,0,0,0,0,0,0,0]
[null,null,null,null,null,null,null,"","","","","","","","",null,0,"","","","","","","","",null,null,null,null,0,null,null,null,null,0,null,null,null,null,0,null,null,null,null,0,null,null,null,null,0,null,null,null,null,0,null,null,null,null,0,null,null,null,null,0,null,48,null,0,0,0,0,0,0,0]

{"sheet":"Oslo Skikrets 2017","index":10,"n_rows":179,"n_cols":65,"rows_kept":179,"cut":false,"hidden":false,"merged":[[45,51,45,54],[45,56,45,59],[45,61,45,64],[46,27,46,29],[46,32,46,34],[46,37,46,39],[45,46,45,49],[46,42,46,44],[46,47,46,49],[46,52,46,54],[46,57,46,59],[46,62,46,64],[0,42,0,45],[2,26,2,29],[2,31,2,34],[2,36,2,39],[2,41,2,44],[2,61,2,64],[3,27,3,29],[3,32,3,34],[3,37,3,39],[3,42,3,44],[3,47,3,49],[3,52,3,54],[3,57,3,59],[2,46,2,49],[3,62,3,64],[42,42,42,45],[4,7,4,14],[4,17,4,24],[2,51,2,54],[2,56,2,59],[43,42,43,45],[45,26,45,29],[45,31,45,34],[45,36,45,39],[45,41,45,44],[47,7,47,14],[47,17,47,24],[110,42,110,45],[112,26,112,29],[112,31,112,34],[112,36,112,39],[112,41,112,44],[112,46,112,49],[112,51,112,54],[112,56,112,59],[112,61,112,64],[113,27,113,29],[113,32,113,34],[113,37,113,39],[113,42,113,44],[113,47,113,49],[113,52,113,54],[113,57,113,59],[113,62,113,64],[114,7,114,14],[114,17,114,24],[148,42,148,45],[150,26,150,29],[150,31,150,34],[150,36,150,39],[150,41,150,44],[150,61,150,64],[151,27,151,29],[151,32,151,34],[151,37,151,39],[151,42,151,44],[151,47,151,49],[151,52,151,54],[151,57,151,59],[151,62,151,64],[152,7,152,14],[152,17,152,24],[150,46,150,49],[150,51,150,54],[150,56,150,59]]}
["Resultatliste Oslo Cup 2017 - Jenter 11 år"]
["Etter 5 av 8 renn"]
[null,null,null,null,null,null,null,"IRS Rennet","Ljan Rennet","Njård Rennet","Ready Rennet","Telenor Arena Cup","Euro-tecfarten","Oslo Alpinfestival SL","Oslo Alpinfestival SSL",null,null,"IRS Rennet","Ljan Rennet","Njård Rennet","Ready Rennet","Telenor Arena Cup","Euro-tecfarten","Oslo Alpinfestival SL","Oslo Alpinfestival SSL",null,"--------IRS Rennet----------",null,null,null,null,"----------Ljan Rennet---------",null,null,null,null,"--------Njård Rennet----------",null,null,null,null,"--------Ready Rennet---------",null,null,null,null,"-----Telenor Arena Cup----",null,null,null,null,"------Euro-tecfarten--------",null,null,null,null,"---Oslo Alpinfestival SL---",null,null,null,null,"---Oslo Alpinfestival SSL---"]
[null,null,null,null,null,"Antall",null,"2016-02-04","2016-02-05","2016-02-10","2016-02-11","2016-02-15","2016-03-01","2017-03-11","2016-03-12",null,"Poeng","2016-02-04","2016-02-05","2016-02-10","2016-02-11","2016-02-15","2016-03-01","2017-03-11","2016-03-12",null,null,"--------Poeng--------",null,null,null,null,"--------Poeng--------",null,null,null,null,"-------Poeng---------",null,null,null,null,"-------Poeng---------",null,null,null,null,"-------Poeng---------",null,null,null,null,"-------Poeng---------",null,null,null,null,"-------Poeng---------",null,null,null,null,"-------Poeng---------"]
["Plass","Etternavn","Fornavn","Klubb","Poeng","renn",null,"------------------------------Plassering i rennene---------------------------------",null,null,null,null,null,null,null,null,"brutto","----------------Resultatpoeng hvis mer enn 4 renn----------------",null,null,null,null,null,null,null,null,"Plass","Res.","Del.","Tot.",null,"Plass","Res.","Del.","Tot.",null,"Plass","Res.","Del.","Tot.",null,"Plass","Res.","Del.","Tot.",null,"Plass","Res.","Del.","Tot.",null,"Plass","Res.","Del.","Tot.",null,"Plass","Res.","Del.","Tot.",null,"Plass","Res.","Del.","Tot."]
[1,"Rasmussen","Cornelia Nystrøm","Heming",{"$f":"Q6-V6","v":385},{"$f":"COUNT(AC6,AH6,AM6,AR6,AW6,BB6,BG6,BL6)","v":5},null,{"$f":"IF(AA6=\"\",\"\",AA6)","v":2},{"$f":"IF(AF6=\"\",\"\",AF6)","v":1},{"$f":"IF(AK6=\"\",\"\",AK6)","v":2},{"$f":"IF(AP6=\"\",\"\",AP6)","v":1},{"$f":"IF(AU6=\"\",\"\",AU6)","v":2},{"$f":"IF(AZ6=\"\",\"\",AZ6)","v":""},{"$f":"IF(BE6=\"\",\"\",BE6)","v":""},{"$f":"IF(BJ6=\"\",\"\",BJ6)","v":""},null,{"$f":"AD6+AI6+AN6+AS6+AX6+BC6+BH6","v":465},{"$f":"IF($F6>=5,IF(AB6=\"\",\"\",AB6),\"\")","v":80},{"$f":"IF($F6>=5,IF(AG6=\"\",\"\",AG6),\"\")","v":100},{"$f":"IF($F6>=5,IF(AL6=\"\",\"\",AL6),\"\")","v":80},{"$f":"IF($F6>=5,IF(AQ6=\"\",\"\",AQ6),\"\")","v":100},{"$f":"IF($F6>=5,IF(AV6=\"\",\"\",AV6),\"\")","v":80},{"$f":"IF($F6>=5,IF(BA6=\"\",\"\",BA6),\"\")","v":""},{"$f":"IF($F6>=5,IF(BF6=\"\",\"\",BF6),\"\")","v":""},{"$f":"IF($F6>=5,IF(BK6=\"\",\"\",BK6),\"\")","v":""},null,2,80,5,{"$f":"AB6+AC6","v":85},null,1,100,5,{"$f":"AG6+AH6","v":105},null,2,80,5,{"$f":"AL6+AM6","v":85},null,1,100,5,{"$f":"AQ6+AR6","v":105},null,2,80,5,{"$f":"AV6+AW6","v":85},null,null,null,null,{"$f":"BA6+BB6","v":0},null,null,null,null,{"$f":"BF6+BG6","v":0},null,null,null,null,{"$f":"BK6+BL6","v":0}]
[2,"Frederiksen","Charlotte Løvenskiold","Ready",{"$f":"Q7","v":241},5,null,"DSQ",7,3,3,3,"","","",null,241,0,36,60,60,60,"","","",null,"DSQ",0,5,5,null,7,36,5,41,null,3,60,5,65,null,3,60,5,65,null,3,60,5,65,null,null,null,null,0,null,null,null,null,0,null,null,null,null,0]
[3,"Thorsby","Pernille","Heming",{"$f":"Q8-V8","v":232},5,null,5,2,8,4,13,"","","",null,252,45,80,32,50,20,"","","",null,5,45,5,50,null,2,80,5,85,null,8,32,5,37,null,4,50,5,55,null,13,20,5,25,null,null,null,null,0,null,null,null,null,0,null,null,null,null,0]
[4,"Finn-Hansen","Nora","Heming ",{"$f":"Q9-V9","v":230},5,null,4,3,4,5,9,"","","",null,259,50,60,50,45,29,"","","",null,4,50,5,55,null,3,60,5,65,null,4,50,5,55,null,5,45,5,50,null,9,29,5,34,null,null,null,null,0,null,null,null,null,0,null,null,null,null,0]
[5,"Rasmussen","Maisen Holst","Stabæk",{"$f":"Q10","v":210},2,null,"","",1,"",1,"","","",null,210,"","","","","","","","",null,null,null,null,0,null,null,null,null,0,null,1,100,5,105,null,null,null,null,0,null,1,100,5,105,null,null,null,null,0,null,null,null,null,0,null,null,null,null,0]
[6,"Alsos","Synne","Ready",{"$f":"Q11","v":199},5,null,7,4,10,7,10,"","","",null,199,36,50,26,36,26,"","","",null,7,36,5,41,null,4,50,5,55,null,10,26,5,31,null,7,36,5,41,null,10,26,5,31,null,null,null,null,0,null,null,null,null,0,null,null,null,null,0]
[7,"Hemme Granerud","Cornelie","Ljan",{"$f":"Q12-V12","v":186},5,null,6,5,7,6,11,"","","",null,210,40,45,36,40,24,"","","",null,6,40,5,45,null,5,45,5,50,null,7,36,5,41,null,6,40,5,45,null,11,24,5,29,null,null,null,null,0,null,null,null,null,0,null,null,null,null,0]
[8,"Aardal","Mina","NeRo",{"$f":"Q13","v":147},3,null,3,"",6,"",8,"","","",null,{"$f":"AD13+AI13+AN13+AS13+AX13+BC13+BH13+BM13","v":147},"","","","","","","","",null,3,60,5,65,null,null,null,null,0,null,6,40,5,45,null,null,null,null,0,null,8,32,5,37,null,null,null,null,0,null,null,null,null,0,null,null,null,null,0]
[9,"Aandahl","Nicola","Ready",140,3,null,"","",5,2,"DNF","",{"$f":"IF(AZ14=\"\",\"\",AZ14)","v":""},{"$f":"IF(BE14=\"\",\"\",BE14)","v":""},null,{"$f":"AD14+AI14+AN14+AS14+AX14+BC14+BH14","v":140},"","","","","","","","",null,null,null,null,0,null,null,null,null,0,null,5,45,5,50,null,2,80,5,85,null,"DNF",0,5,5,null,null,null,null,0,null,null,null,null,0,null,null,null,null,0]
[10,"Pechhacker","Julia","Lillehammer",105,1,null,1,"","","","","",{"$f":"IF(BE15=\"\",\"\",BE15)","v":""},{"$f":"IF(BJ15=\"\",\"\",BJ15)","v":""},null,105,"","","","","","","","",null,1,100,5,105,null,null,null,null,0,null,null,null,null,0,null,null,null,null,0,null,null,null,null,0,null,null,null,null,0,null,null,null,null,0,null,null,null,null,0]
[11,"Øye","Alva Østnes","IRS",98,3,null,9,6,"","",17,"",{"$f":"IF(AZ16=\"\",\"\",AZ16)","v":""},{"$f":"IF(BE16=\"\",\"\",BE16)","v":""},null,98,"","","","","","","","",null,9,29,5,34,null,6,40,5,45,null,null,null,null,0,null,null,null,null,0,null,17,14,5,19,null,null,null,null,0,null,null,null,null,0,null,null,null,null,0]
[12,"Swenson","Lily","Ljan",94,3,null,10,"",11,9,"",{"$f":"IF(AU17=\"\",\"\",AU17)","v":""},{"$f":"IF(AZ17=\"\",\"\",AZ17)","v":""},{"$f":"IF(BE17=\"\",\"\",BE17)","v":""},null,94,"","","","","","","","",null,10,26,5,31,null,null,null,null,0,null,11,24,5,29,null,9,29,5,34,null,null,null,null,0,null,null,null,null,0,null,null,null,null,0,null,null,null,null,0]
[13,"Solhusløkk","Carina","IRS",76,4,null,"DSQ","",13,10,21,{"$f":"IF(AZ18=\"\",\"\",AZ18)","v":""},{"$f":"IF(BE18=\"\",\"\",BE18)","v":""},{"$f":"IF(BJ18=\"\",\"\",BJ18)","v":""},null,76,"","","","","","","","",null,"DSQ",0,5,5,null,null,null,null,0,null,13,20,5,25,null,10,26,5,31,null,21,10,5,15,null,null,null,null,0,null,null,null,null,0,null,null,null,null,0]
[14,"Kristensen","Mathilde","Njård",68,3,null,"","",14,11,20,{"$f":"IF(AZ19=\"\",\"\",AZ19)","v":""},{"$f":"IF(AZ19=\"\",\"\",AZ19)","v":""},{"$f":"IF(BE19=\"\",\"\",BE19)","v":""},null,68,"","","","","","","","",null,null,null,null,0,null,null,null,null,0,null,14,18,5,23,null,11,24,5,29,null,20,11,5,16,null,null,null,null,0,null,null,null,null,0,null,null,null,null,0]
[{"$f":"IF(E20<E19,BO20,A19)","v":14},"Talén","Henriette","Heming",68,3,null,"",10,16,"",19,{"$f":"IF(AZ20=\"\",\"\",AZ20)","v":""},{"$f":"IF(BE20=\"\",\"\",BE20)","v":""},{"$f":"IF(BJ20=\"\",\"\",BJ20)","v":""},null,68,"","","","","","","","",null,null,null,null,0,null,10,26,5,31,null,16,15,5,20,null,null,null,null,0,null,19,12,5,17,null,null,null,null,0,null,null,null,null,0,null,null,null,null,0]
[16,"Dynna","Nathalie","IRS",56,4,null,"DSQ","DSQ",17,12,"",{"$f":"IF(AZ21=\"\",\"\",AZ21)","v":""},{"$f":"IF(BE21=\"\",\"\",BE21)","v":""},{"$f":"IF(BJ21=\"\",\"\",BJ21)","v":""},null,56,"","","","","","","","",null,"DSQ",0,5,5,null,"DSQ",0,5,5,null,17,14,5,19,null,12,22,5,27,null,null,null,null,0,null,null,null,null,0,null,null,null,null,0,null,null,null,null,0]
[17,"Norstrand","Nicolaine","Heming",55,1,null,"","","","",{"$f":"IF(AQ22=\"\",\"\",AQ22)","v":""},{"$f":"IF(AZ22=\"\",\"\",AZ22)","v":""},{"$f":"IF(AZ22=\"\",\"\",AZ22)","v":""},{"$f":"IF(BE22=\"\",\"\",BE22)","v":""},null,55,{"$f":"IF($F13>=5,IF(AB22=\"\",\"\",AB22),\"\")","v":""},{"$f":"IF($F13>=5,IF(AG22=\"\",\"\",AG22),\"\")","v":""},{"$f":"IF($F13>=5,IF(AL22=\"\",\"\",AL22),\"\")","v":""},{"$f":"IF($F13>=5,IF(AQ22=\"\",\"\",AQ22),\"\")","v":""},{"$f":"IF($F13>=5,IF(AR22=\"\",\"\",AR22),\"\")","v":""},{"$f":"IF($F13>=5,IF(AV22=\"\",\"\",AV22),\"\")","v":""},{"$f":"IF($F13>=5,IF(BA22=\"\",\"\",BA22),\"\")","v":""},{"$f":"IF($F13>=5,IF(BF22=\"\",\"\",BF22),\"\")","v":""},null,null,null,null,0,null,null,null,null,0,null,null,null,null,0,null,null,null,null,0,null,4,50,5,55,null,null,null,null,0,null,null,null,null,0,null,null,null,null,0]
[18,"Hamran","Helga","Kjelsås",54,2,null,"",11,"",13,{"$f":"IF(AU23=\"\",\"\",AU23)","v":""},{"$f":"IF(AU23=\"\",\"\",AU23)","v":""},{"$f":"IF(AZ23=\"\",\"\",AZ23)","v":""},{"$f":"IF(BE23=\"\",\"\",BE23)","v":""},null,54,{"$f":"IF($F23>=5,IF(AB23=\"\",\"\",AB23),\"\")","v":""},{"$f":"IF($F23>=5,IF(AG23=\"\",\"\",AG23),\"\")","v":""},{"$f":"IF($F23>=5,IF(AL23=\"\",\"\",AL23),\"\")","v":""},{"$f":"IF($F23>=5,IF(AQ23=\"\",\"\",AQ23),\"\")","v":""},{"$f":"IF($F23>=5,IF(AV23=\"\",\"\",AV23),\"\")","v":""},{"$f":"IF($F23>=5,IF(BA23=\"\",\"\",BA23),\"\")","v":""},{"$f":"IF($F23>=5,IF(BF23=\"\",\"\",BF23),\"\")","v":""},{"$f":"IF($F23>=5,IF(BK23=\"\",\"\",BK23),\"\")","v":""},null,null,null,null,0,null,11,24,5,29,null,null,null,null,0,null,13,20,5,25,null,null,null,null,0,null,null,null,null,0,null,null,null,null,0,null,null,null,null,0]
[19,"Hoel","Hermine Owesen","Heming",50,1,null,"","","","",{"$f":"IF(AQ24=\"\",\"\",AQ24)","v":""},{"$f":"IF(AZ24=\"\",\"\",AZ24)","v":""},{"$f":"IF(AZ24=\"\",\"\",AZ24)","v":""},{"$f":"IF(BE24=\"\",\"\",BE24)","v":""},null,50,{"$f":"IF($F15>=5,IF(AB24=\"\",\"\",AB24),\"\")","v":""},{"$f":"IF($F15>=5,IF(AG24=\"\",\"\",AG24),\"\")","v":""},{"$f":"IF($F15>=5,IF(AL24=\"\",\"\",AL24),\"\")","v":""},{"$f":"IF($F15>=5,IF(AQ24=\"\",\"\",AQ24),\"\")","v":""},{"$f":"IF($F15>=5,IF(AR24=\"\",\"\",AR24),\"\")","v":""},{"$f":"IF($F15>=5,IF(AV24=\"\",\"\",AV24),\"\")","v":""},{"$f":"IF($F15>=5,IF(BA24=\"\",\"\",BA24),\"\")","v":""},{"$f":"IF($F15>=5,IF(BF24=\"\",\"\",BF24),\"\")","v":""},null,null,null,null,0,null,null,null,null,0,null,null,null,null,0,null,null,null,null,0,null,5,45,5,50,null,null,null,null,0,null,null,null,null,0,null,null,null,null,0]
[20,"Braathen","Selma Georigia","Stabæk",45,1,null,"","","","",{"$f":"IF(AQ25=\"\",\"\",AQ25)","v":""},"",{"$f":"IF(AZ25=\"\",\"\",AZ25)","v":""},{"$f":"IF(BE25=\"\",\"\",BE25)","v":""},null,45,{"$f":"IF($F16>=5,IF(AB25=\"\",\"\",AB25),\"\")","v":""},{"$f":"IF($F16>=5,IF(AG25=\"\",\"\",AG25),\"\")","v":""},{"$f":"IF($F16>=5,IF(AL25=\"\",\"\",AL25),\"\")","v":""},{"$f":"IF($F16>=5,IF(AQ25=\"\",\"\",AQ25),\"\")","v":""},{"$f":"IF($F16>=5,IF(AR25=\"\",\"\",AR25),\"\")","v":""},{"$f":"IF($F16>=5,IF(AV25=\"\",\"\",AV25),\"\")","v":""},{"$f":"IF($F16>=5,IF(BA25=\"\",\"\",BA25),\"\")","v":""},{"$f":"IF($F16>=5,IF(BF25=\"\",\"\",BF25),\"\")","v":""},null,null,null,null,0,null,null,null,null,0,null,null,null,null,0,null,null,null,null,0,null,6,40,5,45,null,null,null,null,0,null,null,null,null,0,null,null,null,null,0]
[21,"Rustad","Petronella G","Njård",44,3,null,"DSQ","",15,"",{"$f":"IF(AU26=\"\",\"\",AU26)","v":18},"",{"$f":"IF(BE26=\"\",\"\",BE26)","v":""},{"$f":"IF(BJ26=\"\",\"\",BJ26)","v":""},null,44,{"$f":"IF($F26>=5,IF(AB26=\"\",\"\",AB26),\"\")","v":""},{"$f":"IF($F26>=5,IF(AG26=\"\",\"\",AG26),\"\")","v":""},{"$f":"IF($F26>=5,IF(AL26=\"\",\"\",AL26),\"\")","v":""},{"$f":"IF($F26>=5,IF(AQ26=\"\",\"\",AQ26),\"\")","v":""},{"$f":"IF($F26>=5,IF(AV26=\"\",\"\",AV26),\"\")","v":""},{"$f":"IF($F26>=5,IF(BA26=\"\",\"\",BA26),\"\")","v":""},{"$f":"IF($F26>=5,IF(BF26=\"\",\"\",BF26),\"\")","v":""},{"$f":"IF($F26>=5,IF(BK26=\"\",\"\",BK26),\"\")","v":""},null,"DSQ",0,5,5,null,null,null,null,0,null,15,16,5,21,null,null,null,null,0,null,18,13,5,18,null,null,null,null,0,null,null,null,null,0,null,null,null,null,0]
[22,"Sartz-Lunde","Emily","Heming",41,1,null,"","","","",{"$f":"IF(AQ27=\"\",\"\",AQ27)","v":""},"",{"$f":"IF(AZ27=\"\",\"\",AZ27)","v":""},{"$f":"IF(BE27=\"\",\"\",BE27)","v":""},null,41,{"$f":"IF($F18>=5,IF(AB27=\"\",\"\",AB27),\"\")","v":""},{"$f":"IF($F18>=5,IF(AG27=\"\",\"\",AG27),\"\")","v":""},{"$f":"IF($F18>=5,IF(AL27=\"\",\"\",AL27),\"\")","v":""},{"$f":"IF($F18>=5,IF(AQ27=\"\",\"\",AQ27),\"\")","v":""},{"$f":"IF($F18>=5,IF(AR27=\"\",\"\",AR27),\"\")","v":""},{"$f":"IF($F18>=5,IF(AV27=\"\",\"\",AV27),\"\")","v":""},{"$f":"IF($F18>=5,IF(BA27=\"\",\"\",BA27),\"\")","v":""},{"$f":"IF($F18>=5,IF(BF27=\"\",\"\",BF27),\"\")","v":""},null,null,null,null,0,null,null,null,null,0,null,null,null,null,0,null,null,null,null,0,null,7,36,5,41,null,null,null,null,0,null,null,null,null,0,null,null,null,null,0]
[23,"Zimmer","Lisa","IRS",39,2,null,"","DSQ",9,"",{"$f":"IF(AU28=\"\",\"\",AU28)","v":""},"",{"$f":"IF(BE28=\"\",\"\",BE28)","v":""},{"$f":"IF(BJ28=\"\",\"\",BJ28)","v":""},null,39,{"$f":"IF($F28>=5,IF(AB28=\"\",\"\",AB28),\"\")","v":""},{"$f":"IF($F28>=5,IF(AG28=\"\",\"\",AG28),\"\")","v":""},{"$f":"IF($F28>=5,IF(AL28=\"\",\"\",AL28),\"\")","v":""},{"$f":"IF($F28>=5,IF(AQ28=\"\",\"\",AQ28),\"\")","v":""},{"$f":"IF($F28>=5,IF(AV28=\"\",\"\",AV28),\"\")","v":""},{"$f":"IF($F28>=5,IF(BA28=\"\",\"\",BA28),\"\")","v":""},{"$f":"IF($F28>=5,IF(BF28=\"\",\"\",BF28),\"\")","v":""},{"$f":"IF($F28>=5,IF(BK28=\"\",\"\",BK28),\"\")","v":""},null,null,null,null,0,null,"DSQ",0,5,5,null,9,29,5,34,null,null,null,null,0,null,null,null,null,0,null,null,null,null,0,null,null,null,null,0,null,null,null,null,0]
[24,"Teigen","Cassandra","Nannestad",37,1,null,8,"","","","","",{"$f":"IF(BE29=\"\",\"\",BE29)","v":""},{"$f":"IF(BJ29=\"\",\"\",BJ29)","v":""},null,37,"","","","","","","","",null,8,32,5,37,null,null,null,null,0,null,null,null,null,0,null,null,null,null,0,null,null,null,null,0,null,null,null,null,0,null,null,null,null,0,null,null,null,null,0]
[24,"Sandal","Jenny Bye","Ljan",37,1,null,"",8,"","","","",{"$f":"IF(BE30=\"\",\"\",BE30)","v":""},{"$f":"IF(BJ30=\"\",\"\",BJ30)","v":""},null,37,"","","","","","","","",null,null,null,null,0,null,8,32,5,37,null,null,null,null,0,null,null,null,null,0,null,null,null,null,0,null,null,null,null,0,null,null,null,null,0,null,null,null,null,0]
[24,"Roos","Elisabeth","TRY",37,1,null,"","","",8,"",{"$f":"IF(AU31=\"\",\"\",AU31)","v":""},{"$f":"IF(AZ31=\"\",\"\",AZ31)","v":""},{"$f":"IF(BE31=\"\",\"\",BE31)","v":""},null,37,"","","","","","","","",null,null,null,null,0,null,null,null,null,0,null,null,null,null,0,null,8,32,5,37,null,null,null,null,0,null,null,null,null,0,null,null,null,null,0,null,null,null,null,0]
[27,"Rabben","Ella Dahle","Ljan",34,1,null,"",9,"","","",{"$f":"IF(AZ32=\"\",\"\",AZ32)","v":""},{"$f":"IF(BE32=\"\",\"\",BE32)","v":""},{"$f":"IF(BJ32=\"\",\"\",BJ32)","v":""},null,34,"","","","","","","","",null,null,null,null,0,null,9,29,5,34,null,null,null,null,0,null,null,null,null,0,null,null,null,null,0,null,null,null,null,0,null,null,null,null,0,null,null,null,null,0]
[28,"Bjørnstad","Erika Scheid","IRS",29,1,null,11,"","","","",{"$f":"IF(AZ33=\"\",\"\",AZ33)","v":""},{"$f":"IF(BE33=\"\",\"\",BE33)","v":""},{"$f":"IF(BJ33=\"\",\"\",BJ33)","v":""},null,29,"","","","","","","","",null,11,24,5,29,null,null,null,null,0,null,null,null,null,0,null,null,null,null,0,null,null,null,null,0,null,null,null,null,0,null,null,null,null,0,null,null,null,null,0]
[29,"Brækken ","Eili","IRS",27,1,null,12,"","","","",{"$f":"IF(AZ34=\"\",\"\",AZ34)","v":""},{"$f":"IF(BE34=\"\",\"\",BE34)","v":""},{"$f":"IF(BJ34=\"\",\"\",BJ34)","v":""},null,27,"","","","","","","","",null,12,22,5,27,null,null,null,null,0,null,null,null,null,0,null,null,null,null,0,null,null,null,null,0,null,null,null,null,0,null,null,null,null,0,null,null,null,null,0]
[29,"Solheim","Cornelia Margrethe Lysne","Njård",27,1,null,"","",12,"","",{"$f":"IF(AU35=\"\",\"\",AU35)","v":""},{"$f":"IF(AZ35=\"\",\"\",AZ35)","v":""},{"$f":"IF(BE35=\"\",\"\",BE35)","v":""},null,27,"","","","","","","","",null,null,null,null,0,null,null,null,null,0,null,12,22,5,27,null,null,null,null,0,null,null,null,null,0,null,null,null,null,0,null,null,null,null,0,null,null,null,null,0]
[29,"Horgen","Alexandra Astrup","Heming",27,1,null,"","","","",{"$f":"IF(AQ36=\"\",\"\",AQ36)","v":""},{"$f":"IF(AZ36=\"\",\"\",AZ36)","v":""},{"$f":"IF(AZ36=\"\",\"\",AZ36)","v":""},{"$f":"IF(BE36=\"\",\"\",BE36)","v":""},null,27,"","","","",{"$f":"IF($F36>=5,IF(AR36=\"\",\"\",AR36),\"\")","v":""},{"$f":"IF($F36>=5,IF(AV36=\"\",\"\",AV36),\"\")","v":""},{"$f":"IF($F36>=5,IF(BA36=\"\",\"\",BA36),\"\")","v":""},{"$f":"IF($F36>=5,IF(BF36=\"\",\"\",BF36),\"\")","v":""},null,null,null,null,0,null,null,null,null,0,null,null,null,null,0,null,null,null,null,0,null,12,22,5,27,null,null,null,null,0,null,null,null,null,0,null,null,null,null,0]
[32,"Mortensen","Christina","LIL Alpin",23,1,null,"","","","",{"$f":"IF(AU37=\"\",\"\",AU37)","v":14},"",{"$f":"IF(AZ37=\"\",\"\",AZ37)","v":""},{"$f":"IF(BE37=\"\",\"\",BE37)","v":""},null,23,"","","","",{"$f":"IF($F37>=5,IF(AV37=\"\",\"\",AV37),\"\")","v":""},{"$f":"IF($F37>=5,IF(BA37=\"\",\"\",BA37),\"\")","v":""},{"$f":"IF($F37>=5,IF(BF37=\"\",\"\",BF37),\"\")","v":""},{"$f":"IF($F37>=5,IF(BK37=\"\",\"\",BK37),\"\")","v":""},null,null,null,null,0,null,null,null,null,0,null,null,null,null,0,null,null,null,null,0,null,14,18,5,23,null,null,null,null,0,null,null,null,null,0,null,null,null,null,0]
[33,"Wessel Ass","Camilla","Heming",21,1,null,"","","","",{"$f":"IF(AQ38=\"\",\"\",AQ38)","v":""},"",{"$f":"IF(AZ38=\"\",\"\",AZ38)","v":""},{"$f":"IF(BE38=\"\",\"\",BE38)","v":""},null,21,"","","","",{"$f":"IF($F38>=5,IF(AR38=\"\",\"\",AR38),\"\")","v":""},{"$f":"IF($F38>=5,IF(AV38=\"\",\"\",AV38),\"\")","v":""},{"$f":"IF($F38>=5,IF(BA38=\"\",\"\",BA38),\"\")","v":""},{"$f":"IF($F38>=5,IF(BF38=\"\",\"\",BF38),\"\")","v":""},null,null,null,null,0,null,null,null,null,0,null,null,null,null,0,null,null,null,null,0,null,15,16,5,21,null,null,null,null,0,null,null,null,null,0,null,null,null,null,0]
[34,"Benjamin-Wormdal","Sarah Louise","Heming",20,1,null,"","","","",{"$f":"IF(AQ39=\"\",\"\",AQ39)","v":""},"",{"$f":"IF(AZ39=\"\",\"\",AZ39)","v":""},{"$f":"IF(BE39=\"\",\"\",BE39)","v":""},null,20,{"$f":"IF($F30>=5,IF(AB39=\"\",\"\",AB39),\"\")","v":""},{"$f":"IF($F30>=5,IF(AG39=\"\",\"\",AG39),\"\")","v":""},{"$f":"IF($F30>=5,IF(AL39=\"\",\"\",AL39),\"\")","v":""},{"$f":"IF($F30>=5,IF(AQ39=\"\",\"\",AQ39),\"\")","v":""},{"$f":"IF($F30>=5,IF(AR39=\"\",\"\",AR39),\"\")","v":""},{"$f":"IF($F30>=5,IF(AV39=\"\",\"\",AV39),\"\")","v":""},{"$f":"IF($F30>=5,IF(BA39=\"\",\"\",BA39),\"\")","v":""},{"$f":"IF($F30>=5,IF(BF39=\"\",\"\",BF39),\"\")","v":""},null,null,null,null,0,null,null,null,null,0,null,null,null,null,0,null,null,null,null,0,null,16,15,5,20,null,null,null,null,0,null,null,null,null,0,null,null,null,null,0]
[35,"Høgebøl","Ella Louise","Heming",18,1,null,"","",18,"",{"$f":"IF(AU40=\"\",\"\",AU40)","v":""},"",{"$f":"IF(BE40=\"\",\"\",BE40)","v":""},{"$f":"IF(BJ40=\"\",\"\",BJ40)","v":""},null,18,{"$f":"IF($F40>=5,IF(AB40=\"\",\"\",AB40),\"\")","v":""},{"$f":"IF($F40>=5,IF(AG40=\"\",\"\",AG40),\"\")","v":""},{"$f":"IF($F40>=5,IF(AL40=\"\",\"\",AL40),\"\")","v":""},{"$f":"IF($F40>=5,IF(AQ40=\"\",\"\",AQ40),\"\")","v":""},{"$f":"IF($F40>=5,IF(AV40=\"\",\"\",AV40),\"\")","v":""},{"$f":"IF($F40>=5,IF(BA40=\"\",\"\",BA40),\"\")","v":""},{"$f":"IF($F40>=5,IF(BF40=\"\",\"\",BF40),\"\")","v":""},{"$f":"IF($F40>=5,IF(BK40=\"\",\"\",BK40),\"\")","v":""},null,null,null,null,0,null,null,null,null,0,null,18,13,5,18,null,null,null,null,0,null,null,null,null,0,null,null,null,null,0,null,null,null,null,0,null,null,null,null,0]
[36,"Oustad","Mina Foronda","Nannestad",5,1,null,"DSQ","","","",{"$f":"IF(AU41=\"\",\"\",AU41)","v":""},"",{"$f":"IF(BE41=\"\",\"\",BE41)","v":""},{"$f":"IF(BJ41=\"\",\"\",BJ41)","v":""},null,5,{"$f":"IF($F41>=5,IF(AB41=\"\",\"\",AB41),\"\")","v":""},{"$f":"IF($F41>=5,IF(AG41=\"\",\"\",AG41),\"\")","v":""},{"$f":"IF($F41>=5,IF(AL41=\"\",\"\",AL41),\"\")","v":""},{"$f":"IF($F41>=5,IF(AQ41=\"\",\"\",AQ41),\"\")","v":""},{"$f":"IF($F41>=5,IF(AV41=\"\",\"\",AV41),\"\")","v":""},{"$f":"IF($F41>=5,IF(BA41=\"\",\"\",BA41),\"\")","v":""},{"$f":"IF($F41>=5,IF(BF41=\"\",\"\",BF41),\"\")","v":""},{"$f":"IF($F41>=5,IF(BK41=\"\",\"\",BK41),\"\")","v":""},null,"DSQ",0,5,5,null,null,null,null,0,null,null,null,null,0,null,null,null,null,0,null,null,null,null,0,null,null,null,null,0,null,null,null,null,0,null,null,null,null,0]
[36,"Piene Skard","Caroline","Heming",5,1,null,"","","","",{"$f":"IF(AU42=\"\",\"\",AU42)","v":"DNF"},"",{"$f":"IF(BE42=\"\",\"\",BE42)","v":""},{"$f":"IF(BJ42=\"\",\"\",BJ42)","v":""},null,5,{"$f":"IF($F42>=5,IF(AB42=\"\",\"\",AB42),\"\")","v":""},{"$f":"IF($F42>=5,IF(AG42=\"\",\"\",AG42),\"\")","v":""},{"$f":"IF($F42>=5,IF(AL42=\"\",\"\",AL42),\"\")","v":""},{"$f":"IF($F42>=5,IF(AQ42=\"\",\"\",AQ42),\"\")","v":""},{"$f":"IF($F42>=5,IF(AR42=\"\",\"\",AR42),\"\")","v":""},{"$f":"IF($F42>=5,IF(AV42=\"\",\"\",AV42),\"\")","v":""},{"$f":"IF($F42>=5,IF(BA42=\"\",\"\",BA42),\"\")","v":""},{"$f":"IF($F42>=5,IF(BF42=\"\",\"\",BF42),\"\")","v":""},null,null,null,null,0,null,null,null,null,0,null,null,null,null,0,null,null,null,null,0,null,"DNF",0,5,5,null,null,null,null,0,null,null,null,null,0,null,null,null,null,0]
[]
["Resultatliste Oslo Cup 2017 - Gutter 11 år"]
["Etter 5 av 8 renn"]
[null,null,null,null,null,null,null,"IRS Rennet","Ljan Rennet","Njård Rennet","Ready Rennet","Telenor Arena Cup","Euro-tecfarten","Oslo Alpinfestival SL","Oslo Alpinfestival SSL",null,null,"IRS Rennet","Ljan Rennet","Njård Rennet","Ready Rennet","Telenor Arena Cup","Euro-tecfarten","Oslo Alpinfestival SL","Oslo Alpinfestival SSL",null,"--------IRS Rennet----------",null,null,null,null,"----------Ljan Rennet---------",null,null,null,null,"--------Njård Rennet----------",null,null,null,null,"--------Ready Rennet---------",null,null,null,null,"-----Telenor Arena Cup----",null,null,null,null,"------Euro-tecfarten--------",null,null,null,null,"---Oslo Alpinfestival SL---",null,null,null,null,"---Oslo Alpinfestival SSL---"]
[null,null,null,null,null,"Antall",null,"2016-02-04","2016-02-05","2016-02-10","2016-02-11","2016-02-15","2016-03-01","2017-03-11","2016-03-12",null,"Poeng","2016-02-04","2016-02-05","2016-02-10","2016-02-11","2016-02-15","2016-03-01","2017-03-11","2016-03-12",null,null,"--------Poeng--------",null,null,null,null,"--------Poeng--------",null,null,null,null,"-------Poeng---------",null,null,null,null,"-------Poeng---------",null,null,null,null,"-------Poeng---------",null,null,null,null,"-------Poeng---------",null,null,null,null,"-------Poeng---------",null,null,null,null,"-------Poeng---------"]
["Plass","Etternavn","Fornavn","Klubb","Poeng","renn",null,"------------------------------Plassering i rennene---------------------------------",null,null,null,null,null,null,null,null,"brutto","----------------Resultatpoeng hvis mer enn 4 renn----------------",null,null,null,null,null,null,null,null,"Plass","Res.","Del.","Tot.",null,"Plass","Res.","Del.","Tot.",null,"Plass","Res.","Del.","Tot.",null,"Plass","Res.","Del.","Tot.",null,"Plass","Res.","Del.","Tot.",null,"Plass","Res.","Del.","Tot.",null,"Plass","Res.","Del.","Tot.",null,"Plass","Res.","Del.","Tot."]
[1,"Polmar","Ola Skaar","Heming",{"$f":"Q49-T49","v":405},{"$f":"COUNT(AC49,AH49,AM49,AR49,AW49,BB49,BG49,BL49)","v":5},null,{"$f":"IF(AA49=\"\",\"\",AA49)","v":1},{"$f":"IF(AF49=\"\",\"\",AF49)","v":1},{"$f":"IF(AK49=\"\",\"\",AK49)","v":2},{"$f":"IF(AP49=\"\",\"\",AP49)","v":2},{"$f":"IF(AU49=\"\",\"\",AU49)","v":1},{"$f":"IF(AZ49=\"\",\"\",AZ49)","v":""},{"$f":"IF(BE49=\"\",\"\",BE49)","v":""},{"$f":"IF(BJ49=\"\",\"\",BJ49)","v":""},null,{"$f":"AD49+AI49+AN49+AS49+AX49+BC49+BH49","v":485},{"$f":"IF($F49>=5,IF(AB49=\"\",\"\",AB49),\"\")","v":100},{"$f":"IF($F49>=5,IF(AG49=\"\",\"\",AG49),\"\")","v":100},{"$f":"IF($F49>=5,IF(AL49=\"\",\"\",AL49),\"\")","v":80},{"$f":"IF($F49>=5,IF(AQ49=\"\",\"\",AQ49),\"\")","v":80},{"$f":"IF($F49>=5,IF(AV49=\"\",\"\",AV49),\"\")","v":100},{"$f":"IF($F49>=5,IF(BA49=\"\",\"\",BA49),\"\")","v":""},{"$f":"IF($F49>=5,IF(BF49=\"\",\"\",BF49),\"\")","v":""},{"$f":"IF($F49>=5,IF(BK49=\"\",\"\",BK49),\"\")","v":""},null,1,100,5,{"$f":"AB49+AC49","v":105},null,1,100,5,{"$f":"AG49+AH49","v":105},null,2,80,5,{"$f":"AL49+AM49","v":85},null,2,80,5,{"$f":"AQ49+AR49","v":85},null,1,100,5,{"$f":"AV49+AW49","v":105},null,null,null,null,{"$f":"BA49+BB49","v":0},null,null,null,null,{"$f":"BF49+BG49","v":0},null,null,null,null,{"$f":"BK49+BL49","v":0}]
[2,"Spone","Fabian","Heming",{"$f":"Q50-V50","v":280},5,null,2,3,1,16,27,"",{"$f":"IF(BE50=\"\",\"\",BE50)","v":""},{"$f":"IF(BJ50=\"\",\"\",BJ50)","v":""},null,284,80,60,100,15,4,"","","",null,2,80,5,85,null,3,60,5,65,null,1,100,5,105,null,16,15,5,20,null,27,4,5,9,null,null,null,null,0,null,null,null,null,0,null,null,null,null,0]
[3,"Ekjord","Oskar Gedde-dahl","Heming",{"$f":"Q51","v":252},4,null,8,"",6,1,3,"",{"$f":"IF(BE51=\"\",\"\",BE51)","v":""},{"$f":"IF(BJ51=\"\",\"\",BJ51)","v":""},null,252,"","","","","","","","",null,8,32,5,37,null,null,null,null,0,null,6,40,5,45,null,1,100,5,105,null,3,60,5,65,null,null,null,null,0,null,null,null,null,0,null,null,null,null,0]
[4,"Wroll-Evensen","Mikkel","Heming",{"$f":"Q52","v":217},4,null,"",2,5,4,12,"",{"$f":"IF(BE52=\"\",\"\",BE52)","v":""},{"$f":"IF(BJ52=\"\",\"\",BJ52)","v":""},null,217,"","","","","","","","",null,null,null,null,0,null,2,80,5,85,null,5,45,5,50,null,4,50,5,55,null,12,22,5,27,null,null,null,null,0,null,null,null,null,0,null,null,null,null,0]
[5,"Hiorth","Felix","Heming",{"$f":"Q53-T53","v":216},5,null,3,4,8,7,5,"",{"$f":"IF(AZ53=\"\",\"\",AZ53)","v":""},{"$f":"IF(BE53=\"\",\"\",BE53)","v":""},null,248,60,50,32,36,45,"","","",null,3,60,5,65,null,4,50,5,55,null,8,32,5,37,null,7,36,5,41,null,5,45,5,50,null,null,null,null,0,null,null,null,null,0,null,null,null,null,0]
[6,"Engell","Martin","Kjelsås",{"$f":"Q54-T54","v":187},5,null,6,5,15,5,8,"",{"$f":"IF(BE54=\"\",\"\",BE54)","v":""},{"$f":"IF(BJ54=\"\",\"\",BJ54)","v":""},null,203,40,45,16,45,32,"","","",null,6,40,5,45,null,5,45,5,50,null,15,16,5,21,null,5,45,5,50,null,8,32,5,37,null,null,null,null,0,null,null,null,null,0,null,null,null,null,0]
[7,"Halvorsen","Mathias","Heming",{"$f":"Q55","v":151},5,null,4,"DSQ",7,6,"DSQ","","","",null,151,50,0,36,40,0,"","","",null,4,50,5,55,null,"DSQ",0,5,5,null,7,36,5,41,null,6,40,5,45,null,"DSQ",0,5,5,null,null,null,null,0,null,null,null,null,0,null,null,null,null,0]
[8,"Friis Rølles","Axel","Ready",{"$f":"Q56","v":145},5,null,"DSQ","DSQ",3,3,39,"","","",null,145,0,0,60,60,0,"","","",null,"DSQ",0,5,5,null,"DSQ",0,5,5,null,3,60,5,65,null,3,60,5,65,null,39,0,5,5,null,null,null,null,0,null,null,null,null,0,null,null,null,null,0]
[9,"Skirstad","Jacob","Ready",{"$f":"Q57-V57","v":143},5,null,7,8,14,8,30,"","","",null,144,36,32,18,32,1,"","","",null,7,36,5,41,null,8,32,5,37,null,14,18,5,23,null,8,32,5,37,null,30,1,5,6,null,null,null,null,0,null,null,null,null,0,null,null,null,null,0]
[10,"Brevik","Magnus","Ljan",{"$f":"Q58-S58","v":136},5,null,12,21,9,21,4,"","","",null,146,22,10,29,10,50,"","","",null,12,22,5,27,null,21,10,5,15,null,9,29,5,34,null,21,10,5,15,null,4,50,5,55,null,null,null,null,0,null,null,null,null,0,null,null,null,null,0]
[11,"Reiersen","Fredrik","Ready",{"$f":"Q59","v":118},4,null,15,6,12,"",13,"","","",null,118,"","","","","","","","",null,15,16,5,21,null,6,40,5,45,null,12,22,5,27,null,null,null,null,0,null,13,20,5,25,null,null,null,null,0,null,null,null,null,0,null,null,null,null,0]
[12,"Graff-Sponheim","Felix","Heming",113,5,null,29,7,31,11,10,"","","",null,113,2,36,0,24,26,"","","",null,29,2,5,7,null,7,36,5,41,null,31,0,5,5,null,11,24,5,29,null,10,26,5,31,null,null,null,null,0,null,null,null,null,0,null,null,null,null,0]
[13,"Lødemel","Nikolai","Heming",109,4,null,5,"",16,9,37,"","","",null,109,"","","","","","","","",null,5,45,5,50,null,null,null,null,0,null,16,15,5,20,null,9,29,5,34,null,37,0,5,5,null,null,null,null,0,null,null,null,null,0,null,null,null,null,0]
[14,"Strauss","Mikkel","Ready",104,4,null,13,"",11,20,9,"","","",null,104,"","","","","","","","",null,13,20,5,25,null,null,null,null,0,null,11,24,5,29,null,20,11,5,16,null,9,29,5,34,null,null,null,null,0,null,null,null,null,0,null,null,null,null,0]
[15,"Lødemel","Espen Alexander","Heming",99,4,null,9,"",10,17,21,"","","",null,99,"","","","","","","","",null,9,29,5,34,null,null,null,null,0,null,10,26,5,31,null,17,14,5,19,null,21,10,5,15,null,null,null,null,0,null,null,null,null,0,null,null,null,null,0]
[16,"Arnesen","Lukas Jones","Heming",94,4,null,"",9,17,10,26,"","","",null,94,"","","","","","","","",null,null,null,null,0,null,9,29,5,34,null,17,14,5,19,null,10,26,5,31,null,26,5,5,10,null,null,null,null,0,null,null,null,null,0,null,null,null,null,0]
[17,"Rygh","Ole Marius","Ready",88,5,null,22,"DSQ",19,14,11,"","","",null,88,9,0,12,18,24,"","","",null,22,9,5,14,null,"DSQ",0,5,5,null,19,12,5,17,null,14,18,5,23,null,11,24,5,29,null,null,null,null,0,null,null,null,null,0,null,null,null,null,0]
[18,"Kihle","Jacob Lunde","Kjelsås",87,4,null,16,12,21,13,"","","","",null,87,"","","","","","","","",null,16,15,5,20,null,12,22,5,27,null,21,10,5,15,null,13,20,5,25,null,null,null,null,0,null,null,null,null,0,null,null,null,null,0,null,null,null,null,0]
[19,"Yngland","Teo Borge","Stabæk",85,1,null,"","","","",2,"","","",null,85,"","","","","","","","",null,null,null,null,0,null,null,null,null,0,null,null,null,null,0,null,null,null,null,0,null,2,80,5,85,null,null,null,null,0,null,null,null,null,0,null,null,null,null,0]
[20,"Oksvik","Sander August","IRS",70,3,null,14,12,"","",16,"","","",null,70,"","","","","","","","",null,14,18,5,23,null,12,22,5,27,null,null,null,null,0,null,null,null,null,0,null,16,15,5,20,null,null,null,null,0,null,null,null,null,0,null,null,null,null,0]
[21,"Hovind Nuila","Adrian Rafael","Ljan",{"$f":"Q69-T69","v":65},5,null,24,11,28,22,34,"","","",null,68,7,24,3,9,0,"","","",null,24,7,5,12,null,11,24,5,29,null,28,3,5,8,null,22,9,5,14,null,34,0,5,5,null,null,null,null,0,null,null,null,null,0,null,null,null,null,0]
[22,"Cock","William","Heming",{"$f":"Q70","v":63},3,null,"","",18,12,18,"","","",null,63,"","","","","","","","",null,null,null,null,0,null,null,null,null,0,null,18,13,5,18,null,12,22,5,27,null,18,13,5,18,null,null,null,null,0,null,null,null,null,0,null,null,null,null,0]
[23,"Lacoste","Felix","Ready",{"$f":"Q71-V71","v":62},5,null,26,17,26,18,28,"",{"$f":"IF(AZ71=\"\",\"\",AZ71)","v":""},{"$f":"IF(BE71=\"\",\"\",BE71)","v":""},null,65,5,14,5,13,3,"","","",null,26,5,5,10,null,17,14,5,19,null,26,5,5,10,null,18,13,5,18,null,28,3,5,8,null,null,null,null,0,null,null,null,null,0,null,null,null,null,0]
[24,"Vodal","Christian Folkenborg","Heming",{"$f":"Q72","v":57},3,null,11,"DSQ","","",14,"",{"$f":"IF(BE72=\"\",\"\",BE72)","v":""},{"$f":"IF(BJ72=\"\",\"\",BJ72)","v":""},null,57,"","","","","","","","",null,11,24,5,29,null,"DSQ",0,5,5,null,null,null,null,0,null,null,null,null,0,null,14,18,5,23,null,null,null,null,0,null,null,null,null,0,null,null,null,null,0]
[25,"Furuseth","Nicolai Mathias","Ullensaker",55,1,null,"","",4,"","","",{"$f":"IF(BE73=\"\",\"\",BE73)","v":""},{"$f":"IF(BJ73=\"\",\"\",BJ73)","v":""},null,55,"","","","","","","","",null,null,null,null,0,null,null,null,null,0,null,4,50,5,55,null,null,null,null,0,null,null,null,null,0,null,null,null,null,0,null,null,null,null,0,null,null,null,null,0]
[26,"Gaarder","Oskar Jølle","HSIL",47,2,null,"",10,20,"","","",{"$f":"IF(BE74=\"\",\"\",BE74)","v":""},{"$f":"IF(BJ74=\"\",\"\",BJ74)","v":""},null,47,"","","","","","","","",null,null,null,null,0,null,10,26,5,31,null,20,11,5,16,null,null,null,null,0,null,null,null,null,0,null,null,null,null,0,null,null,null,null,0,null,null,null,null,0]
[27,"Johannessen","Oscar Løkke","Njård",46,5,null,30,15,35,27,38,"",{"$f":"IF(AZ75=\"\",\"\",AZ75)","v":""},{"$f":"IF(BE75=\"\",\"\",BE75)","v":""},null,46,1,16,0,4,0,"","","",null,30,1,5,6,null,15,16,5,21,null,35,0,5,5,null,27,4,5,9,null,38,0,5,5,null,null,null,null,0,null,null,null,null,0,null,null,null,null,0]
[{"$f":"IF(E76<E75,BO76,A75)","v":27},"Trondsen","Kristian Arnstad","Heming",46,4,null,18,"DSQ",27,"",22,"",{"$f":"IF(BE76=\"\",\"\",BE76)","v":""},{"$f":"IF(BJ76=\"\",\"\",BJ76)","v":""},null,46,"","","","","","","","",null,18,13,5,18,null,"DSQ",0,5,5,null,27,4,5,9,null,null,null,null,0,null,22,9,5,14,null,null,null,null,0,null,null,null,null,0,null,null,null,null,0]
[29,"Axelsen","Kristian Andenæs","Stabæk",45,1,null,"","","","",6,"","","",null,45,"","","","","","","","",null,null,null,null,0,null,null,null,null,0,null,null,null,null,0,null,null,null,null,0,null,6,40,5,45,null,null,null,null,0,null,null,null,null,0,null,null,null,null,0]
[30,"Ofstad Lad","Lukas","Ljan",44,5,null,"DSQ",19,32,24,36,"","","",null,44,0,12,0,7,0,"","","",null,"DSQ",0,5,5,null,19,12,5,17,null,32,0,5,5,null,24,7,5,12,null,36,0,5,5,null,null,null,null,0,null,null,null,null,0,null,null,null,null,0]
[30,"Forberg","Ludvig","Heming",44,3,null,"","",24,15,25,"","","",null,44,"","","","","","","","",null,null,null,null,0,null,null,null,null,0,null,24,7,5,12,null,15,16,5,21,null,25,6,5,11,null,null,null,null,0,null,null,null,null,0,null,null,null,null,0]
[30,"Sundborn","William","Heming",44,2,null,"","",12,"",19,"","","",null,44,"","","","","","","","",null,null,null,null,0,null,null,null,null,0,null,12,22,5,27,null,null,null,null,0,null,19,12,5,17,null,null,null,null,0,null,null,null,null,0,null,null,null,null,0]
[33,"Espe","Alexander","Heming",41,{"$f":"COUNT(AC81,AH81,AM81,AR81,AW81,BB81,BG81,BL81)","v":1},null,{"$f":"IF(AA81=\"\",\"\",AA81)","v":""},{"$f":"IF(AF81=\"\",\"\",AF81)","v":""},{"$f":"IF(AK81=\"\",\"\",AK81)","v":""},{"$f":"IF(AP81=\"\",\"\",AP81)","v":""},{"$f":"IF(AU81=\"\",\"\",AU81)","v":7},{"$f":"IF(AZ81=\"\",\"\",AZ81)","v":""},"","",null,41,{"$f":"IF($F81>=5,IF(AB81=\"\",\"\",AB81),\"\")","v":""},{"$f":"IF($F81>=5,IF(AG81=\"\",\"\",AG81),\"\")","v":""},{"$f":"IF($F81>=5,IF(AL81=\"\",\"\",AL81),\"\")","v":""},{"$f":"IF($F81>=5,IF(AQ81=\"\",\"\",AQ81),\"\")","v":""},{"$f":"IF($F81>=5,IF(AV81=\"\",\"\",AV81),\"\")","v":""},{"$f":"IF($F81>=5,IF(BA81=\"\",\"\",BA81),\"\")","v":""},{"$f":"IF($F81>=5,IF(BF81=\"\",\"\",BF81),\"\")","v":""},{"$f":"IF($F81>=5,IF(BK81=\"\",\"\",BK81),\"\")","v":""},null,null,null,null,{"$f":"AB81+AC81","v":0},null,null,null,null,{"$f":"AG81+AH81","v":0},null,null,null,null,{"$f":"AL81+AM81","v":0},null,null,null,null,{"$f":"AQ81+AR81","v":0},null,7,36,5,{"$f":"AV81+AW81","v":41},null,null,null,null,{"$f":"BA81+BB81","v":0},null,null,null,null,{"$f":"BF81+BG81","v":0},null,null,null,null,{"$f":"BK81+BL81","v":0}]
[34,"Dannevig","Torbjørn","Ready",40,5,null,"DSQ","DSQ",23,"DNF",24,"","","",null,40,0,0,8,0,7,"","","",null,"DSQ",0,5,5,null,"DSQ",0,5,5,null,23,8,5,13,null,"DNF",0,5,5,null,24,7,5,12,null,null,null,null,0,null,null,null,null,0,null,null,null,null,0]
[35,"Heide","William","Heming",39,2,null,"",14,"","",20,"","","",null,39,"","","","","","","","",null,null,null,null,0,null,14,18,5,23,null,null,null,null,0,null,null,null,null,0,null,20,11,5,16,null,null,null,null,0,null,null,null,null,0,null,null,null,null,0]
[36,"Astad","Sjur Torvald Roberts","Kjelsås",37,4,null,21,"DSQ",30,25,"","","","",null,37,"","","","","","","","",null,21,10,5,15,null,"DSQ",0,5,5,null,30,1,5,6,null,25,6,5,11,null,null,null,null,0,null,null,null,null,0,null,null,null,null,0,null,null,null,null,0]
[37,"Sandengen","Falk Vike","Njård",36,5,null,"DSQ",20,38,31,40,"","","",null,36,0,11,0,0,0,"","","",null,"DSQ",0,5,5,null,20,11,5,16,null,38,0,5,5,null,31,0,5,5,null,40,0,5,5,null,null,null,null,0,null,null,null,null,0,null,null,null,null,0]
[38,"Svensen","Felix Granum","Ljan",35,4,null,28,"",33,19,31,"","","",null,35,"","","","","","","","",null,28,3,5,8,null,null,null,null,0,null,33,0,5,5,null,19,12,5,17,null,31,0,5,5,null,null,null,null,0,null,null,null,null,0,null,null,null,null,0]
[39,"Holter","Nikolai Kristian","Rælingen",31,1,null,10,"","","","","","","",null,31,"","","","","","","","",null,10,26,5,31,null,null,null,null,0,null,null,null,null,0,null,null,null,null,0,null,null,null,null,0,null,null,null,null,0,null,null,null,null,0,null,null,null,null,0]
[40,"Horntvedt","Oliver","Ljan",26,3,null,"DSQ",22,"",29,"","","","",null,26,"","","","","","","","",null,"DSQ",0,5,5,null,22,9,5,14,null,null,null,null,0,null,29,2,5,7,null,null,null,null,0,null,null,null,null,0,null,null,null,null,0,null,null,null,null,0]
[41,"Pappos","Nikolas","Heming",25,3,null,"","",29,23,33,"","","",null,25,"","","","","","","","",null,null,null,null,0,null,null,null,null,0,null,29,2,5,7,null,23,8,5,13,null,33,0,5,5,null,null,null,null,0,null,null,null,null,0,null,null,null,null,0]
[41,"Vedal","Kristoffer","Heming",25,2,null,"",16,"","",35,"","","",null,25,"","","","","","","","",null,null,null,null,0,null,16,15,5,20,null,null,null,null,0,null,null,null,null,0,null,35,0,5,5,null,null,null,null,0,null,null,null,null,0,null,null,null,null,0]
[43,"Lydersen","Morten Dyrstad","Kjelsås",24,2,null,"","",25,"",23,"","","",null,24,"","","","","","","","",null,null,null,null,0,null,null,null,null,0,null,25,6,5,11,null,null,null,null,0,null,23,8,5,13,null,null,null,null,0,null,null,null,null,0,null,null,null,null,0]
[44,"Rafaelsen","Olav Einar","Ljan",23,2,null,"",18,"DNF","","","","","",null,23,"","","","","","","","",null,null,null,null,0,null,18,13,5,18,null,"DNF",0,5,5,null,null,null,null,0,null,null,null,null,0,null,null,null,null,0,null,null,null,null,0,null,null,null,null,0]
[45,"Astrup","Felix","Heming",21,1,null,"","","","",15,"","","",null,21,"","","","","","","","",null,null,null,null,0,null,null,null,null,0,null,null,null,null,0,null,null,null,null,0,null,15,16,5,21,null,null,null,null,0,null,null,null,null,0,null,null,null,null,0]
[46,"Bengtson","Nicolai  ","Heming",19,1,null,"","","","",17,"","","",null,19,"","","","","","","","",null,null,null,null,0,null,null,null,null,0,null,null,null,null,0,null,null,null,null,0,null,17,14,5,19,null,null,null,null,0,null,null,null,null,0,null,null,null,null,0]
[46,"Noer","Kristoffer","Rælingen",19,1,null,17,"","","","","","","",null,19,"","","","","","","","",null,17,14,5,19,null,null,null,null,0,null,null,null,null,0,null,null,null,null,0,null,null,null,null,0,null,null,null,null,0,null,null,null,null,0,null,null,null,null,0]
[48,"Olafsen Eriksson","Peder","TRY",18,3,null,"","",34,28,"DSQ","","","",null,18,"","","","","","","","",null,null,null,null,0,null,null,null,null,0,null,34,0,5,5,null,28,3,5,8,null,"DSQ",0,5,5,null,null,null,null,0,null,null,null,null,0,null,null,null,null,0]
[49,"Andersen","Fredrik","NeRo",17,1,null,19,"","","","","","","",null,{"$f":"AD97+AI97+AN97+AS97+AX97+BC97+BH97+BM97","v":17},"","","","","","","","",null,19,12,5,17,null,null,null,null,0,null,null,null,null,0,null,null,null,null,0,null,null,null,null,0,null,null,null,null,0,null,null,null,null,0,null,null,null,null,0]
[50,"Skalstad","Gabriel Maximus Lorang","Kjelsås",16,1,null,20,"","","","","","","",null,{"$f":"AD98+AI98+AN98+AS98+AX98+BC98+BH98","v":16},"","","","","","","","",null,20,11,5,16,null,null,null,null,0,null,null,null,null,0,null,null,null,null,0,null,null,null,null,0,null,null,null,null,0,null,null,null,null,0,null,null,null,null,0]
[51,"Meland","Jonas","HSIL",14,1,null,"","",22,"","","","","",null,14,"","","","","","","","",null,null,null,null,0,null,null,null,null,0,null,22,9,5,14,null,null,null,null,0,null,null,null,null,0,null,null,null,null,0,null,null,null,null,0,null,null,null,null,0]
[52,"Moen","Jacob","IRS",13,1,null,23,"","","","","","","",null,13,"","","","","","","","",null,23,8,5,13,null,null,null,null,0,null,null,null,null,0,null,null,null,null,0,null,null,null,null,0,null,null,null,null,0,null,null,null,null,0,null,null,null,null,0]
[53,"Fleischer","Ulrich","Heming",12,2,null,"","DSQ","","",29,"","","",null,12,"","","","","","","","",null,null,null,null,0,null,"DSQ",0,5,5,null,null,null,null,0,null,null,null,null,0,null,29,2,5,7,null,null,null,null,0,null,null,null,null,0,null,null,null,null,0]
[54,"Thorstensen","Magnus","Njård",11,2,null,"","",37,30,"","","","",null,11,"","","","","","","","",null,null,null,null,0,null,null,null,null,0,null,37,0,5,5,null,30,1,5,6,null,null,null,null,0,null,null,null,null,0,null,null,null,null,0,null,null,null,null,0]
[54,"Christiansen","Arthur Åstasund","IRS",11,1,null,25,"","","","","","","",null,11,"","","","","","","","",null,25,6,5,11,null,null,null,null,0,null,null,null,null,0,null,null,null,null,0,null,null,null,null,0,null,null,null,null,0,null,null,null,null,0,null,null,null,null,0]
[56,"Larsen","Bendik Stangebye","Njård",10,2,null,"","",36,"",41,"","","",null,10,"","","","","","","","",null,null,null,null,0,null,null,null,null,0,null,36,0,5,5,null,null,null,null,0,null,41,0,5,5,null,null,null,null,0,null,null,null,null,0,null,null,null,null,0]
[56,"Berg","Odin","Ljan",10,1,null,"","","",26,"","","","",null,10,"","","","","","","","",null,null,null,null,0,null,null,null,null,0,null,null,null,null,0,null,26,5,5,10,null,null,null,null,0,null,null,null,null,0,null,null,null,null,0,null,null,null,null,0]
[58,"Hellerud","Lars","Ullensaker",9,1,null,27,"","","","","","","",null,9,"","","","","","","","",null,27,4,5,9,null,null,null,null,0,null,null,null,null,0,null,null,null,null,0,null,null,null,null,0,null,null,null,null,0,null,null,null,null,0,null,null,null,null,0]
[59,"Amundsen","Axel Røsberg","Heming",5,1,null,"","","","",32,"","","",null,5,"","","","","","","","",null,null,null,null,0,null,null,null,null,0,null,null,null,null,0,null,null,null,null,0,null,32,0,5,5,null,null,null,null,0,null,null,null,null,0,null,null,null,null,0]
[59,"Enoksen","Elias","IRS",5,1,null,"DSQ","","","","","","","",null,5,"","","","","","","","",null,"DSQ",0,5,5,null,null,null,null,0,null,null,null,null,0,null,null,null,null,0,null,null,null,null,0,null,null,null,null,0,null,null,null,null,0,null,null,null,null,0]
[59,"Linberg","Ulrik Fjeldavlie","Lillehammer",5,1,null,"DSQ","","","","","","","",null,5,"","","","","","","","",null,"DSQ",0,5,5,null,null,null,null,0,null,null,null,null,0,null,null,null,null,0,null,null,null,null,0,null,null,null,null,0,null,null,null,null,0,null,null,null,null,0]
[]
["Resultatliste Oslo Cup 2017 - Jenter 12 år"]
["Etter 5 av 8 renn"]
[null,null,null,null,null,null,null,"IRS Rennet","Ljan Rennet","Njård Rennet","Ready Rennet","Telenor Arena Cup","Euro-tecfarten","Oslo Alpinfestival SL","Oslo Alpinfestival SSL",null,null,"IRS Rennet","Ljan Rennet","Njård Rennet","Ready Rennet","Telenor Arena Cup","Euro-tecfarten","Oslo Alpinfestival SL","Oslo Alpinfestival SSL",null,"--------IRS Rennet----------",null,null,null,null,"----------Ljan Rennet---------",null,null,null,null,"--------Njård Rennet----------",null,null,null,null,"--------Ready Rennet---------",null,null,null,null,"-----Telenor Arena Cup----",null,null,null,null,"------Euro-tecfarten--------",null,null,null,null,"---Oslo Alpinfestival SL---",null,null,null,null,"---Oslo Alpinfestival SSL---"]
[null,null,null,null,null,"Antall",null,"2016-02-04","2016-02-05","2016-02-10","2016-02-11","2016-02-15","2016-03-01","2017-03-11","2016-03-12",null,"Poeng","2016-02-04","2016-02-05","2016-02-10","2016-02-11","2016-02-15","2016-03-01","2017-03-11","2016-03-12",null,null,"--------Poeng--------",null,null,null,null,"--------Poeng--------",null,null,null,null,"-------Poeng---------",null,null,null,null,"-------Poeng---------",null,null,null,null,"-------Poeng---------",null,null,null,null,"-------Poeng---------",null,null,null,null,"-------Poeng---------",null,null,null,null,"-------Poeng---------"]
["Plass","Etternavn","Fornavn","Klubb","Poeng","renn",null,"------------------------------Plassering i rennene---------------------------------",null,null,null,null,null,null,null,null,"brutto","----------------Resultatpoeng hvis mer enn 4 renn----------------",null,null,null,null,null,null,null,null,"Plass","Res.","Del.","Tot.",null,"Plass","Res.","Del.","Tot.",null,"Plass","Res.","Del.","Tot.",null,"Plass","Res.","Del.","Tot.",null,"Plass","Res.","Del.","Tot.",null,"Plass","Res.","Del.","Tot.",null,"Plass","Res.","Del.","Tot.",null,"Plass","Res.","Del.","Tot."]
[1,"Flåm","Amalie Skottun","Harestua",{"$f":"Q116-V116","v":405},{"$f":"COUNT(AC116,AH116,AM116,AR116,AW116,BB116,BG116,BL116)","v":5},null,{"$f":"IF(AA116=\"\",\"\",AA116)","v":2},{"$f":"IF(AF116=\"\",\"\",AF116)","v":1},{"$f":"IF(AK116=\"\",\"\",AK116)","v":1},{"$f":"IF(AP116=\"\",\"\",AP116)","v":1},{"$f":"IF(AU116=\"\",\"\",AU116)","v":18},{"$f":"IF(AZ116=\"\",\"\",AZ116)","v":""},{"$f":"IF(BE116=\"\",\"\",BE116)","v":""},{"$f":"IF(BJ116=\"\",\"\",BJ116)","v":""},null,{"$f":"AD116+AI116+AN116+AS116+AX116+BC116+BH116","v":418},{"$f":"IF($F116>=5,IF(AB116=\"\",\"\",AB116),\"\")","v":80},{"$f":"IF($F116>=5,IF(AG116=\"\",\"\",AG116),\"\")","v":100},{"$f":"IF($F116>=5,IF(AL116=\"\",\"\",AL116),\"\")","v":100},{"$f":"IF($F116>=5,IF(AQ116=\"\",\"\",AQ116),\"\")","v":100},{"$f":"IF($F116>=5,IF(AV116=\"\",\"\",AV116),\"\")","v":13},{"$f":"IF($F116>=5,IF(BA116=\"\",\"\",BA116),\"\")","v":""},{"$f":"IF($F116>=5,IF(BF116=\"\",\"\",BF116),\"\")","v":""},{"$f":"IF($F116>=5,IF(BK116=\"\",\"\",BK116),\"\")","v":""},null,2,80,5,{"$f":"AB116+AC116","v":85},null,1,100,5,{"$f":"AG116+AH116","v":105},null,1,100,5,{"$f":"AL116+AM116","v":105},null,1,100,5,{"$f":"AQ116+AR116","v":105},null,18,13,5,{"$f":"AV116+AW116","v":18},null,null,null,null,{"$f":"BA116+BB116","v":0},null,null,null,null,{"$f":"BF116+BG116","v":0},null,null,null,null,{"$f":"BK116+BL116","v":0}]
[2,"Grimkelsrud","Elisabet","Kjelsås",{"$f":"Q117-T117","v":335},5,null,1,2,6,4,2,"","","",null,375,100,80,40,50,80,"","","",null,1,100,5,105,null,2,80,5,85,null,6,40,5,45,null,4,50,5,55,null,2,80,5,85,null,null,null,null,0,null,null,null,null,0,null,null,null,null,0]
[3,"Bugge","Mathilde","Ready",{"$f":"Q118-R118","v":275},5,null,4,4,3,2,3,"","","",null,325,50,50,60,80,60,"","","",null,4,50,5,55,null,4,50,5,55,null,3,60,5,65,null,2,80,5,85,null,3,60,5,65,null,null,null,null,0,null,null,null,null,0,null,null,null,null,0]
[4,"Dietrichson","Iben","Ready",{"$f":"Q119-U119","v":235},5,null,3,3,5,6,5,"","","",null,275,60,60,45,40,45,"","","",null,3,60,5,65,null,3,60,5,65,null,5,45,5,50,null,6,40,5,45,null,5,45,5,50,null,null,null,null,0,null,null,null,null,0,null,null,null,null,0]
[5,"Kristiansen","Vilde Lovise","IRS",{"$f":"Q120-V120","v":161},5,null,8,6,8,8,9,"","","",null,190,32,40,32,32,29,"","","",null,8,32,5,37,null,6,40,5,45,null,8,32,5,37,null,8,32,5,37,null,9,29,5,34,null,null,null,null,0,null,null,null,null,0,null,null,null,null,0]
[{"$f":"IF(E121<E120,BO121,A120)","v":5},"Sandvin","Eva","Kjelsås",{"$f":"Q121","v":161},4,null,5,"DSQ",7,3,"","","","",null,161,"","","","","","","","",null,5,45,5,50,null,"DSQ",0,5,5,null,7,36,5,41,null,3,60,5,65,null,null,null,null,0,null,null,null,null,0,null,null,null,null,0,null,null,null,null,0]
[7,"Brodwall","Emilie Rønnestad","Stabæk",{"$f":"Q122","v":160},2,null,"","",4,"",1,"",{"$f":"IF(AZ122=\"\",\"\",AZ122)","v":""},{"$f":"IF(BE122=\"\",\"\",BE122)","v":""},null,160,"","","","","","","","",null,null,null,null,0,null,null,null,null,0,null,4,50,5,55,null,null,null,null,0,null,1,100,5,105,null,null,null,null,0,null,null,null,null,0,null,null,null,null,0]
[8,"Lyså","Amalie Bugge","Ready",{"$f":"Q123-T123","v":135},5,null,10,8,17,10,10,"",{"$f":"IF(BE123=\"\",\"\",BE123)","v":""},{"$f":"IF(BJ123=\"\",\"\",BJ123)","v":""},null,149,26,32,14,26,26,"","","",null,10,26,5,31,null,8,32,5,37,null,17,14,5,19,null,10,26,5,31,null,10,26,5,31,null,null,null,null,0,null,null,null,null,0,null,null,null,null,0]
[9,"Flydal","Vilde","Heming",{"$f":"Q124-U124","v":130},5,null,13,5,12,16,14,"",{"$f":"IF(BE124=\"\",\"\",BE124)","v":""},{"$f":"IF(BJ124=\"\",\"\",BJ124)","v":""},null,145,20,45,22,15,18,"","","",null,13,20,5,25,null,5,45,5,50,null,12,22,5,27,null,16,15,5,20,null,14,18,5,23,null,null,null,null,0,null,null,null,null,0,null,null,null,null,0]
[10,"Wrage","Paulina Rønning","Heming",{"$f":"Q125","v":128},4,null,6,"",16,9,11,"",{"$f":"IF(BE125=\"\",\"\",BE125)","v":""},{"$f":"IF(BJ125=\"\",\"\",BJ125)","v":""},null,128,"","","","","","","","",null,6,40,5,45,null,null,null,null,0,null,16,15,5,20,null,9,29,5,34,null,11,24,5,29,null,null,null,null,0,null,null,null,null,0,null,null,null,null,0]
[11,"Røsjorde","Mira Sjøvik","Kjelsås",121,5,null,"DSQ","DSQ",11,7,7,"",{"$f":"IF(AZ126=\"\",\"\",AZ126)","v":""},{"$f":"IF(BE126=\"\",\"\",BE126)","v":""},null,121,0,0,24,36,36,"","","",null,"DSQ",0,5,5,null,"DSQ",0,5,5,null,11,24,5,29,null,7,36,5,41,null,7,36,5,41,null,null,null,null,0,null,null,null,null,0,null,null,null,null,0]
[12,"Gurholt","Ida Kristine","Njård",115,5,null,11,"DSQ",15,14,8,"",{"$f":"IF(BE127=\"\",\"\",BE127)","v":""},{"$f":"IF(BJ127=\"\",\"\",BJ127)","v":""},null,115,24,0,16,18,32,"","","",null,11,24,5,29,null,"DSQ",0,5,5,null,15,16,5,21,null,14,18,5,23,null,8,32,5,37,null,null,null,null,0,null,null,null,null,0,null,null,null,null,0]
[13,"Roed","Elphi Haukenes","Heming",103,3,null,7,"",9,"",12,"",{"$f":"IF(BE128=\"\",\"\",BE128)","v":""},{"$f":"IF(BJ128=\"\",\"\",BJ128)","v":""},null,103,"","","","","","","","",null,7,36,6,42,null,null,null,null,0,null,9,29,5,34,null,null,null,null,0,null,12,22,5,27,null,null,null,null,0,null,null,null,null,0,null,null,null,null,0]
[14,"Wurschmidt","Elise","Heming",97,5,null,15,10,"DNF",15,17,"",{"$f":"IF(BE129=\"\",\"\",BE129)","v":""},{"$f":"IF(BJ129=\"\",\"\",BJ129)","v":""},null,97,16,26,0,16,14,"","","",null,15,16,5,21,null,10,26,5,31,null,"DNF",0,5,5,null,15,16,5,21,null,17,14,5,19,null,null,null,null,0,null,null,null,null,0,null,null,null,null,0]
[15,"Naustdal","Elise","Kjelsås",86,3,null,9,"","",12,13,"",{"$f":"IF(BE130=\"\",\"\",BE130)","v":""},{"$f":"IF(BJ130=\"\",\"\",BJ130)","v":""},null,86,"","","","","","","","",null,9,29,5,34,null,null,null,null,0,null,null,null,null,0,null,12,22,5,27,null,13,20,5,25,null,null,null,null,0,null,null,null,null,0,null,null,null,null,0]
[16,"Olesen","Linnea Vie","Stabæk",85,1,null,"","",2,"",{"$f":"IF(AQ131=\"\",\"\",AQ131)","v":""},{"$f":"IF(AU131=\"\",\"\",AU131)","v":""},{"$f":"IF(AZ131=\"\",\"\",AZ131)","v":""},{"$f":"IF(BE131=\"\",\"\",BE131)","v":""},null,85,"","","","",{"$f":"IF($F131>=5,IF(AR131=\"\",\"\",AR131),\"\")","v":""},{"$f":"IF($F131>=5,IF(AV131=\"\",\"\",AV131),\"\")","v":""},{"$f":"IF($F131>=5,IF(BA131=\"\",\"\",BA131),\"\")","v":""},{"$f":"IF($F131>=5,IF(BF131=\"\",\"\",BF131),\"\")","v":""},null,null,null,null,0,null,null,null,null,0,null,2,80,5,85,null,null,null,null,0,null,null,null,null,0,null,null,null,null,0,null,null,null,null,0,null,null,null,null,0]
[17,"Haakensen","Hedda","Kjelsås",83,4,null,14,"","DNF",5,{"$f":"IF(AU132=\"\",\"\",AU132)","v":"DNF"},{"$f":"IF(AZ132=\"\",\"\",AZ132)","v":""},{"$f":"IF(BE132=\"\",\"\",BE132)","v":""},{"$f":"IF(BJ132=\"\",\"\",BJ132)","v":""},null,83,"","","","",{"$f":"IF($F132>=5,IF(AV132=\"\",\"\",AV132),\"\")","v":""},{"$f":"IF($F132>=5,IF(BA132=\"\",\"\",BA132),\"\")","v":""},{"$f":"IF($F132>=5,IF(BF132=\"\",\"\",BF132),\"\")","v":""},{"$f":"IF($F132>=5,IF(BK132=\"\",\"\",BK132),\"\")","v":""},null,14,18,5,23,null,null,null,null,0,null,"DNF",0,5,5,null,5,45,5,50,null,"DNF",0,5,5,null,null,null,null,0,null,null,null,null,0,null,null,null,null,0]
[18,"Briseid-Bødtker","Mia","Heming",72,2,null,12,"","","",{"$f":"IF(AU133=\"\",\"\",AU133)","v":6},{"$f":"IF(AZ133=\"\",\"\",AZ133)","v":""},{"$f":"IF(BE133=\"\",\"\",BE133)","v":""},{"$f":"IF(BJ133=\"\",\"\",BJ133)","v":""},null,{"$f":"AD133+AI133+AN133+AS133+AX133+BC133+BH133+BM133","v":72},"","","","",{"$f":"IF($F133>=5,IF(AV133=\"\",\"\",AV133),\"\")","v":""},{"$f":"IF($F133>=5,IF(BA133=\"\",\"\",BA133),\"\")","v":""},{"$f":"IF($F133>=5,IF(BF133=\"\",\"\",BF133),\"\")","v":""},{"$f":"IF($F133>=5,IF(BK133=\"\",\"\",BK133),\"\")","v":""},null,12,22,5,27,null,null,null,null,0,null,null,null,null,0,null,null,null,null,0,null,6,40,5,45,null,null,null,null,0,null,null,null,null,0,null,null,null,null,0]
[19,"Briskelid","Cornelia","Heming",69,3,null,"","",14,13,{"$f":"IF(AU134=\"\",\"\",AU134)","v":15},{"$f":"IF(AZ134=\"\",\"\",AZ134)","v":""},{"$f":"IF(BE134=\"\",\"\",BE134)","v":""},{"$f":"IF(BJ134=\"\",\"\",BJ134)","v":""},null,{"$f":"AD134+AI134+AN134+AS134+AX134+BC134+BH134","v":69},"","","","",{"$f":"IF($F134>=5,IF(AV134=\"\",\"\",AV134),\"\")","v":""},{"$f":"IF($F134>=5,IF(BA134=\"\",\"\",BA134),\"\")","v":""},{"$f":"IF($F134>=5,IF(BF134=\"\",\"\",BF134),\"\")","v":""},{"$f":"IF($F134>=5,IF(BK134=\"\",\"\",BK134),\"\")","v":""},null,null,null,null,0,null,null,null,null,0,null,14,18,5,23,null,13,20,5,25,null,15,16,5,21,null,null,null,null,0,null,null,null,null,0,null,null,null,null,0]
[20,"Folkvord","Rikke","HSIL",65,2,null,"",9,10,"",{"$f":"IF(AU135=\"\",\"\",AU135)","v":""},{"$f":"IF(AZ135=\"\",\"\",AZ135)","v":""},{"$f":"IF(BE135=\"\",\"\",BE135)","v":""},{"$f":"IF(BJ135=\"\",\"\",BJ135)","v":""},null,65,"","","","",{"$f":"IF($F135>=5,IF(AV135=\"\",\"\",AV135),\"\")","v":""},{"$f":"IF($F135>=5,IF(BA135=\"\",\"\",BA135),\"\")","v":""},{"$f":"IF($F135>=5,IF(BF135=\"\",\"\",BF135),\"\")","v":""},{"$f":"IF($F135>=5,IF(BK135=\"\",\"\",BK135),\"\")","v":""},null,null,null,null,0,null,9,29,5,34,null,10,26,5,31,null,null,null,null,0,null,null,null,null,0,null,null,null,null,0,null,null,null,null,0,null,null,null,null,0]
[21,"Andersen","Julie Kahrs","BSK",55,1,null,"","","","",{"$f":"IF(AQ136=\"\",\"\",AQ136)","v":""},{"$f":"IF(AZ136=\"\",\"\",AZ136)","v":""},{"$f":"IF(AZ136=\"\",\"\",AZ136)","v":""},{"$f":"IF(BE136=\"\",\"\",BE136)","v":""},null,55,"","","","",{"$f":"IF($F136>=5,IF(AR136=\"\",\"\",AR136),\"\")","v":""},{"$f":"IF($F136>=5,IF(AV136=\"\",\"\",AV136),\"\")","v":""},{"$f":"IF($F136>=5,IF(BA136=\"\",\"\",BA136),\"\")","v":""},{"$f":"IF($F136>=5,IF(BF136=\"\",\"\",BF136),\"\")","v":""},null,null,null,null,0,null,null,null,null,0,null,null,null,null,0,null,null,null,null,0,null,4,50,5,55,null,null,null,null,0,null,null,null,null,0,null,null,null,null,0]
[22,"Dahl","Pauline","Ljan",41,1,null,"",7,"","",{"$f":"IF(AU137=\"\",\"\",AU137)","v":""},{"$f":"IF(AU137=\"\",\"\",AU137)","v":""},{"$f":"IF(AZ137=\"\",\"\",AZ137)","v":""},{"$f":"IF(BE137=\"\",\"\",BE137)","v":""},null,41,"","","","",{"$f":"IF($F137>=5,IF(AV137=\"\",\"\",AV137),\"\")","v":""},{"$f":"IF($F137>=5,IF(BA137=\"\",\"\",BA137),\"\")","v":""},{"$f":"IF($F137>=5,IF(BF137=\"\",\"\",BF137),\"\")","v":""},{"$f":"IF($F137>=5,IF(BK137=\"\",\"\",BK137),\"\")","v":""},null,null,null,null,0,null,7,36,5,41,null,null,null,null,0,null,null,null,null,0,null,null,null,null,0,null,null,null,null,0,null,null,null,null,0,null,null,null,null,0]
[23,"Ellingsen","Mia Synnøve","NeRo",39,2,null,17,"","","",16,{"$f":"IF(AZ138=\"\",\"\",AZ138)","v":""},{"$f":"IF(BE138=\"\",\"\",BE138)","v":""},{"$f":"IF(BJ138=\"\",\"\",BJ138)","v":""},null,39,"","","","","","","","",null,17,14,5,19,null,null,null,null,0,null,null,null,null,0,null,null,null,null,0,null,16,15,5,20,null,null,null,null,0,null,null,null,null,0,null,null,null,null,0]
[24,"Placht","Thadea Martine","Kjelsås",29,1,null,"",11,"","","",{"$f":"IF(AZ139=\"\",\"\",AZ139)","v":""},{"$f":"IF(BE139=\"\",\"\",BE139)","v":""},{"$f":"IF(BJ139=\"\",\"\",BJ139)","v":""},null,29,"","","","","","","","",null,null,null,null,0,null,11,24,5,29,null,null,null,null,0,null,null,null,null,0,null,null,null,null,0,null,null,null,null,0,null,null,null,null,0,null,null,null,null,0]
[24,"Skavik","Thea Skogheim","Heming",29,1,null,"","","",11,"",{"$f":"IF(AZ140=\"\",\"\",AZ140)","v":""},{"$f":"IF(BE140=\"\",\"\",BE140)","v":""},{"$f":"IF(BJ140=\"\",\"\",BJ140)","v":""},null,29,"","","","","","","","",null,null,null,null,0,null,null,null,null,0,null,null,null,null,0,null,11,24,5,29,null,null,null,null,0,null,null,null,null,0,null,null,null,null,0,null,null,null,null,0]
[26,"Trondsen","Marie Arnstad","Heming",25,1,null,"","",13,"","",{"$f":"IF(AU141=\"\",\"\",AU141)","v":""},{"$f":"IF(AZ141=\"\",\"\",AZ141)","v":""},{"$f":"IF(BE141=\"\",\"\",BE141)","v":""},null,25,"","","","","","","","",null,null,null,null,0,null,null,null,null,0,null,13,20,5,25,null,null,null,null,0,null,null,null,null,0,null,null,null,null,0,null,null,null,null,0,null,null,null,null,0]
[27,"Pedersen","Thea","Ullensaker",20,1,null,16,"","","","",{"$f":"IF(AZ142=\"\",\"\",AZ142)","v":""},{"$f":"IF(BE142=\"\",\"\",BE142)","v":""},{"$f":"IF(BJ142=\"\",\"\",BJ142)","v":""},null,20,"","","","","","","","",null,16,15,5,20,null,null,null,null,0,null,null,null,null,0,null,null,null,null,0,null,null,null,null,0,null,null,null,null,0,null,null,null,null,0,null,null,null,null,0]
[28,"Westrum","Suzanne Paulette Leirvik","Njård",17,1,null,"","","","",{"$f":"IF(AQ143=\"\",\"\",AQ143)","v":""},{"$f":"IF(AZ143=\"\",\"\",AZ143)","v":""},{"$f":"IF(AZ143=\"\",\"\",AZ143)","v":""},{"$f":"IF(BE143=\"\",\"\",BE143)","v":""},null,17,"","","","",{"$f":"IF($F143>=5,IF(AR143=\"\",\"\",AR143),\"\")","v":""},{"$f":"IF($F143>=5,IF(AV143=\"\",\"\",AV143),\"\")","v":""},{"$f":"IF($F143>=5,IF(BA143=\"\",\"\",BA143),\"\")","v":""},{"$f":"IF($F143>=5,IF(BF143=\"\",\"\",BF143),\"\")","v":""},null,null,null,null,0,null,null,null,null,0,null,null,null,null,0,null,null,null,null,0,null,19,12,5,17,null,null,null,null,0,null,null,null,null,0,null,null,null,null,0]
[29,"Sylvester-Davik","Madeleine","Tertnes",5,1,null,"","","DNF","",{"$f":"IF(AU144=\"\",\"\",AU144)","v":""},{"$f":"IF(AU144=\"\",\"\",AU144)","v":""},{"$f":"IF(AZ144=\"\",\"\",AZ144)","v":""},{"$f":"IF(BE144=\"\",\"\",BE144)","v":""},null,5,"","","","",{"$f":"IF($F144>=5,IF(AV144=\"\",\"\",AV144),\"\")","v":""},{"$f":"IF($F144>=5,IF(BA144=\"\",\"\",BA144),\"\")","v":""},{"$f":"IF($F144>=5,IF(BF144=\"\",\"\",BF144),\"\")","v":""},{"$f":"IF($F144>=5,IF(BK144=\"\",\"\",BK144),\"\")","v":""},null,null,null,null,0,null,null,null,null,0,null,"DNF",0,5,5,null,null,null,null,0,null,null,null,null,0,null,null,null,null,0,null,null,null,null,0,null,null,null,null,0]
[29,"Sylvester-Davik","Pia","Tertnes",5,1,null,"","","DNF","",{"$f":"IF(AQ145=\"\",\"\",AQ145)","v":""},{"$f":"IF(AU145=\"\",\"\",AU145)","v":""},{"$f":"IF(AZ145=\"\",\"\",AZ145)","v":""},{"$f":"IF(BE145=\"\",\"\",BE145)","v":""},null,5,"","","","",{"$f":"IF($F145>=5,IF(AV145=\"\",\"\",AV145),\"\")","v":""},{"$f":"IF($F145>=5,IF(BA145=\"\",\"\",BA145),\"\")","v":""},{"$f":"IF($F145>=5,IF(BF145=\"\",\"\",BF145),\"\")","v":""},{"$f":"IF($F145>=5,IF(BK145=\"\",\"\",BK145),\"\")","v":""},null,null,null,null,0,null,null,null,null,0,null,"DNF",0,5,5,null,null,null,null,0,null,null,null,null,0,null,null,null,null,0,null,null,null,null,0,null,null,null,null,0]
[29,"Larsen","Kornelia Wang","LIL Alpin",5,1,null,"","","","DNF",{"$f":"IF(AU146=\"\",\"\",AU146)","v":""},{"$f":"IF(AU146=\"\",\"\",AU146)","v":""},{"$f":"IF(AZ146=\"\",\"\",AZ146)","v":""},{"$f":"IF(BE146=\"\",\"\",BE146)","v":""},null,5,"","","","",{"$f":"IF($F146>=5,IF(AV146=\"\",\"\",AV146),\"\")","v":""},{"$f":"IF($F146>=5,IF(BA146=\"\",\"\",BA146),\"\")","v":""},{"$f":"IF($F146>=5,IF(BF146=\"\",\"\",BF146),\"\")","v":""},{"$f":"IF($F146>=5,IF(BK146=\"\",\"\",BK146),\"\")","v":""},null,null,null,null,0,null,null,null,null,0,null,null,null,null,0,null,"DNF",0,5,5,null,null,null,null,0,null,null,null,null,0,null,null,null,null,0,null,null,null,null,0]
[29,"Greibrokk","Mathilde","Stabæk",5,1,null,"","","","",{"$f":"IF(AU147=\"\",\"\",AU147)","v":"DNF"},{"$f":"IF(AZ147=\"\",\"\",AZ147)","v":""},{"$f":"IF(AZ147=\"\",\"\",AZ147)","v":""},{"$f":"IF(BE147=\"\",\"\",BE147)","v":""},null,5,{"$f":"IF($F138>=5,IF(AB147=\"\",\"\",AB147),\"\")","v":""},{"$f":"IF($F138>=5,IF(AG147=\"\",\"\",AG147),\"\")","v":""},{"$f":"IF($F138>=5,IF(AL147=\"\",\"\",AL147),\"\")","v":""},{"$f":"IF($F138>=5,IF(AQ147=\"\",\"\",AQ147),\"\")","v":""},{"$f":"IF($F138>=5,IF(AR147=\"\",\"\",AR147),\"\")","v":""},{"$f":"IF($F138>=5,IF(AV147=\"\",\"\",AV147),\"\")","v":""},{"$f":"IF($F138>=5,IF(BA147=\"\",\"\",BA147),\"\")","v":""},{"$f":"IF($F138>=5,IF(BF147=\"\",\"\",BF147),\"\")","v":""},null,null,null,null,0,null,null,null,null,0,null,null,null,null,0,null,null,null,null,0,null,"DNF",0,5,5,null,null,null,null,0,null,null,null,null,0,null,null,null,null,0]
[]
["Resultatliste Oslo Cup 2017 - Gutter 12 år"]
["Etter 5 av 8 renn"]
[null,null,null,null,null,null,null,"IRS Rennet","Ljan Rennet","Njård Rennet","Ready Rennet","Telenor Arena Cup","Euro-tecfarten","Oslo Alpinfestival SL","Oslo Alpinfestival SSL",null,null,"IRS Rennet","Ljan Rennet","Njård Rennet","Ready Rennet","Telenor Arena Cup","Euro-tecfarten","Oslo Alpinfestival SL","Oslo Alpinfestival SSL",null,"--------IRS Rennet----------",null,null,null,null,"----------Ljan Rennet---------",null,null,null,null,"--------Njård Rennet----------",null,null,null,null,"--------Ready Rennet---------",null,null,null,null,"-----Telenor Arena Cup----",null,null,null,null,"------Euro-tecfarten--------",null,null,null,null,"---Oslo Alpinfestival SL---",null,null,null,null,"---Oslo Alpinfestival SSL---"]
[null,null,null,null,null,"Antall",null,"2016-02-04","2016-02-05","2016-02-10","2016-02-11","2016-02-15","2016-03-01","2017-03-11","2016-03-12",null,"Poeng","2016-02-04","2016-02-05","2016-02-10","2016-02-11","2016-02-15","2016-03-01","2017-03-11","2016-03-12",null,null,"--------Poeng--------",null,null,null,null,"--------Poeng--------",null,null,null,null,"-------Poeng---------",null,null,null,null,"-------Poeng---------",null,null,null,null,"-------Poeng---------",null,null,null,null,"-------Poeng---------",null,null,null,null,"-------Poeng---------",null,null,null,null,"-------Poeng---------"]
["Plass","Etternavn","Fornavn","Klubb","Poeng","renn",null,"------------------------------Plassering i rennene---------------------------------",null,null,null,null,null,null,null,null,"brutto","----------------Resultatpoeng hvis mer enn 4 renn----------------",null,null,null,null,null,null,null,null,"Plass","Res.","Del.","Tot.",null,"Plass","Res.","Del.","Tot.",null,"Plass","Res.","Del.","Tot.",null,"Plass","Res.","Del.","Tot.",null,"Plass","Res.","Del.","Tot.",null,"Plass","Res.","Del.","Tot.",null,"Plass","Res.","Del.","Tot.",null,"Plass","Res.","Del.","Tot."]
[1,"Fosseidbråten","Joakim","Ready",{"$f":"Q154-R154","v":365},{"$f":"COUNT(AC154,AH154,AM154,AR154,AW154,BB154,BG154,BL154)","v":5},null,{"$f":"IF(AA154=\"\",\"\",AA154)","v":14},{"$f":"IF(AF154=\"\",\"\",AF154)","v":2},{"$f":"IF(AK154=\"\",\"\",AK154)","v":1},{"$f":"IF(AP154=\"\",\"\",AP154)","v":1},{"$f":"IF(AU154=\"\",\"\",AU154)","v":3},{"$f":"IF(AZ154=\"\",\"\",AZ154)","v":""},{"$f":"IF(BE154=\"\",\"\",BE154)","v":""},{"$f":"IF(BJ154=\"\",\"\",BJ154)","v":""},null,{"$f":"AD154+AI154+AN154+AS154+AX154+BC154+BH154","v":383},{"$f":"IF($F154>=5,IF(AB154=\"\",\"\",AB154),\"\")","v":18},{"$f":"IF($F154>=5,IF(AG154=\"\",\"\",AG154),\"\")","v":80},{"$f":"IF($F154>=5,IF(AL154=\"\",\"\",AL154),\"\")","v":100},{"$f":"IF($F154>=5,IF(AQ154=\"\",\"\",AQ154),\"\")","v":100},{"$f":"IF($F154>=5,IF(AV154=\"\",\"\",AV154),\"\")","v":60},{"$f":"IF($F154>=5,IF(BA154=\"\",\"\",BA154),\"\")","v":""},{"$f":"IF($F154>=5,IF(BF154=\"\",\"\",BF154),\"\")","v":""},{"$f":"IF($F154>=5,IF(BK154=\"\",\"\",BK154),\"\")","v":""},null,14,18,5,{"$f":"AB154+AC154","v":23},null,2,80,5,{"$f":"AG154+AH154","v":85},null,1,100,5,{"$f":"AL154+AM154","v":105},null,1,100,5,{"$f":"AQ154+AR154","v":105},null,3,60,5,{"$f":"AV154+AW154","v":65},null,null,null,null,{"$f":"BA154+BB154","v":0},null,null,null,null,{"$f":"BF154+BG154","v":0},null,null,null,null,{"$f":"BK154+BL154","v":0}]
[{"$f":"IF(E155<E154,BO155,A154)","v":1},"Ulrichsen Vigsnæs","Victor","Heming",{"$f":"Q155-R155","v":365},5,null,13,1,2,2,2,"","","",null,{"$f":"AD155+AI155+AN155+AS155+AX155+BC155+BH155","v":385},20,100,80,80,80,"","","",null,13,20,5,25,null,1,100,5,105,null,2,80,5,85,null,2,80,5,85,null,2,80,5,85,null,null,null,null,0,null,null,null,null,0,null,null,null,null,0]
[3,"Fredriksen","Mathias","Heming",{"$f":"Q156","v":237},5,null,1,"DSQ",4,12,6,"","","",null,{"$f":"AD156+AI156+AN156+AS156+AX156+BC156+BH156","v":237},100,0,50,22,40,"","","",null,1,100,5,105,null,"DSQ",0,5,5,null,4,50,5,55,null,12,22,5,27,null,6,40,5,45,null,null,null,null,0,null,null,null,null,0,null,null,null,null,0]
[4,"Østrøm","Christoffer","Heming",{"$f":"Q157-T157","v":234},5,null,2,3,10,6,9,"","","",null,{"$f":"AD157+AI157+AN157+AS157+AX157+BC157+BH157","v":260},80,60,26,40,29,"","","",null,2,80,5,85,null,3,60,5,65,null,10,26,5,31,null,6,40,5,45,null,9,29,5,34,null,null,null,null,0,null,null,null,null,0,null,null,null,null,0]
[5,"Bakkevig","Rasmus","Heming",{"$f":"Q158-S158","v":231},5,null,10,13,3,13,1,"","","",null,{"$f":"AD158+AI158+AN158+AS158+AX158+BC158+BH158+BM158","v":251},26,20,60,20,100,"","","",null,10,26,5,31,null,13,20,5,25,null,3,60,5,65,null,13,20,5,25,null,1,100,5,105,null,null,null,null,0,null,null,null,null,0,null,null,null,null,0]
[6,"Solheim","Erik Lund","Ready",{"$f":"Q159-V159","v":225},5,null,4,4,6,3,14,"","","",null,{"$f":"AD159+AI159+AN159+AS159+AX159+BC159+BH159","v":243},50,50,40,60,18,"","","",null,4,50,5,55,null,4,50,5,55,null,6,40,5,45,null,3,60,5,65,null,14,18,5,23,null,null,null,null,0,null,null,null,null,0,null,null,null,null,0]
[7,"Nergaard","Sverre","Heming",{"$f":"Q160","v":191},5,null,6,"DSQ",6,4,7,"","","",null,191,40,0,40,50,36,"","","",null,6,40,5,45,null,"DSQ",0,5,5,null,6,40,5,45,null,4,50,5,55,null,7,36,5,41,null,null,null,null,0,null,null,null,null,0,null,null,null,null,0]
[8,"Lorentzen","Carl Axel","Heming",{"$f":"Q161","v":171},5,null,3,"DSQ",5,9,8,"","","",null,171,60,0,45,9,32,"","","",null,3,60,5,65,null,"DSQ",0,5,5,null,5,45,5,50,null,9,9,5,14,null,8,32,5,37,null,null,null,null,0,null,null,null,null,0,null,null,null,null,0]
[9,"Buchardt","Aksel","Heming",{"$f":"Q162","v":166},4,null,8,6,9,5,"","","","",null,166,"","","","","","","","",null,8,32,5,37,null,6,40,5,45,null,9,29,5,34,null,5,45,5,50,null,null,null,null,0,null,null,null,null,0,null,null,null,null,0,null,null,null,null,0]
[10,"Torrissen","Philip Ingulstad","Kjelsås",{"$f":"Q163-T163","v":131},5,null,11,7,15,11,12,"",{"$f":"IF(AZ163=\"\",\"\",AZ163)","v":""},{"$f":"IF(BE163=\"\",\"\",BE163)","v":""},null,147,24,36,16,24,22,"","","",null,11,24,5,29,null,7,36,5,41,null,15,16,5,21,null,11,24,5,29,null,12,22,5,27,null,null,null,null,0,null,null,null,null,0,null,null,null,null,0]
[11,"Maaø","Filippo Fregosi","IRS",{"$f":"Q164","v":119},5,null,9,5,13,"DNF","DNF","",{"$f":"IF(BE164=\"\",\"\",BE164)","v":""},{"$f":"IF(BJ164=\"\",\"\",BJ164)","v":""},null,119,29,45,20,0,0,"","","",null,9,29,5,34,null,5,45,5,50,null,13,20,5,25,null,"DNF",0,5,5,null,"DNF",0,5,5,null,null,null,null,0,null,null,null,null,0,null,null,null,null,0]
[12,"Gjetsund","Eivind","Heming",97,3,null,"","",11,8,10,"",{"$f":"IF(AZ165=\"\",\"\",AZ165)","v":""},{"$f":"IF(BE165=\"\",\"\",BE165)","v":""},null,97,"","","","","","","","",null,null,null,null,0,null,null,null,null,0,null,11,24,5,29,null,8,32,5,37,null,10,26,5,31,null,null,null,null,0,null,null,null,null,0,null,null,null,null,0]
[13,"Holst","Marcus Normann","Kjelsås",83,5,null,"DSQ","DSQ",12,7,"DNF","",{"$f":"IF(BE166=\"\",\"\",BE166)","v":""},{"$f":"IF(BJ166=\"\",\"\",BJ166)","v":""},null,83,0,0,22,36,0,"","","",null,"DSQ",0,5,5,null,"DSQ",0,5,5,null,12,22,5,27,null,7,36,5,41,null,"DNF",0,5,5,null,null,null,null,0,null,null,null,null,0,null,null,null,null,0]
[14,"Schei","Viktor","IRS",77,3,null,"",8,"",10,11,"",{"$f":"IF(BE167=\"\",\"\",BE167)","v":""},{"$f":"IF(BJ167=\"\",\"\",BJ167)","v":""},null,77,"","","","","","","","",null,null,null,null,0,null,8,32,5,37,null,null,null,null,0,null,10,6,5,11,null,11,24,5,29,null,null,null,null,0,null,null,null,null,0,null,null,null,null,0]
[15,"Nordklev","Ola","Heming",70,2,null,7,11,"","","","",{"$f":"IF(BE168=\"\",\"\",BE168)","v":""},{"$f":"IF(BJ168=\"\",\"\",BJ168)","v":""},null,70,"","","","","","","","",null,7,36,5,41,null,11,24,5,29,null,null,null,null,0,null,null,null,null,0,null,null,null,null,0,null,null,null,null,0,null,null,null,null,0,null,null,null,null,0]
[16,"Pedersen","Sondre","Ullensaker",58,2,null,12,10,"","","","",{"$f":"IF(BE169=\"\",\"\",BE169)","v":""},{"$f":"IF(BJ169=\"\",\"\",BJ169)","v":""},null,58,"","","","","","","","",null,12,22,5,27,null,10,26,5,31,null,null,null,null,0,null,null,null,null,0,null,null,null,null,0,null,null,null,null,0,null,null,null,null,0,null,null,null,null,0]
[17,"Lunder","Peder","Stabæk",55,1,null,"","","","",4,"",{"$f":"IF(AZ170=\"\",\"\",AZ170)","v":""},{"$f":"IF(BE170=\"\",\"\",BE170)","v":""},null,55,"","","","","","","","",null,null,null,null,0,null,null,null,null,0,null,null,null,null,0,null,null,null,null,0,null,4,50,5,55,null,null,null,null,0,null,null,null,null,0,null,null,null,null,0]
[18,"Brandt","Kasper","Heming",53,3,null,"","",14,"DNF",13,"",{"$f":"IF(BE171=\"\",\"\",BE171)","v":""},{"$f":"IF(BJ171=\"\",\"\",BJ171)","v":""},null,53,"","","","","","","","",null,null,null,null,0,null,null,null,null,0,null,14,18,5,23,null,"DNF",0,5,5,null,13,20,5,25,null,null,null,null,0,null,null,null,null,0,null,null,null,null,0]
[19,"Cappelen Mazzocchi","Mats","Heming",50,1,null,5,"","","","","",{"$f":"IF(BE172=\"\",\"\",BE172)","v":""},{"$f":"IF(BJ172=\"\",\"\",BJ172)","v":""},null,50,"","","","","","","","",null,5,45,5,50,null,null,null,null,0,null,null,null,null,0,null,null,null,null,0,null,null,null,null,0,null,null,null,null,0,null,null,null,null,0,null,null,null,null,0]
[19,"Bengston","Sebastian","Heming",50,1,null,"","","","",5,"",{"$f":"IF(AZ173=\"\",\"\",AZ173)","v":""},{"$f":"IF(BE173=\"\",\"\",BE173)","v":""},null,50,"","","","","","","","",null,null,null,null,0,null,null,null,null,0,null,null,null,null,0,null,null,null,null,0,null,5,45,5,50,null,null,null,null,0,null,null,null,null,0,null,null,null,null,0]
[21,"Rasmussen","Jonathan Holst","Stabæk",37,1,null,"","",8,"","","",{"$f":"IF(BE174=\"\",\"\",BE174)","v":""},{"$f":"IF(BJ174=\"\",\"\",BJ174)","v":""},null,37,"","","","","","","","",null,null,null,null,0,null,null,null,null,0,null,8,32,5,37,null,null,null,null,0,null,null,null,null,0,null,null,null,null,0,null,null,null,null,0,null,null,null,null,0]
[22,"Hassel","Anton","Kjelsås",31,1,null,"",9,"","","","",{"$f":"IF(BE175=\"\",\"\",BE175)","v":""},{"$f":"IF(BJ175=\"\",\"\",BJ175)","v":""},null,31,"","","","","","","","",null,null,null,null,0,null,9,26,5,31,null,null,null,null,0,null,null,null,null,0,null,null,null,null,0,null,null,null,null,0,null,null,null,null,0,null,null,null,null,0]
[23,"Gras","Nicolas","Ljan",27,1,null,"",12,"","","","",{"$f":"IF(BE176=\"\",\"\",BE176)","v":""},{"$f":"IF(BJ176=\"\",\"\",BJ176)","v":""},null,27,"","","","","","","","",null,null,null,null,0,null,12,22,5,27,null,null,null,null,0,null,null,null,null,0,null,null,null,null,0,null,null,null,null,0,null,null,null,null,0,null,null,null,null,0]
[24,"Ellefsen","Nicolay","Ljan",23,1,null,"",14,"","","",{"$f":"IF(AU177=\"\",\"\",AU177)","v":""},{"$f":"IF(AZ177=\"\",\"\",AZ177)","v":""},{"$f":"IF(BE177=\"\",\"\",BE177)","v":""},null,23,"","","","","","","","",null,null,null,null,0,null,14,18,5,23,null,null,null,null,0,null,null,null,null,0,null,null,null,null,0,null,null,null,null,0,null,null,null,null,0,null,null,null,null,0]
[25,"Sellæg","Johannes","Ready",5,1,null,"DNF","","","","",{"$f":"IF(AZ178=\"\",\"\",AZ178)","v":""},{"$f":"IF(BE178=\"\",\"\",BE178)","v":""},{"$f":"IF(BJ178=\"\",\"\",BJ178)","v":""},null,5,"","","","","","","","",null,"DNF",0,5,5,null,null,null,null,0,null,null,null,null,0,null,null,null,null,0,null,null,null,null,0,null,null,null,null,0,null,null,null,null,0,null,null,null,null,0]
[25,"Opsann","Didrik Kalland","IRS",5,1,null,"DSQ","","","","",{"$f":"IF(AZ179=\"\",\"\",AZ179)","v":""},{"$f":"IF(BE179=\"\",\"\",BE179)","v":""},{"$f":"IF(BJ179=\"\",\"\",BJ179)","v":""},null,5,"","","","","","","","",null,"DSQ",0,5,5,null,null,null,null,0,null,null,null,null,0,null,null,null,null,0,null,null,null,null,0,null,null,null,null,0,null,null,null,null,0,null,null,null,null,0]

{"sheet":"J11 2016","index":11,"n_rows":53,"n_cols":75,"rows_kept":53,"cut":false,"hidden":false,"merged":[[4,7,4,14],[4,17,4,24],[3,27,3,29],[2,26,2,29],[3,32,3,34],[2,31,2,34],[3,37,3,39],[2,36,2,39],[3,42,3,44],[2,46,2,49],[3,47,3,49],[2,41,2,44],[3,52,3,54],[2,51,2,54],[2,56,2,59],[3,57,3,59],[2,61,2,64],[3,62,3,64]]}
["Resultatliste Oslo Cup 2016 - Jenter 11 år"]
[{"$f":"'Forside 2017'!A2","v":"Etter 5 av 8 renn"}]
[null,null,null,null,null,null,null,"IRS Rennet","Ljan Rennet","Telenor Arena Cup","Njård Rennet","Ready Rennet","Euro-tecfarten","Oslo Alpinfestival SL","Oslo Alpinfestival SSL",null,null,"IRS Rennet","Ljan Rennet","Telenor Arena Cup","Njård Rennet","Ready Rennet","Euro-tecfarten","Oslo Alpinfestival SL","Oslo Alpinfestival SSL",null,"--------IRS Rennet----------",null,null,null,null,"----------Ljan Rennet---------",null,null,null,null,"-----Telenor Arena Cup----",null,null,null,null,"--------Njård Rennet----------",null,null,null,null,"--------Ready Rennet---------",null,null,null,null,"------Euro-tecfarten--------",null,null,null,null,"---Oslo Alpinfestival SL---",null,null,null,null,"---Oslo Alpinfestival SSL---"]
[null,null,null,null,null,"Antall",null,"2016-02-06","2016-02-07","2016-02-10","2016-02-12","2016-02-13","2016-03-08","2016-04-02","2016-04-03",null,"Poeng","2016-02-06","2016-02-07","2016-02-10","2016-02-12","2016-02-13","2016-03-08","2016-04-02","2016-04-03",null,null,"--------Poeng--------",null,null,null,null,"--------Poeng--------",null,null,null,null,"-------Poeng---------",null,null,null,null,"-------Poeng---------",null,null,null,null,"-------Poeng---------",null,null,null,null,"-------Poeng---------",null,null,null,null,"-------Poeng---------",null,null,null,null,"-------Poeng---------",null,null,null,null,null,"Løpere med ","Løpere med ","Løpere med ","Løpere med ","Løpere med ","Løpere med ","Løpere med "]
["Plass","Etternavn","Fornavn","Klubb","Poeng","renn",null,"------------------------------Plassering i rennene---------------------------------",null,null,null,null,null,null,null,null,"brutto","----------------Resultatpoeng hvis mer enn 4 renn----------------",null,null,null,null,null,null,null,null,"Plass","Res.","Del.","Tot.",null,"Plass","Res.","Del.","Tot.",null,"Plass","Res.","Del.","Tot.",null,"Plass","Res.","Del.","Tot.",null,"Plass","Res.","Del.","Tot.",null,"Plass","Res.","Del.","Tot.",null,"Plass","Res.","Del.","Tot.",null,"Plass","Res.","Del.","Tot.",null,null,null,"8 renn","7 renn","6 renn","5 renn","4 renn","3 renn","kun 1 renn"]
[1,"Grimkelsrud ","Elisabeth","Kjelsås",{"$f":"Q6-V6-U6","v":410},{"$f":"COUNT(AC6,AH6,AM6,AR6,AW6,BB6,BG6,BL6)","v":6},null,{"$f":"IF(AA6=\"\",\"\",AA6)","v":2},{"$f":"IF(AF6=\"\",\"\",AF6)","v":1},{"$f":"IF(AK6=\"\",\"\",AK6)","v":1},{"$f":"IF(AP6=\"\",\"\",AP6)","v":2},{"$f":"IF(AU6=\"\",\"\",AU6)","v":2},{"$f":"IF(AZ6=\"\",\"\",AZ6)","v":1},{"$f":"IF(BE6=\"\",\"\",BE6)","v":""},{"$f":"IF(BJ6=\"\",\"\",BJ6)","v":""},null,{"$f":"AD6+AI6+AN6+AS6+AX6+BC6+BH6+BM6","v":570},{"$f":"IF($F6>=5,IF(AB6=\"\",\"\",AB6),\"\")","v":80},{"$f":"IF($F6>=5,IF(AG6=\"\",\"\",AG6),\"\")","v":100},{"$f":"IF($F6>=5,IF(AL6=\"\",\"\",AL6),\"\")","v":100},{"$f":"IF($F6>=5,IF(AQ6=\"\",\"\",AQ6),\"\")","v":80},{"$f":"IF($F6>=5,IF(AV6=\"\",\"\",AV6),\"\")","v":80},{"$f":"IF($F6>=5,IF(BA6=\"\",\"\",BA6),\"\")","v":100},{"$f":"IF($F6>=5,IF(BF6=\"\",\"\",BF6),\"\")","v":""},{"$f":"IF($F6>=5,IF(BK6=\"\",\"\",BK6),\"\")","v":""},null,2,80,5,{"$f":"AB6+AC6","v":85},null,1,100,5,{"$f":"AG6+AH6","v":105},null,1,100,5,{"$f":"AL6+AM6","v":105},null,2,80,5,{"$f":"AQ6+AR6","v":85},null,2,80,5,{"$f":"AV6+AW6","v":85},null,1,100,5,{"$f":"BA6+BB6","v":105},null,null,null,null,{"$f":"BF6+BG6","v":0},null,null,null,null,{"$f":"BK6+BL6","v":0},null,1,100,{"$f":"IF($F6=7,1,0)","v":0},{"$f":"IF($F6=6,1,0)","v":1},{"$f":"IF($F6=5,1,0)","v":0},{"$f":"IF($F6=4,1,0)","v":0},{"$f":"IF($F6=3,1,0)","v":0},{"$f":"IF($F6=2,1,0)","v":0},{"$f":"IF($F6=1,1,0)","v":0}]
[{"$f":"IF(E7<E6,BO7,A6)","v":2},"Bugge ","Mathilde Haugdal","Ready",{"$f":"Q7-T7-W7","v":330},6,null,1,2,"DNF",3,3,6,"","",null,{"$f":"AD7+AI7+AN7+AS7+AX7+BC7+BH7","v":370},100,80,0,60,60,40,"","",null,1,100,5,105,null,2,80,5,85,null,"DNF",0,5,5,null,3,60,5,65,null,3,60,5,65,null,6,40,5,45,null,null,null,null,0,null,null,null,null,0,null,2,80,{"$f":"IF($F7=7,1,0)","v":0},{"$f":"IF($F7=6,1,0)","v":1},{"$f":"IF($F7=5,1,0)","v":0},{"$f":"IF($F7=4,1,0)","v":0},{"$f":"IF($F7=3,1,0)","v":0},{"$f":"IF($F7=2,1,0)","v":0},{"$f":"IF($F7=1,1,0)","v":0}]
[3,"Sandvin ","Eva","Kjelsås",{"$f":"Q8-R8-V8","v":230},6,null,"DSQ",3,6,4,19,4,"","",null,242,0,60,40,50,12,50,"","",null,"DSQ",0,5,5,null,3,60,5,65,null,6,40,5,45,null,4,50,5,55,null,19,12,5,17,null,4,50,5,55,null,null,null,null,0,null,null,null,null,0,null,3,60,0,1,0,0,0,0,0]
[4,"Røsjorde Sjøvik ","Mira","Kjelsås",{"$f":"Q9-W9","v":215},6,null,5,"DSQ",3,6,6,8,"","",null,247,45,0,60,40,40,32,"","",null,5,45,5,50,null,"DSQ",0,5,5,null,3,60,5,65,null,6,40,5,45,null,6,40,5,45,null,8,32,5,37,null,null,null,null,0,null,null,null,null,0,null,4,50,0,1,0,0,0,0,0]
[5,"Flåm","Amalie ","Harestua",{"$f":"Q10","v":210},2,null,"","","",1,1,"","","",null,210,"","","","","","","","",null,null,null,null,0,null,null,null,null,0,null,null,null,null,0,null,1,100,5,105,null,1,100,5,105,null,null,null,null,0,null,null,null,null,0,null,null,null,null,0,null,5,45,0,0,0,0,0,1,0]
[6,"Roed ","Elphi Haukenes","Heming",{"$f":"Q11-V11","v":187},5,null,7,5,5,7,10,"","","",null,213,36,45,45,36,26,"","","",null,7,36,5,41,null,5,45,5,50,null,5,45,5,50,null,7,36,5,41,null,10,26,5,31,null,null,null,null,0,null,null,null,null,0,null,null,null,null,0,null,6,40,0,0,1,0,0,0,0]
[7,"Kristiansen ","Vilde Lovis","IRS",{"$f":"Q12","v":171},4,null,"",4,11,"",8,5,"","",null,171,"","","","","","","","",null,null,null,null,0,null,4,50,5,55,null,11,24,5,29,null,null,null,null,0,null,8,32,5,37,null,5,45,5,50,null,null,null,null,0,null,null,null,null,0,null,7,36,0,0,0,1,0,0,0]
[8,"Lyså ","Amalie Bugge","Ready",153,4,null,4,"",9,8,12,"","","",null,153,"","","","","","","","",null,4,50,5,55,null,null,null,null,0,null,9,29,5,34,null,8,32,5,37,null,12,22,5,27,null,null,null,null,0,null,null,null,null,0,null,null,null,null,0,null,8,32,0,0,0,1,0,0,0]
[8,"Flydal","Vilde","Heming",153,3,null,"","",2,9,9,"","","",null,153,"","","","","","","","",null,null,null,null,0,null,null,null,null,0,null,2,80,5,85,null,9,29,5,34,null,9,29,5,34,null,null,null,null,0,null,null,null,null,0,null,null,null,null,0,null,9,29,0,0,0,0,1,0,0]
[10,"Gurholt ","Ida Kristine","Njård",148,6,null,6,"DSQ","DSQ",10,15,7,"","",null,148,40,0,0,26,16,36,"","",null,6,40,5,45,null,"DSQ",0,5,5,null,"DSQ",0,5,5,null,10,26,5,31,null,15,16,5,21,null,7,36,5,41,null,null,null,null,0,null,null,null,null,0,null,10,26,0,1,0,0,0,0,0]
[11,"Folkvord","Rikke","HSIL",121,4,null,"","",10,"DNF",16,3,"","",null,121,"","","","","","","","",null,null,null,null,0,null,null,null,null,0,null,10,26,5,31,null,"DNF",0,5,5,null,16,15,5,20,null,3,60,5,65,null,null,null,null,0,null,null,null,null,0,null,11,24,0,0,0,1,0,0,0]
[12,"Larsen ","Kornelia Wang","LIL Alpin",120,2,null,3,"","","",4,"","","",null,120,"","","","","","","","",null,3,60,5,65,null,null,null,null,0,null,null,null,null,0,null,null,null,null,0,null,4,50,5,55,null,null,null,null,0,null,null,null,null,0,null,null,null,null,0,null,12,22,0,0,0,0,0,1,0]
[13,"Dietrichson","Iben","Ready",105,3,null,"","","DSQ",5,5,"","","",null,105,"","","","","","","","",null,null,null,null,0,null,null,null,null,0,null,"DSQ",0,5,5,null,5,45,5,50,null,5,45,5,50,null,null,null,null,0,null,null,null,null,0,null,null,null,null,0,null,13,20,0,0,0,0,1,0,0]
[14,"Galligani","Filippa","Heming",104,3,null,"","",7,"",11,9,"","",null,104,"","","","","","","","",null,null,null,null,0,null,null,null,null,0,null,7,36,5,41,null,null,null,null,0,null,11,24,5,29,null,9,29,5,34,null,null,null,null,0,null,null,null,null,0,null,14,18,{"$f":"IF($F18=7,1,0)","v":0},{"$f":"IF($F18=6,1,0)","v":0},{"$f":"IF($F18=5,1,0)","v":0},{"$f":"IF($F18=4,1,0)","v":0},{"$f":"IF($F18=3,1,0)","v":1},{"$f":"IF($F18=2,1,0)","v":0},{"$f":"IF($F18=1,1,0)","v":0}]
[15,"Wrage","Paulina Rønning","Heming",85,3,null,"","",4,"DNF",13,"","","",null,85,"","","","","","","","",null,null,null,null,0,null,null,null,null,0,null,4,50,5,55,null,"DNF",0,5,5,null,13,20,5,25,null,null,null,null,0,null,null,null,null,0,null,null,null,null,0,null,15,16,{"$f":"IF($F19=7,1,0)","v":0},{"$f":"IF($F19=6,1,0)","v":0},{"$f":"IF($F19=5,1,0)","v":0},{"$f":"IF($F19=4,1,0)","v":0},{"$f":"IF($F19=3,1,0)","v":1},{"$f":"IF($F19=2,1,0)","v":0},{"$f":"IF($F19=1,1,0)","v":0}]
[15,"Brodwall ","Emilie Rønnestad","Stabæk",85,1,null,"","","","","",{"$f":"IF(AU21=\"\",\"\",AU21)","v":""},{"$f":"IF(AZ21=\"\",\"\",AZ21)","v":2},{"$f":"IF(BE21=\"\",\"\",BE21)","v":""},null,85,"","","","","","","","",null,null,null,null,0,null,null,null,null,0,null,null,null,null,0,null,null,null,null,0,null,null,null,null,0,null,2,80,5,85,null,null,null,null,0,null,null,null,null,0,null,16,15,{"$f":"IF($F20=7,1,0)","v":0},{"$f":"IF($F20=6,1,0)","v":0},{"$f":"IF($F20=5,1,0)","v":0},{"$f":"IF($F20=4,1,0)","v":0},{"$f":"IF($F20=3,1,0)","v":1},{"$f":"IF($F20=2,1,0)","v":0},{"$f":"IF($F20=1,1,0)","v":0}]
[17,"Haakensen ","Hedda","Kjelsås",82,2,null,8,6,"","","",{"$f":"IF(AZ22=\"\",\"\",AZ22)","v":""},{"$f":"IF(BE22=\"\",\"\",BE22)","v":""},{"$f":"IF(BJ22=\"\",\"\",BJ22)","v":""},null,82,"","","","","","","","",null,8,32,5,37,null,6,40,5,45,null,null,null,null,0,null,null,null,null,0,null,null,null,null,0,null,null,null,null,0,null,null,null,null,0,null,null,null,null,0,null,17,14,{"$f":"IF($F20=7,1,0)","v":0},{"$f":"IF($F20=6,1,0)","v":0},{"$f":"IF($F20=5,1,0)","v":0},{"$f":"IF($F20=4,1,0)","v":0},{"$f":"IF($F20=3,1,0)","v":1},{"$f":"IF($F20=2,1,0)","v":0},{"$f":"IF($F20=1,1,0)","v":0}]
[18,"Wurschmidt","Elise","Heming",53,3,null,"","","DNF",11,17,{"$f":"IF(AZ23=\"\",\"\",AZ23)","v":""},{"$f":"IF(BE23=\"\",\"\",BE23)","v":""},{"$f":"IF(BJ23=\"\",\"\",BJ23)","v":""},null,53,"","","","","","","","",null,null,null,null,0,null,null,null,null,0,null,"DNF",0,5,5,null,11,24,5,29,null,17,14,5,19,null,null,null,null,0,null,null,null,null,0,null,null,null,null,0,null,18,13,{"$f":"IF($F21=7,1,0)","v":0},{"$f":"IF($F21=6,1,0)","v":0},{"$f":"IF($F21=5,1,0)","v":0},{"$f":"IF($F21=4,1,0)","v":0},{"$f":"IF($F21=3,1,0)","v":0},{"$f":"IF($F21=2,1,0)","v":0},{"$f":"IF($F21=1,1,0)","v":1}]
[19,"Trondsen","Marie Arnstad","Heming",50,2,null,"","",12,"",14,{"$f":"IF(AZ24=\"\",\"\",AZ24)","v":""},{"$f":"IF(BE24=\"\",\"\",BE24)","v":""},{"$f":"IF(BJ24=\"\",\"\",BJ24)","v":""},null,50,"","","","","","","","",null,null,null,null,0,null,null,null,null,0,null,12,22,5,27,null,null,null,null,0,null,14,18,5,23,null,null,null,null,0,null,null,null,null,0,null,null,null,null,0,null,19,12,{"$f":"IF($F22=7,1,0)","v":0},{"$f":"IF($F22=6,1,0)","v":0},{"$f":"IF($F22=5,1,0)","v":0},{"$f":"IF($F22=4,1,0)","v":0},{"$f":"IF($F22=3,1,0)","v":0},{"$f":"IF($F22=2,1,0)","v":1},{"$f":"IF($F22=1,1,0)","v":0}]
[20,"Naustdal ","Elise","Kjelsås",46,2,null,"","DSQ","","",7,{"$f":"IF(AZ25=\"\",\"\",AZ25)","v":""},{"$f":"IF(BE25=\"\",\"\",BE25)","v":""},{"$f":"IF(BJ25=\"\",\"\",BJ25)","v":""},null,46,"","","","","","","","",null,null,null,null,0,null,"DSQ",0,5,5,null,null,null,null,0,null,null,null,null,0,null,7,36,5,41,null,null,null,null,0,null,null,null,null,0,null,null,null,null,0,null,20,11,{"$f":"IF($F23=7,1,0)","v":0},{"$f":"IF($F23=6,1,0)","v":0},{"$f":"IF($F23=5,1,0)","v":0},{"$f":"IF($F23=4,1,0)","v":0},{"$f":"IF($F23=3,1,0)","v":1},{"$f":"IF($F23=2,1,0)","v":0},{"$f":"IF($F23=1,1,0)","v":0}]
[21,"Briskelid","Cornelia","Heming",45,2,null,"","","",12,18,{"$f":"IF(AU26=\"\",\"\",AU26)","v":18},{"$f":"IF(AZ26=\"\",\"\",AZ26)","v":""},{"$f":"IF(BE26=\"\",\"\",BE26)","v":""},null,45,"","","","","","","","",null,null,null,null,0,null,null,null,null,0,null,null,null,null,0,null,12,22,5,27,null,18,13,5,18,null,null,null,null,0,null,null,null,null,0,null,null,null,null,0,null,21,10,{"$f":"IF($F24=7,1,0)","v":0},{"$f":"IF($F24=6,1,0)","v":0},{"$f":"IF($F24=5,1,0)","v":0},{"$f":"IF($F24=4,1,0)","v":0},{"$f":"IF($F24=3,1,0)","v":0},{"$f":"IF($F24=2,1,0)","v":1},{"$f":"IF($F24=1,1,0)","v":0}]
[22,"Briseid-Bødtker","Mia","Heming",37,1,null,"","",8,"","",{"$f":"IF(AZ27=\"\",\"\",AZ27)","v":""},{"$f":"IF(BE27=\"\",\"\",BE27)","v":""},{"$f":"IF(BJ27=\"\",\"\",BJ27)","v":""},null,37,"","","","","","","","",null,null,null,null,0,null,null,null,null,0,null,8,32,5,37,null,null,null,null,0,null,null,null,null,0,null,null,null,null,0,null,null,null,null,0,null,null,null,null,0,null,22,9,0,0,0,0,0,1,0]
[23,"Mobekk","Mina","Njård",31,1,null,"","","","","",{"$f":"IF(AU28=\"\",\"\",AU28)","v":""},{"$f":"IF(AZ28=\"\",\"\",AZ28)","v":10},{"$f":"IF(BE28=\"\",\"\",BE28)","v":""},null,31,"","","","","","","","",null,null,null,null,0,null,null,null,null,0,null,null,null,null,0,null,null,null,null,0,null,null,null,null,0,null,10,26,5,31,null,null,null,null,0,null,null,null,null,0,null,23,8,0,0,0,0,0,1,0]
[24,"Skavik ","Thea","Heming",5,1,null,"","DSQ","","","",{"$f":"IF(AZ29=\"\",\"\",AZ29)","v":""},{"$f":"IF(BE29=\"\",\"\",BE29)","v":""},{"$f":"IF(BJ29=\"\",\"\",BJ29)","v":""},null,5,"","","","","","","","",null,null,null,null,0,null,"DSQ",0,5,5,null,null,null,null,0,null,null,null,null,0,null,null,null,null,0,null,null,null,null,0,null,null,null,null,0,null,null,null,null,0,null,24,7,{"$f":"IF($F24=7,1,0)","v":0},{"$f":"IF($F24=6,1,0)","v":0},{"$f":"IF($F24=5,1,0)","v":0},{"$f":"IF($F24=4,1,0)","v":0},{"$f":"IF($F24=3,1,0)","v":0},{"$f":"IF($F24=2,1,0)","v":1},{"$f":"IF($F24=1,1,0)","v":0}]
[null,null,null,null,null,null,null,{"$f":"IF(AA30=\"\",\"\",AA30)","v":""},{"$f":"IF(AF30=\"\",\"\",AF30)","v":""},{"$f":"IF(AK30=\"\",\"\",AK30)","v":""},{"$f":"IF(AP30=\"\",\"\",AP30)","v":""},{"$f":"IF(AU30=\"\",\"\",AU30)","v":""},{"$f":"IF(AU30=\"\",\"\",AU30)","v":""},{"$f":"IF(AZ30=\"\",\"\",AZ30)","v":""},{"$f":"IF(BE30=\"\",\"\",BE30)","v":""},null,{"$f":"AD30+AI30+AN30+AS30+AX30+BC30+BH30","v":0},{"$f":"IF($F30>=5,IF(AB30=\"\",\"\",AB30),\"\")","v":""},{"$f":"IF($F30>=5,IF(AG30=\"\",\"\",AG30),\"\")","v":""},{"$f":"IF($F30>=5,IF(AL30=\"\",\"\",AL30),\"\")","v":""},{"$f":"IF($F30>=5,IF(AQ30=\"\",\"\",AQ30),\"\")","v":""},{"$f":"IF($F30>=5,IF(AV30=\"\",\"\",AV30),\"\")","v":""},{"$f":"IF($F30>=5,IF(BA30=\"\",\"\",BA30),\"\")","v":""},{"$f":"IF($F30>=5,IF(BF30=\"\",\"\",BF30),\"\")","v":""},{"$f":"IF($F30>=5,IF(BK30=\"\",\"\",BK30),\"\")","v":""},null,null,null,null,{"$f":"AB30+AC30","v":0},null,null,null,null,{"$f":"AG30+AH30","v":0},null,null,null,null,{"$f":"AL30+AM30","v":0},null,null,null,null,{"$f":"AQ30+AR30","v":0},null,null,null,null,{"$f":"AV30+AW30","v":0},null,null,null,null,{"$f":"BA30+BB30","v":0},null,null,null,null,{"$f":"BF30+BG30","v":0},null,null,null,null,{"$f":"BK30+BL30","v":0},null,25,6,{"$f":"IF($F25=7,1,0)","v":0},{"$f":"IF($F25=6,1,0)","v":0},{"$f":"IF($F25=5,1,0)","v":0},{"$f":"IF($F25=4,1,0)","v":0},{"$f":"IF($F25=3,1,0)","v":0},{"$f":"IF($F25=2,1,0)","v":1},{"$f":"IF($F25=1,1,0)","v":0}]
[null,null,null,null,null,null,null,"","","","","","","","",null,0,"","","","","","","","",null,null,null,null,0,null,null,null,null,0,null,null,null,null,0,null,null,null,null,0,null,null,null,null,0,null,null,null,null,0,null,null,null,null,0,null,null,null,null,0,null,26,5,{"$f":"IF($F26=7,1,0)","v":0},{"$f":"IF($F26=6,1,0)","v":0},{"$f":"IF($F26=5,1,0)","v":0},{"$f":"IF($F26=4,1,0)","v":0},{"$f":"IF($F26=3,1,0)","v":0},{"$f":"IF($F26=2,1,0)","v":1},{"$f":"IF($F26=1,1,0)","v":0}]
[null,null,null,null,null,null,null,"","","","","","","","",null,0,"","","","","","","","",null,null,null,null,0,null,null,null,null,0,null,null,null,null,0,null,null,null,null,0,null,null,null,null,0,null,null,null,null,0,null,null,null,null,{"$f":"BF32+BG32","v":0},null,null,null,null,0,null,27,4,{"$f":"IF($F26=7,1,0)","v":0},{"$f":"IF($F26=6,1,0)","v":0},{"$f":"IF($F26=5,1,0)","v":0},{"$f":"IF($F26=4,1,0)","v":0},{"$f":"IF($F26=3,1,0)","v":0},{"$f":"IF($F26=2,1,0)","v":1},{"$f":"IF($F26=1,1,0)","v":0}]
[null,null,null,null,null,null,null,"","","","","","","","",null,0,"","","","","","","","",null,null,null,null,0,null,null,null,null,0,null,null,null,null,0,null,null,null,null,0,null,null,null,null,0,null,null,null,null,0,null,null,null,null,{"$f":"BF33+BG33","v":0},null,null,null,null,0,null,28,3,{"$f":"IF($F27=7,1,0)","v":0},{"$f":"IF($F27=6,1,0)","v":0},{"$f":"IF($F27=5,1,0)","v":0},{"$f":"IF($F27=4,1,0)","v":0},{"$f":"IF($F27=3,1,0)","v":0},{"$f":"IF($F27=2,1,0)","v":0},{"$f":"IF($F27=1,1,0)","v":1}]
[null,null,null,null,null,null,null,"","","","","","","","",null,0,"","","","","","","","",null,null,null,null,0,null,null,null,null,0,null,null,null,null,0,null,null,null,null,0,null,null,null,null,0,null,null,null,null,0,null,null,null,null,0,null,null,null,null,0,null,29,2,0,0,0,0,0,0,1]
[null,null,null,null,null,null,null,"","","","","","","","",null,0,{"$f":"IF($F35>=5,IF(AB35=\"\",\"\",AB35),\"\")","v":""},{"$f":"IF($F35>=5,IF(AG35=\"\",\"\",AG35),\"\")","v":""},{"$f":"IF($F35>=5,IF(AL35=\"\",\"\",AL35),\"\")","v":""},{"$f":"IF($F35>=5,IF(AQ35=\"\",\"\",AQ35),\"\")","v":""},{"$f":"IF($F35>=5,IF(AR35=\"\",\"\",AR35),\"\")","v":""},{"$f":"IF($F35>=5,IF(AV35=\"\",\"\",AV35),\"\")","v":""},{"$f":"IF($F35>=5,IF(BA35=\"\",\"\",BA35),\"\")","v":""},{"$f":"IF($F35>=5,IF(BF35=\"\",\"\",BF35),\"\")","v":""},null,null,null,null,0,null,null,null,null,0,null,null,null,null,0,null,null,null,null,0,null,null,null,null,0,null,null,null,null,0,null,null,null,null,0,null,null,null,null,0,null,30,1,0,0,0,0,0,0,1]
[null,null,null,null,null,null,null,"","","","","","","","",null,0,"","","","","","","","",null,null,null,null,0,null,null,null,null,0,null,null,null,null,0,null,null,null,null,0,null,null,null,null,0,null,null,null,null,0,null,null,null,null,0,null,null,null,null,0,null,31,null,{"$f":"IF($F27=7,1,0)","v":0},{"$f":"IF($F27=6,1,0)","v":0},{"$f":"IF($F27=5,1,0)","v":0},{"$f":"IF($F27=4,1,0)","v":0},{"$f":"IF($F27=3,1,0)","v":0},{"$f":"IF($F27=2,1,0)","v":0},{"$f":"IF($F27=1,1,0)","v":1}]
[null,null,null,null,null,null,null,{"$f":"IF(AA37=\"\",\"\",AA37)","v":""},{"$f":"IF(AF37=\"\",\"\",AF37)","v":""},{"$f":"IF(AK37=\"\",\"\",AK37)","v":""},{"$f":"IF(AP37=\"\",\"\",AP37)","v":""},"",{"$f":"IF(AU37=\"\",\"\",AU37)","v":""},{"$f":"IF(AZ37=\"\",\"\",AZ37)","v":""},{"$f":"IF(BE37=\"\",\"\",BE37)","v":""},null,{"$f":"AD37+AI37+AN37+AS37+AX37+BC37+BH37","v":0},"","","","","","","","",null,null,null,null,{"$f":"AB37+AC37","v":0},null,null,null,null,{"$f":"AG37+AH37","v":0},null,null,null,null,{"$f":"AL37+AM37","v":0},null,null,null,null,{"$f":"AQ37+AR37","v":0},null,null,null,null,{"$f":"AV37+AW37","v":0},null,null,null,null,0,null,null,null,null,0,null,null,null,null,0,null,32,null,0,0,0,0,0,0,1]
[null,null,null,null,null,null,null,"","","","","","","","",null,0,{"$f":"IF($F29>=5,IF(AB38=\"\",\"\",AB38),\"\")","v":""},{"$f":"IF($F29>=5,IF(AG38=\"\",\"\",AG38),\"\")","v":""},{"$f":"IF($F29>=5,IF(AL38=\"\",\"\",AL38),\"\")","v":""},{"$f":"IF($F29>=5,IF(AQ38=\"\",\"\",AQ38),\"\")","v":""},{"$f":"IF($F29>=5,IF(AR38=\"\",\"\",AR38),\"\")","v":""},{"$f":"IF($F29>=5,IF(AV38=\"\",\"\",AV38),\"\")","v":""},{"$f":"IF($F29>=5,IF(BA38=\"\",\"\",BA38),\"\")","v":""},{"$f":"IF($F29>=5,IF(BF38=\"\",\"\",BF38),\"\")","v":""},null,null,null,null,0,null,null,null,null,0,null,null,null,null,0,null,null,null,null,0,null,null,null,null,0,null,null,null,null,0,null,null,null,null,0,null,null,null,null,0,null,33,null,0,0,0,0,0,0,1]
[null,null,null,null,null,null,null,"","","","","","","","",null,0,"","","","","","","","",null,null,null,null,0,null,null,null,null,0,null,null,null,null,0,null,null,null,null,0,null,null,null,null,0,null,null,null,null,0,null,null,null,null,0,null,null,null,null,0,null,34,null,0,0,0,0,0,0,0]
[null,null,null,null,null,null,null,"","","","","","","","",null,0,"","","","","","","","",null,null,null,null,0,null,null,null,null,0,null,null,null,null,0,null,null,null,null,0,null,null,null,null,0,null,null,null,null,0,null,null,null,null,0,null,null,null,null,0,null,35,null,0,0,0,0,0,0,0]
[null,null,null,null,null,null,null,"","","","","","","","",null,0,"","","","","","","","",null,null,null,null,0,null,null,null,null,0,null,null,null,null,0,null,null,null,null,0,null,null,null,null,0,null,null,null,null,0,null,null,null,null,0,null,null,null,null,0,null,36,null,0,0,0,0,0,0,0]
[null,null,null,null,null,null,null,"","","","","","","","",null,0,"","","","","","","","",null,null,null,null,0,null,null,null,null,0,null,null,null,null,0,null,null,null,null,0,null,null,null,null,0,null,null,null,null,0,null,null,null,null,0,null,null,null,null,0,null,37,null,0,0,0,0,0,0,0]
[null,null,null,null,null,null,null,"","","","","","","","",null,0,"","","","","","","","",null,null,null,null,0,null,null,null,null,0,null,null,null,null,0,null,null,null,null,0,null,null,null,null,0,null,null,null,null,0,null,null,null,null,0,null,null,null,null,0,null,38,null,0,0,0,0,0,0,0]
[null,null,null,null,null,null,null,"","","","","","","","",null,0,"","","","","","","","",null,null,null,null,0,null,null,null,null,0,null,null,null,null,0,null,null,null,null,0,null,null,null,null,0,null,null,null,null,0,null,null,null,null,0,null,null,null,null,0,null,39,null,0,0,0,0,0,0,0]
[null,null,null,null,null,null,null,"","","","","","","","",null,0,"","","","","","","","",null,null,null,null,0,null,null,null,null,0,null,null,null,null,0,null,null,null,null,0,null,null,null,null,0,null,null,null,null,0,null,null,null,null,0,null,null,null,null,0,null,40,null,0,0,0,0,0,0,0]
[null,null,null,null,null,null,null,"","","","","","","","",null,0,"","","","","","","","",null,null,null,null,0,null,null,null,null,0,null,null,null,null,0,null,null,null,null,0,null,null,null,null,0,null,null,null,null,0,null,null,null,null,0,null,null,null,null,0,null,41,null,0,0,0,0,0,0,0]
[null,null,null,null,null,null,null,"","","","","","","","",null,0,"","","","","","","","",null,null,null,null,0,null,null,null,null,0,null,null,null,null,0,null,null,null,null,0,null,null,null,null,0,null,null,null,null,0,null,null,null,null,0,null,null,null,null,0,null,42,null,0,0,0,0,0,0,0]
[null,null,null,null,null,null,null,"","","","","","","","",null,0,"","","","","","","","",null,null,null,null,0,null,null,null,null,0,null,null,null,null,0,null,null,null,null,0,null,null,null,null,0,null,null,null,null,0,null,null,null,null,0,null,null,null,null,0,null,43,null,0,0,0,0,0,0,0]
[null,null,null,null,null,null,null,"","","","","","","","",null,0,"","","","","","","","",null,null,null,null,0,null,null,null,null,0,null,null,null,null,0,null,null,null,null,0,null,null,null,null,0,null,null,null,null,0,null,null,null,null,0,null,null,null,null,0,null,44,null,0,0,0,0,0,0,0]
[null,null,null,null,null,null,null,"","","","","","","","",null,0,"","","","","","","","",null,null,null,null,0,null,null,null,null,0,null,null,null,null,0,null,null,null,null,0,null,null,null,null,0,null,null,null,null,0,null,null,null,null,0,null,null,null,null,0,null,45,null,0,0,0,0,0,0,0]
[null,null,null,null,null,null,null,"","","","","","","","",null,0,"","","","","","","","",null,null,null,null,0,null,null,null,null,0,null,null,null,null,0,null,null,null,null,0,null,null,null,null,0,null,null,null,null,0,null,null,null,null,0,null,null,null,null,0,null,46,null,0,0,0,0,0,0,0]
[null,null,null,null,null,null,null,"","","","","","","","",null,0,"","","","","","","","",null,null,null,null,0,null,null,null,null,0,null,null,null,null,0,null,null,null,null,0,null,null,null,null,0,null,null,null,null,0,null,null,null,null,0,null,null,null,null,0,null,47,null,0,0,0,0,0,0,0]
[null,null,null,null,null,null,null,"","","","","","","","",null,0,"","","","","","","","",null,null,null,null,0,null,null,null,null,0,null,null,null,null,0,null,null,null,null,0,null,null,null,null,0,null,null,null,null,0,null,null,null,null,0,null,null,null,null,0,null,48,null,0,0,0,0,0,0,0]

{"sheet":"G11 2016","index":12,"n_rows":53,"n_cols":75,"rows_kept":53,"cut":false,"hidden":false,"merged":[[2,41,2,44],[2,51,2,54],[4,7,4,14],[4,17,4,24],[2,56,2,59],[2,61,2,64],[3,27,3,29],[3,32,3,34],[3,37,3,39],[3,42,3,44],[3,47,3,49],[3,52,3,54],[3,57,3,59],[3,62,3,64],[2,26,2,29],[2,31,2,34],[2,36,2,39],[2,46,2,49]]}
["Resultatliste Oslo Cup 2016 - Gutter 11 år"]
[{"$f":"'Forside 2017'!A2","v":"Etter 5 av 8 renn"}]
[null,null,null,null,null,null,null,"IRS Rennet","Ljan Rennet","Telenor Arena Cup","Njård Rennet","Ready Rennet","Euro-tecfarten","Oslo Alpinfestival SL","Oslo Alpinfestival SSL",null,null,"IRS Rennet","Ljan Rennet","Telenor Arena Cup","Njård Rennet","Ready Rennet","Euro-tecfarten","Oslo Alpinfestival SL","Oslo Alpinfestival SSL",null,"--------IRS Rennet----------",null,null,null,null,"----------Ljan Rennet---------",null,null,null,null,"-----Telenor Arena Cup----",null,null,null,null,"--------Njård Rennet----------",null,null,null,null,"--------Ready Rennet---------",null,null,null,null,"------Euro-tecfarten--------",null,null,null,null,"---Oslo Alpinfestival SL---",null,null,null,null,"---Oslo Alpinfestival SSL---"]
[null,null,null,null,null,"Antall",null,"2016-02-06","2016-02-07","2016-02-10","2016-02-12","2016-02-13","2016-03-08","2016-04-02","2016-04-03",null,"Poeng","2016-02-06","2016-02-07","2016-02-10","2016-02-12","2016-02-13","2016-03-08","2016-04-02","2016-04-03",null,null,"--------Poeng--------",null,null,null,null,"--------Poeng--------",null,null,null,null,"-------Poeng---------",null,null,null,null,"-------Poeng---------",null,null,null,null,"-------Poeng---------",null,null,null,null,"-------Poeng---------",null,null,null,null,"-------Poeng---------",null,null,null,null,"-------Poeng---------",null,null,null,null,null,"Løpere med ","Løpere med ","Løpere med ","Løpere med ","Løpere med ","Løpere med ","Løpere med "]
["Plass","Etternavn","Fornavn","Klubb","Poeng","renn",null,"------------------------------Plassering i rennene---------------------------------",null,null,null,null,null,null,null,null,"brutto","----------------Resultatpoeng hvis mer enn 4 renn----------------",null,null,null,null,null,null,null,null,"Plass","Res.","Del.","Tot.",null,"Plass","Res.","Del.","Tot.",null,"Plass","Res.","Del.","Tot.",null,"Plass","Res.","Del.","Tot.",null,"Plass","Res.","Del.","Tot.",null,"Plass","Res.","Del.","Tot.",null,"Plass","Res.","Del.","Tot.",null,"Plass","Res.","Del.","Tot.",null,null,null,"8 renn","7 renn","6 renn","5 renn","4 renn","3 renn","kun 1 renn"]
[1,"Ulrichsen Vigsnæs ","Victor","Heming",{"$f":"Q6-U6","v":370},{"$f":"COUNT(AC6,AH6,AM6,AR6,AW6,BB6,BG6,BL6)","v":6},null,{"$f":"IF(AA6=\"\",\"\",AA6)","v":1},{"$f":"IF(AF6=\"\",\"\",AF6)","v":2},{"$f":"IF(AK6=\"\",\"\",AK6)","v":2},{"$f":"IF(AP6=\"\",\"\",AP6)","v":3},{"$f":"IF(AU6=\"\",\"\",AU6)","v":"DNF"},{"$f":"IF(AZ6=\"\",\"\",AZ6)","v":2},{"$f":"IF(BE6=\"\",\"\",BE6)","v":""},{"$f":"IF(BJ6=\"\",\"\",BJ6)","v":""},null,{"$f":"AD6+AI6+AN6+AS6+AX6+BC6+BH6+BM6","v":430},{"$f":"IF($F6>=5,IF(AB6=\"\",\"\",AB6),\"\")","v":100},{"$f":"IF($F6>=5,IF(AG6=\"\",\"\",AG6),\"\")","v":80},{"$f":"IF($F6>=5,IF(AL6=\"\",\"\",AL6),\"\")","v":80},{"$f":"IF($F6>=5,IF(AQ6=\"\",\"\",AQ6),\"\")","v":60},{"$f":"IF($F6>=5,IF(AV6=\"\",\"\",AV6),\"\")","v":0},{"$f":"IF($F6>=5,IF(BA6=\"\",\"\",BA6),\"\")","v":80},{"$f":"IF($F6>=5,IF(BF6=\"\",\"\",BF6),\"\")","v":""},{"$f":"IF($F6>=5,IF(BK6=\"\",\"\",BK6),\"\")","v":""},null,1,100,5,{"$f":"AB6+AC6","v":105},null,2,80,5,{"$f":"AG6+AH6","v":85},null,2,80,5,{"$f":"AL6+AM6","v":85},null,3,60,5,{"$f":"AQ6+AR6","v":65},null,"DNF",0,5,{"$f":"AV6+AW6","v":5},null,2,80,5,{"$f":"BA6+BB6","v":85},null,null,null,null,{"$f":"BF6+BG6","v":0},null,null,null,null,{"$f":"BK6+BL6","v":0},null,1,100,{"$f":"IF($F6=7,1,0)","v":0},{"$f":"IF($F6=6,1,0)","v":1},{"$f":"IF($F6=5,1,0)","v":0},{"$f":"IF($F6=4,1,0)","v":0},{"$f":"IF($F6=3,1,0)","v":0},{"$f":"IF($F6=2,1,0)","v":0},{"$f":"IF($F6=1,1,0)","v":0}]
[{"$f":"IF(E7<E6,BO7,A6)","v":2},"Fosseidbråten ","Joakim","Ready",{"$f":"Q7-T7","v":330},6,null,"DSQ",1,6,6,3,1,"","",null,370,0,100,40,40,60,100,"","",null,"DSQ",0,5,5,null,1,100,5,105,null,6,40,5,45,null,6,40,5,45,null,3,60,5,65,null,1,100,5,105,null,null,null,null,0,null,null,null,null,0,null,2,80,{"$f":"IF($F7=7,1,0)","v":0},{"$f":"IF($F7=6,1,0)","v":1},{"$f":"IF($F7=5,1,0)","v":0},{"$f":"IF($F7=4,1,0)","v":0},{"$f":"IF($F7=3,1,0)","v":0},{"$f":"IF($F7=2,1,0)","v":0},{"$f":"IF($F7=1,1,0)","v":0}]
[3,"Bakkevig ","Rasmus","Heming",{"$f":"Q8","v":314},5,null,9,"",1,1,"DNF",3,"","",null,314,29,"",100,100,0,60,"","",null,9,29,5,34,null,null,null,null,0,null,1,100,5,105,null,1,100,5,105,null,"DNF",0,5,5,null,3,60,5,65,null,null,null,null,0,null,null,null,null,0,null,3,60,0,0,1,0,0,0,0]
[4,"Lunder","Peder","Stabæk  ",{"$f":"Q9","v":305},4,null,"","",3,2,1,5,"","",null,305,"","","","","","","","",null,null,null,null,0,null,null,null,null,0,null,3,60,5,65,null,2,80,5,85,null,1,100,5,105,null,5,45,5,50,null,null,null,null,0,null,null,null,null,0,null,4,50,0,0,0,1,0,0,0]
[5,"Østrøm ","Christoffer","Heming",{"$f":"Q10","v":290},5,null,2,3,5,"DSQ",2,"","","",null,290,80,60,45,0,80,"","","",null,2,80,5,85,null,3,60,5,65,null,5,45,5,50,null,"DSQ",0,5,5,null,2,80,5,85,null,null,null,null,0,null,null,null,null,0,null,null,null,null,0,null,5,45,0,0,1,0,0,0,0]
[6,"Cappelen Mazzocchi ","Mats","Heming",{"$f":"Q11-U11","v":190},6,null,6,6,"DSQ",9,6,6,"","",null,219,40,40,0,29,40,40,"","",null,6,40,5,45,null,6,40,5,45,null,"DSQ",0,5,5,null,9,29,5,34,null,6,40,5,45,null,6,40,5,45,null,null,null,null,0,null,null,null,null,0,null,6,40,0,1,0,0,0,0,0]
[6,"Sellæg ","Johannes","Ready",{"$f":"Q12-U12","v":190},5,null,3,4,10,11,9,"","","",null,214,60,50,26,24,29,"","","",null,3,60,5,65,null,4,50,5,55,null,10,26,5,31,null,11,24,5,29,null,9,29,5,34,null,null,null,null,0,null,null,null,null,0,null,null,null,null,0,null,7,36,0,0,1,0,0,0,0]
[8,"Fredriksen","Mathias","Heming",{"$f":"Q13","v":188},4,null,"","",8,7,4,4,"","",null,188,"","","","","","","","",null,null,null,null,0,null,null,null,null,0,null,8,32,5,37,null,7,36,5,41,null,4,50,5,55,null,4,50,5,55,null,null,null,null,0,null,null,null,null,0,null,8,32,0,0,0,1,0,0,0]
[9,"Nergaard ","Sverre","Heming",150,5,null,"DSQ",7,19,8,5,"","","",null,150,0,36,12,32,45,"","","",null,"DSQ",0,5,5,null,7,36,5,41,null,19,12,5,17,null,8,32,5,37,null,5,45,5,50,null,null,null,null,0,null,null,null,null,0,null,null,null,null,0,null,9,29,0,0,1,0,0,0,0]
[10,"Lorentzen ","Carl Axel","Heming",146,4,null,8,"",9,10,7,"","","",null,146,"","","","","","","","",null,8,32,5,37,null,null,null,null,0,null,9,32,5,37,null,10,26,5,31,null,7,36,5,41,null,null,null,null,0,null,null,null,null,0,null,null,null,null,0,null,10,26,0,0,0,1,0,0,0]
[11,"Schei ","Viktor","IRS",138,5,null,5,"DSQ",12,13,10,"","","",null,138,45,0,22,20,26,"","","",null,5,45,5,50,null,"DSQ",0,5,5,null,12,22,5,27,null,13,20,5,25,null,10,26,5,31,null,null,null,null,0,null,null,null,null,0,null,null,null,null,0,null,11,24,0,0,1,0,0,0,0]
[12,"Gjetsund ","Eivind","Heming",133,4,null,7,9,11,"",11,"","","",null,133,"","","","","","","","",null,7,36,5,41,null,9,29,5,34,null,11,24,5,29,null,null,null,null,0,null,11,24,5,29,null,null,null,null,0,null,null,null,null,0,null,null,null,null,0,null,12,22,0,0,0,1,0,0,0]
[13,"Rasmussen","Jonathan Holst","Stabæk  ",132,3,null,"","",7,5,"",7,"","",null,132,"","","","","","","","",null,null,null,null,0,null,null,null,null,0,null,7,36,5,41,null,5,45,5,50,null,null,null,null,0,null,7,36,5,41,null,null,null,null,0,null,null,null,null,0,null,13,20,0,0,0,0,1,0,0]
[14,"Torrissen Ingulstad","Philip","Kjelsås  ",113,4,null,"","",13,12,12,9,"","",null,113,"","","","","","","","",null,null,null,null,0,null,null,null,null,0,null,13,20,5,25,null,12,22,5,27,null,12,22,5,27,null,9,29,5,34,null,null,null,null,0,null,null,null,null,0,null,14,18,0,0,0,1,0,0,0]
[15,"Bengston","Sebastian","Heming",110,2,null,"","",4,4,"","","","",null,110,"","","","","","","","",null,null,null,null,0,null,null,null,null,0,null,4,50,5,55,null,4,50,5,55,null,null,null,null,0,null,null,null,null,0,null,null,null,null,0,null,null,null,null,0,null,15,16,{"$f":"IF($F20=7,1,0)","v":0},{"$f":"IF($F20=6,1,0)","v":0},{"$f":"IF($F20=5,1,0)","v":0},{"$f":"IF($F20=4,1,0)","v":0},{"$f":"IF($F20=3,1,0)","v":0},{"$f":"IF($F20=2,1,0)","v":1},{"$f":"IF($F20=1,1,0)","v":0}]
[15,"Buchardt ","Aksel","Heming",110,3,null,4,5,"","","","DSQ","","",null,110,"","","","","","","","",null,4,50,5,55,null,5,45,5,50,null,null,null,null,0,null,null,null,null,0,null,null,null,null,0,null,"DSQ",0,5,5,null,null,null,null,0,null,null,null,null,0,null,16,15,0,0,0,0,1,0,0]
[17,"Nordklev","Ola","Heming",53,2,null,"",8,20,"","","","","",null,53,"","","","","","","","",null,null,null,null,0,null,8,32,5,37,null,20,11,5,16,null,null,null,null,0,null,null,null,null,0,null,null,null,null,0,null,null,null,null,0,null,null,null,null,0,null,17,14,0,0,0,0,0,1,0]
[18,"Hoist","Marcus","Kjelsås  ",44,2,null,"","",17,"",13,"","","",null,44,"","","","","","","","",null,null,null,null,0,null,null,null,null,0,null,17,14,5,19,null,null,null,null,0,null,13,20,5,25,null,null,null,null,0,null,null,null,null,0,null,null,null,null,0,null,18,13,0,0,0,0,0,1,0]
[19,"Solheim","Erik Lund","Ready",42,2,null,"","","","DNF",8,"","","",null,42,"","","","","","","","",null,null,null,null,0,null,null,null,null,0,null,null,null,null,0,null,"DNF",0,5,5,null,8,32,5,37,null,null,null,null,0,null,null,null,null,0,null,null,null,null,0,null,19,12,0,0,0,0,0,1,0]
[20,"Blomqvist","Fredrik","Hakadal",37,1,null,"","","","","",8,"","",null,37,"","","","","","","","",null,null,null,null,0,null,null,null,null,0,null,null,null,null,0,null,null,null,null,0,null,null,null,null,0,null,8,32,5,37,null,null,null,null,0,null,null,null,null,0,null,20,11,0,0,0,0,0,0,1]
[21,"Maaø ","Filippo Fregosi","Ljan Alpin",33,3,null,"DNF","DSQ","",14,"","","","",null,33,"","","","","","","","",null,"DNF",0,5,5,null,"DSQ",0,5,5,null,null,null,null,0,null,14,18,5,23,null,null,null,null,0,null,null,null,null,0,null,null,null,null,0,null,null,null,null,0,null,21,10,0,0,0,0,1,0,0]
[22,"Maribo Alexander","Alexander","HSIL",31,1,null,"","","","","",10,"","",null,31,"","","","","","","","",null,null,null,null,0,null,null,null,null,0,null,null,null,null,0,null,null,null,null,0,null,null,null,null,0,null,10,26,5,31,null,null,null,null,0,null,null,null,null,0,null,22,9,0,0,0,0,0,0,1]
[23,"Brandt","Kasper","Heming",23,1,null,"","",14,"","","","","",null,23,"","","","","","","","",null,null,null,null,0,null,null,null,null,0,null,14,18,5,23,null,null,null,null,0,null,null,null,null,0,null,null,null,null,0,null,null,null,null,0,null,null,null,null,0,null,23,8,0,0,0,0,0,0,1]
[23,"Wall","Tilden",null,23,1,null,"","","","",14,"","","",null,23,"","","","","","","","",null,null,null,null,0,null,null,null,null,0,null,null,null,null,0,null,null,null,null,0,null,14,18,5,23,null,null,null,null,0,null,null,null,null,0,null,null,null,null,0,null,24,7,0,0,0,0,0,0,1]
[25,"Tschudi Nytvedt","Nicholas","Heming",21,1,null,"","",15,"","","","","",null,21,"","","","","","","","",null,null,null,null,0,null,null,null,null,0,null,15,16,5,21,null,null,null,null,0,null,null,null,null,0,null,null,null,null,0,null,null,null,null,0,null,null,null,null,0,null,25,6,0,0,0,0,0,0,1]
[25,"Lorange","William","Njård",21,1,null,"","","",15,"","","","",null,21,"","","","","","","","",null,null,null,null,0,null,null,null,null,0,null,null,null,null,0,null,15,16,5,21,null,null,null,null,0,null,null,null,null,0,null,null,null,null,0,null,null,null,null,0,null,26,5,0,0,0,0,0,0,1]
[27,"Ringvold","Wilhelm","Heming",20,1,null,"","",16,"","","","","",null,20,"","","","","","","","",null,null,null,null,0,null,null,null,null,0,null,16,15,5,20,null,null,null,null,0,null,null,null,null,0,null,null,null,null,0,null,null,null,null,0,null,null,null,null,0,null,27,4,0,0,0,0,0,0,1]
[28,"Hassel","Anton","Kjelsås  ",18,1,null,"","",18,"","","","","",null,18,"","","","","","","","",null,null,null,null,0,null,null,null,null,0,null,18,13,5,18,null,null,null,null,0,null,null,null,null,0,null,null,null,null,0,null,null,null,null,0,null,null,null,null,0,null,28,3,0,0,0,0,0,0,1]
[29,"Gras","Nicolas","Ljan Alpin",5,1,null,"","DSQ","","","","","","",null,5,"","","","","","","","",null,null,null,null,0,null,"DSQ",0,5,5,null,null,null,null,0,null,null,null,null,0,null,null,null,null,0,null,null,null,null,0,null,null,null,null,0,null,null,null,null,0,null,29,2,0,0,0,0,0,0,1]
[29,"Sundby","Alexander","Heming",5,1,null,"","","DSQ","","","","","",null,5,"","","","","","","","",null,null,null,null,0,null,null,null,null,0,null,"DSQ",0,5,5,null,null,null,null,0,null,null,null,null,0,null,null,null,null,0,null,null,null,null,0,null,null,null,null,0,null,30,1,0,0,0,0,0,0,1]
[29,"Stenbekken ","Tov Andre","Lørenskog",5,1,null,"","","","","","DSQ","","",null,5,"","","","","","","","",null,null,null,null,0,null,null,null,null,0,null,null,null,null,0,null,null,null,null,0,null,null,null,null,0,null,"DSQ",0,5,5,null,null,null,null,0,null,null,null,null,0,null,31,null,0,0,0,0,0,0,1]
[null,null,null,null,null,null,null,{"$f":"IF(AA37=\"\",\"\",AA37)","v":""},{"$f":"IF(AF37=\"\",\"\",AF37)","v":""},{"$f":"IF(AK37=\"\",\"\",AK37)","v":""},{"$f":"IF(AP37=\"\",\"\",AP37)","v":""},{"$f":"IF(AU37=\"\",\"\",AU37)","v":""},{"$f":"IF(AZ37=\"\",\"\",AZ37)","v":""},{"$f":"IF(BE37=\"\",\"\",BE37)","v":""},{"$f":"IF(BJ37=\"\",\"\",BJ37)","v":""},null,{"$f":"AD37+AI37+AN37+AS37+AX37+BC37+BH37+BM37","v":0},{"$f":"IF($F37>=5,IF(AB37=\"\",\"\",AB37),\"\")","v":""},{"$f":"IF($F37>=5,IF(AG37=\"\",\"\",AG37),\"\")","v":""},{"$f":"IF($F37>=5,IF(AL37=\"\",\"\",AL37),\"\")","v":""},{"$f":"IF($F37>=5,IF(AQ37=\"\",\"\",AQ37),\"\")","v":""},{"$f":"IF($F37>=5,IF(AV37=\"\",\"\",AV37),\"\")","v":""},{"$f":"IF($F37>=5,IF(BA37=\"\",\"\",BA37),\"\")","v":""},{"$f":"IF($F37>=5,IF(BF37=\"\",\"\",BF37),\"\")","v":""},{"$f":"IF($F37>=5,IF(BK37=\"\",\"\",BK37),\"\")","v":""},null,null,null,null,{"$f":"AB37+AC37","v":0},null,null,null,null,{"$f":"AG37+AH37","v":0},null,null,null,null,{"$f":"AL37+AM37","v":0},null,null,null,null,{"$f":"AQ37+AR37","v":0},null,null,null,null,{"$f":"AV37+AW37","v":0},null,null,null,null,{"$f":"BA37+BB37","v":0},null,null,null,null,{"$f":"BF37+BG37","v":0},null,null,null,null,{"$f":"BK37+BL37","v":0},null,32,null,0,0,0,0,0,0,0]
[null,null,null,null,null,null,null,{"$f":"IF(AA38=\"\",\"\",AA38)","v":""},{"$f":"IF(AF38=\"\",\"\",AF38)","v":""},{"$f":"IF(AK38=\"\",\"\",AK38)","v":""},{"$f":"IF(AP38=\"\",\"\",AP38)","v":""},"",{"$f":"IF(AU38=\"\",\"\",AU38)","v":""},{"$f":"IF(AZ38=\"\",\"\",AZ38)","v":""},{"$f":"IF(BE38=\"\",\"\",BE38)","v":""},null,{"$f":"AD38+AI38+AN38+AS38+AX38+BC38+BH38","v":0},"","","","","","","","",null,null,null,null,0,null,null,null,null,0,null,null,null,null,0,null,null,null,null,0,null,null,null,null,0,null,null,null,null,0,null,null,null,null,0,null,null,null,null,0,null,33,null,0,0,0,0,0,0,0]
[null,null,null,null,null,null,null,"","","","","","","","",null,0,{"$f":"IF($F29>=5,IF(AB39=\"\",\"\",AB39),\"\")","v":""},{"$f":"IF($F29>=5,IF(AG39=\"\",\"\",AG39),\"\")","v":""},{"$f":"IF($F29>=5,IF(AL39=\"\",\"\",AL39),\"\")","v":""},{"$f":"IF($F29>=5,IF(AQ39=\"\",\"\",AQ39),\"\")","v":""},"",{"$f":"IF($F29>=5,IF(AV39=\"\",\"\",AV39),\"\")","v":""},{"$f":"IF($F29>=5,IF(BA39=\"\",\"\",BA39),\"\")","v":""},{"$f":"IF($F29>=5,IF(BF39=\"\",\"\",BF39),\"\")","v":""},null,null,null,null,0,null,null,null,null,0,null,null,null,null,0,null,null,null,null,0,null,null,null,null,0,null,null,null,null,0,null,null,null,null,0,null,null,null,null,0,null,34,null,0,0,0,0,0,0,0]
[null,null,null,null,null,null,null,"","","","","","","","",null,0,{"$f":"IF($F30>=5,IF(AB40=\"\",\"\",AB40),\"\")","v":""},{"$f":"IF($F30>=5,IF(AG40=\"\",\"\",AG40),\"\")","v":""},{"$f":"IF($F30>=5,IF(AL40=\"\",\"\",AL40),\"\")","v":""},"","",{"$f":"IF($F30>=5,IF(AV40=\"\",\"\",AV40),\"\")","v":""},{"$f":"IF($F30>=5,IF(BA40=\"\",\"\",BA40),\"\")","v":""},{"$f":"IF($F30>=5,IF(BF40=\"\",\"\",BF40),\"\")","v":""},null,null,null,null,0,null,null,null,null,0,null,null,null,null,0,null,null,null,null,0,null,null,null,null,0,null,null,null,null,0,null,null,null,null,0,null,null,null,null,0,null,35,null,0,0,0,0,0,0,0]
[null,null,null,null,null,null,null,"","","","","","","","",null,0,{"$f":"IF($F31>=5,IF(AB41=\"\",\"\",AB41),\"\")","v":""},{"$f":"IF($F31>=5,IF(AG41=\"\",\"\",AG41),\"\")","v":""},{"$f":"IF($F31>=5,IF(AL41=\"\",\"\",AL41),\"\")","v":""},"","",{"$f":"IF($F31>=5,IF(AV41=\"\",\"\",AV41),\"\")","v":""},{"$f":"IF($F31>=5,IF(BA41=\"\",\"\",BA41),\"\")","v":""},{"$f":"IF($F31>=5,IF(BF41=\"\",\"\",BF41),\"\")","v":""},null,null,null,null,0,null,null,null,null,0,null,null,null,null,0,null,null,null,null,0,null,null,null,null,0,null,null,null,null,0,null,null,null,null,0,null,null,null,null,0,null,36,null,0,0,0,0,0,0,0]
[null,null,null,null,null,null,null,"","","","","","","","",null,0,{"$f":"IF($F30>=5,IF(AB42=\"\",\"\",AB42),\"\")","v":""},{"$f":"IF($F30>=5,IF(AG42=\"\",\"\",AG42),\"\")","v":""},{"$f":"IF($F30>=5,IF(AL42=\"\",\"\",AL42),\"\")","v":""},{"$f":"IF($F30>=5,IF(AQ42=\"\",\"\",AQ42),\"\")","v":""},{"$f":"IF($F30>=5,IF(AR42=\"\",\"\",AR42),\"\")","v":""},{"$f":"IF($F30>=5,IF(AV42=\"\",\"\",AV42),\"\")","v":""},{"$f":"IF($F30>=5,IF(BA42=\"\",\"\",BA42),\"\")","v":""},{"$f":"IF($F30>=5,IF(BF42=\"\",\"\",BF42),\"\")","v":""},null,null,null,null,0,null,null,null,null,0,null,null,null,null,0,null,null,null,null,0,null,null,null,null,0,null,null,null,null,0,null,null,null,null,0,null,null,null,null,0,null,37]
[null,null,null,null,null,null,null,"","","","","","","","",null,0,"","","","","","","","",null,null,null,null,0,null,null,null,null,0,null,null,null,null,0,null,null,null,null,0,null,null,null,null,0,null,null,null,null,0,null,null,null,null,0,null,null,null,null,0,null,38]
[null,null,null,null,null,null,null,"","","","","","","","",null,0,"","","","","","","","",null,null,null,null,0,null,null,null,null,0,null,null,null,null,0,null,null,null,null,0,null,null,null,null,0,null,null,null,null,0,null,null,null,null,0,null,null,null,null,0,null,39]
[null,null,null,null,null,null,null,"","","","","","","","",null,0,"","","","","","","","",null,null,null,null,0,null,null,null,null,0,null,null,null,null,0,null,null,null,null,0,null,null,null,null,0,null,null,null,null,0,null,null,null,null,0,null,null,null,null,0,null,40]
[null,null,null,null,null,null,null,"","","","","","","","",null,0,"","","","","","","","",null,null,null,null,0,null,null,null,null,0,null,null,null,null,0,null,null,null,null,0,null,null,null,null,0,null,null,null,null,0,null,null,null,null,0,null,null,null,null,0,null,41]
[null,null,null,null,null,null,null,"","","","","","","","",null,0,"","","","","","","","",null,null,null,null,0,null,null,null,null,0,null,null,null,null,0,null,null,null,null,0,null,null,null,null,0,null,null,null,null,0,null,null,null,null,0,null,null,null,null,0,null,42]
[null,null,null,null,null,null,null,"","","","","","","","",null,0,"","","","","","","","",null,null,null,null,0,null,null,null,null,0,null,null,null,null,0,null,null,null,null,0,null,null,null,null,0,null,null,null,null,0,null,null,null,null,0,null,null,null,null,0,null,43]
[null,null,null,null,null,null,null,"","","",{"$f":"IF(AP49=\"\",\"\",AP49)","v":""},"","","","",null,0,"","","","","","","","",null,null,null,null,0,null,null,null,null,0,null,null,null,null,0,null,null,null,null,0,null,null,null,null,0,null,null,null,null,0,null,null,null,null,0,null,null,null,null,0,null,44]
[null,null,null,null,null,null,null,"","","","","","","","",null,0,"","","","","","","","",null,null,null,null,0,null,null,null,null,0,null,null,null,null,0,null,null,null,null,0,null,null,null,null,0,null,null,null,null,0,null,null,null,null,0,null,null,null,null,0,null,45]
[null,null,null,null,null,null,null,"","","","","","","","",null,0,"","","","","","","","",null,null,null,null,0,null,null,null,null,0,null,null,null,null,0,null,null,null,null,0,null,null,null,null,0,null,null,null,null,0,null,null,null,null,0,null,null,null,null,0,null,46]
[null,null,null,null,null,null,null,"","","","","","","","",null,0,"","","","","","","","",null,null,null,null,0,null,null,null,null,0,null,null,null,null,0,null,null,null,null,0,null,null,null,null,0,null,null,null,null,0,null,null,null,null,0,null,null,null,null,0,null,47]
[null,null,null,null,null,null,null,"","","","","","","","",null,0,"","","","","","","","",null,null,null,null,0,null,null,null,null,0,null,null,null,null,0,null,null,null,null,0,null,null,null,null,0,null,null,null,null,0,null,null,null,null,0,null,null,null,null,0,null,48]

{"sheet":"J12 2016","index":13,"n_rows":53,"n_cols":75,"rows_kept":53,"cut":false,"hidden":false,"merged":[[2,41,2,44],[2,51,2,54],[4,7,4,14],[4,17,4,24],[2,56,2,59],[2,61,2,64],[3,27,3,29],[3,32,3,34],[3,37,3,39],[3,42,3,44],[3,47,3,49],[3,52,3,54],[3,57,3,59],[3,62,3,64],[2,26,2,29],[2,31,2,34],[2,36,2,39],[2,46,2,49]]}
["Resultatliste Oslo Cup 2016 - Jenter 12 år"]
[{"$f":"'Forside 2017'!A2","v":"Etter 5 av 8 renn"}]
[null,null,null,null,null,null,null,"IRS Rennet","Ljan Rennet","Telenor Arena Cup","Njård Rennet","Ready Rennet","Euro-tecfarten","Oslo Alpinfestival SL","Oslo Alpinfestival SSL",null,null,"IRS Rennet","Ljan Rennet","Telenor Arena Cup","NjårdRennet","Ready Rennet","Euro-tecfarten","Oslo Alpinfestival SL","Oslo Alpinfestival SSL",null,"--------IRS Rennet----------",null,null,null,null,"----------Ljan Rennet---------",null,null,null,null,"-----Telenor Arena Cup----",null,null,null,null,"--------Njård Rennet----------",null,null,null,null,"--------Ready Rennet---------",null,null,null,null,"------Euro-tecfarten--------",null,null,null,null,"---Oslo Alpinfestival SL---",null,null,null,null,"---Oslo Alpinfestival SSL---"]
[null,null,null,null,null,"Antall",null,"2016-02-06","2016-02-07","2016-02-10","2016-02-12","2016-02-13","2016-03-08","2016-04-02","2016-04-03",null,"Poeng","2016-02-06","2016-02-07","2016-02-10","2016-02-12","2016-02-13","2016-03-08","2016-04-02","2016-04-03",null,null,"--------Poeng--------",null,null,null,null,"--------Poeng--------",null,null,null,null,"-------Poeng---------",null,null,null,null,"-------Poeng---------",null,null,null,null,"-------Poeng---------",null,null,null,null,"-------Poeng---------",null,null,null,null,"-------Poeng---------",null,null,null,null,"-------Poeng---------",null,null,null,null,null,"Løpere med ","Løpere med ","Løpere med ","Løpere med ","Løpere med ","Løpere med ","Løpere med "]
["Plass","Etternavn","Fornavn","Klubb","Poeng","renn",null,"------------------------------Plassering i rennene---------------------------------",null,null,null,null,null,null,null,null,"brutto","----------------Resultatpoeng hvis mer enn 4 renn----------------",null,null,null,null,null,null,null,null,"Plass","Res.","Del.","Tot.",null,"Plass","Res.","Del.","Tot.",null,"Plass","Res.","Del.","Tot.",null,"Plass","Res.","Del.","Tot.",null,"Plass","Res.","Del.","Tot.",null,"Plass","Res.","Del.","Tot.",null,"Plass","Res.","Del.","Tot.",null,"Plass","Res.","Del.","Tot.",null,null,null,"8 renn","7 renn","6 renn","5 renn","4 renn","3 renn","kun 1 renn"]
[1,"Haugen ","Ulrikke","Heming",{"$f":"Q6-R6-T6","v":410},{"$f":"COUNT(AC6,AH6,AM6,AR6,AW6,BB6,BG6,BL6)","v":6},null,{"$f":"IF(AA6=\"\",\"\",AA6)","v":"DNF"},{"$f":"IF(AF6=\"\",\"\",AF6)","v":1},{"$f":"IF(AK6=\"\",\"\",AK6)","v":2},{"$f":"IF(AP6=\"\",\"\",AP6)","v":2},{"$f":"IF(AU6=\"\",\"\",AU6)","v":1},{"$f":"IF(AZ6=\"\",\"\",AZ6)","v":1},{"$f":"IF(BE6=\"\",\"\",BE6)","v":""},{"$f":"IF(BJ6=\"\",\"\",BJ6)","v":""},null,{"$f":"AD6+AI6+AN6+AS6+AX6+BC6+BH6+BM6","v":490},{"$f":"IF($F6>=5,IF(AB6=\"\",\"\",AB6),\"\")","v":0},{"$f":"IF($F6>=5,IF(AG6=\"\",\"\",AG6),\"\")","v":100},{"$f":"IF($F6>=5,IF(AL6=\"\",\"\",AL6),\"\")","v":80},{"$f":"IF($F6>=5,IF(AQ6=\"\",\"\",AQ6),\"\")","v":80},{"$f":"IF($F6>=5,IF(AV6=\"\",\"\",AV6),\"\")","v":100},{"$f":"IF($F6>=5,IF(BA6=\"\",\"\",BA6),\"\")","v":100},{"$f":"IF($F6>=5,IF(BF6=\"\",\"\",BF6),\"\")","v":""},{"$f":"IF($F6>=5,IF(BK6=\"\",\"\",BK6),\"\")","v":""},null,"DNF",0,5,{"$f":"AB6+AC6","v":5},null,1,100,5,{"$f":"AG6+AH6","v":105},null,2,80,5,{"$f":"AL6+AM6","v":85},null,2,80,5,{"$f":"AQ6+AR6","v":85},null,1,100,5,{"$f":"AV6+AW6","v":105},null,1,100,5,{"$f":"BA6+BB6","v":105},null,null,null,null,{"$f":"BF6+BG6","v":0},null,null,null,null,{"$f":"BK6+BL6","v":0},null,1,100,{"$f":"IF($F6=7,1,0)","v":0},{"$f":"IF($F6=6,1,0)","v":1},{"$f":"IF($F6=5,1,0)","v":0},{"$f":"IF($F6=4,1,0)","v":0},{"$f":"IF($F6=3,1,0)","v":0},{"$f":"IF($F6=2,1,0)","v":0},{"$f":"IF($F6=1,1,0)","v":0}]
[{"$f":"IF(E7<E6,BO7,A6)","v":2},"Nordhus ","Mathilde Schjøth-Iversen","Heming",{"$f":"Q7-U7-V7","v":320},6,null,1,2,4,8,5,3,"","",null,397,100,80,50,32,45,60,"","",null,1,100,5,105,null,2,80,5,85,null,4,50,5,55,null,8,32,5,37,null,5,45,5,50,null,3,60,5,65,null,null,null,null,0,null,null,null,null,0,null,2,80,{"$f":"IF($F7=7,1,0)","v":0},{"$f":"IF($F7=6,1,0)","v":1},{"$f":"IF($F7=5,1,0)","v":0},{"$f":"IF($F7=4,1,0)","v":0},{"$f":"IF($F7=3,1,0)","v":0},{"$f":"IF($F7=2,1,0)","v":0},{"$f":"IF($F7=1,1,0)","v":0}]
[3,"Ringstad ","Linnea","Ready",{"$f":"Q8","v":270},5,null,"DSQ",5,3,3,2,"","","",null,270,0,45,60,60,80,"","","",null,"DSQ",0,5,5,null,5,45,5,50,null,3,60,5,65,null,3,60,5,65,null,2,80,5,85,null,null,null,null,0,null,null,null,null,0,null,null,null,null,0,null,3,60,0,0,1,0,0,0,0]
[4,"Elmenhorst-Larsen ","Elise","Ready",{"$f":"Q9-T9","v":225},5,null,3,3,7,6,6,"","","",null,261,60,60,36,40,40,"","","",null,3,60,5,65,null,3,60,5,65,null,7,36,5,41,null,6,40,5,45,null,6,40,5,45,null,null,null,null,0,null,null,null,null,0,null,null,null,null,0,null,4,50,0,0,1,0,0,0,0]
[5,"Klock-Lundgård ","Henriette","IRS",{"$f":"Q10-T10","v":221},5,null,7,4,10,4,3,"","","",null,247,36,50,26,50,60,"","","",null,7,36,5,41,null,4,50,5,55,null,10,26,5,31,null,4,50,5,55,null,3,60,5,65,null,null,null,null,0,null,null,null,null,0,null,null,null,null,0,null,5,45,0,0,1,0,0,0,0]
[6,"Moe ","Josefine Tunli","Heming",{"$f":"Q11-W11","v":217},5,null,2,"",6,7,7,10,"","",null,243,80,"",40,36,36,26,"","",null,2,80,5,85,null,null,null,null,0,null,6,40,5,45,null,7,36,5,41,null,7,36,5,41,null,10,26,5,31,null,null,null,null,0,null,null,null,null,0,null,6,40,0,0,1,0,0,0,0]
[7,"Kaasa","Emilie","Stabæk",{"$f":"Q12","v":210},2,null,"","",1,1,"","","","",null,210,"","","","","","","","",null,null,null,null,0,null,null,null,null,0,null,1,100,5,105,null,1,100,5,105,null,null,null,null,0,null,null,null,null,0,null,null,null,null,0,null,null,null,null,0,null,7,36,0,0,0,0,0,1,0]
[8,"Ringstad ","Adele","Ready",{"$f":"Q13-S13","v":205},5,null,6,9,5,5,4,"","","",null,234,40,29,45,45,50,"","","",null,6,40,5,45,null,9,29,5,34,null,5,45,5,50,null,5,45,5,50,null,4,50,5,55,null,null,null,null,0,null,null,null,null,0,null,null,null,null,0,null,8,32,0,0,1,0,0,0,0]
[9,"Efskind ","Astrid","Kjelsås",{"$f":"Q14-T14-S14","v":181},6,null,4,10,11,9,8,6,"","",null,231,50,26,24,29,32,40,"","",null,4,50,5,55,null,10,26,5,31,null,11,24,5,29,null,9,29,5,34,null,8,32,5,37,null,6,40,5,45,null,null,null,null,0,null,null,null,null,0,null,9,29,0,1,0,0,0,0,0]
[10,"Meidell ","Cornelia","Heming",{"$f":"Q15-U15-T15","v":169},6,null,5,7,9,11,9,9,"","",null,222,45,36,29,24,29,29,"","",null,5,45,5,50,null,7,36,5,41,null,9,29,5,34,null,11,24,5,29,null,9,29,5,34,null,9,29,5,34,null,null,null,null,0,null,null,null,null,0,null,10,26,0,1,0,0,0,0,0]
[11,"Wessel-Aas ","Charlotta","Heming",{"$f":"Q16","v":139},4,null,8,11,14,"","",5,"","",null,139,"","","","","","","","",null,8,32,5,37,null,11,24,5,29,null,14,18,5,23,null,null,null,null,0,null,null,null,null,0,null,5,45,5,50,null,null,null,null,0,null,null,null,null,0,null,11,24,0,0,0,1,0,0,0]
[12,"Alsos ","Una","Ready",{"$f":"Q17-R17-S17","v":138},6,null,15,"DSQ",8,10,10,11,"","",null,154,16,0,32,26,26,24,"","",null,15,16,5,21,null,"DSQ",0,5,5,null,8,32,5,37,null,10,26,5,31,null,10,26,5,31,null,11,24,5,29,null,null,null,null,0,null,null,null,null,0,null,12,22,0,1,0,0,0,0,0]
[13,"Mortensen ","Ada Pilvik","IRS",{"$f":"Q18-T18-W18","v":132},6,null,11,6,15,15,12,16,"","",null,163,24,40,16,16,22,15,"","",null,11,24,5,29,null,6,40,5,45,null,15,16,5,21,null,15,16,5,21,null,12,22,5,27,null,16,15,5,20,null,null,null,null,0,null,null,null,null,0,null,13,20,0,1,0,0,0,0,0]
[14,"Frøland ","Julie Isaksen","Ready",{"$f":"Q19-T19","v":129},5,null,10,8,13,12,11,"","","",null,149,26,32,20,22,24,"","","",null,10,26,5,31,null,8,32,5,37,null,13,20,5,25,null,12,22,5,27,null,11,24,5,29,null,null,null,null,0,null,null,null,null,0,null,null,null,null,0,null,14,18,0,0,1,0,0,0,0]
[15,"Syrrist ","Henriethe","IRS",{"$f":"Q20","v":109},5,null,9,"DSQ",16,13,13,"","","",null,109,29,0,15,20,20,"","","",null,9,29,5,34,null,"DSQ",0,5,5,null,16,15,5,20,null,13,20,5,25,null,13,20,5,25,null,null,null,null,0,null,null,null,null,0,null,null,null,null,0,null,15,16,0,0,1,0,0,0,0]
[16,"Bjarøy Rolén ","Hedda","Heming",88,6,null,"DSQ","DSQ","DNF",14,14,12,"","",null,88,0,0,0,18,18,22,"","",null,"DSQ",0,5,5,null,"DSQ",0,5,5,null,"DNF",0,5,5,null,14,18,5,23,null,14,18,5,23,null,12,22,5,27,null,null,null,null,0,null,null,null,null,0,null,16,15,0,1,0,0,0,0,0]
[17,"Strand","Sofie","BSK",85,1,null,"","","","","",2,"","",null,{"$f":"AD22+AI22+AN22+AS22+AX22+BC22+BH22","v":85},"","","","","","","","",null,null,null,null,0,null,null,null,null,0,null,null,null,null,0,null,null,null,null,0,null,null,null,null,0,null,2,80,5,85,null,null,null,null,0,null,null,null,null,0,null,17,14,0,0,0,0,0,0,1]
[18,"Smalberget ","Hanna Amalie","Kjelsås",83,4,null,14,13,19,18,"","","","",null,{"$f":"AD23+AI23+AN23+AS23+AX23+BC23+BH23+BM23","v":83},"","","","","","","","",null,14,18,5,23,null,13,20,5,25,null,19,12,5,17,null,18,13,5,18,null,null,null,null,0,null,null,null,null,0,null,null,null,null,0,null,null,null,null,0,null,18,13,0,0,0,1,0,0,0]
[19,"Grone","Sophie","Heming",82,4,null,"","",18,16,15,14,"","",null,{"$f":"AD24+AI24+AN24+AS24+AX24+BC24+BH24+BM24","v":82},"","","","","","","","",null,null,null,null,0,null,null,null,null,0,null,18,13,5,18,null,16,15,5,20,null,15,16,5,21,null,14,18,5,23,null,null,null,null,0,null,null,null,null,0,null,19,12,0,0,0,1,0,0,0]
[20,"Høiden Rolland ","Erika Mathilde","Kjelsås",75,4,null,18,14,22,"","",17,"","",null,{"$f":"AD25+AI25+AN25+AS25+AX25+BC25+BH25+BM25","v":75},"","","","","","","","",null,18,13,5,18,null,14,18,5,23,null,22,9,5,14,null,null,null,null,0,null,null,null,null,0,null,17,15,5,20,null,null,null,null,0,null,null,null,null,0,null,20,11,0,0,0,1,0,0,0]
[21,"Gudem","Luna","IRS",68,2,null,"","",12,"","",7,"","",null,{"$f":"AD26+AI26+AN26+AS26+AX26+BC26+BH26+BM26","v":68},"","","","","","","","",null,null,null,null,0,null,null,null,null,0,null,12,22,5,27,null,null,null,null,0,null,null,null,null,0,null,7,36,5,41,null,null,null,null,0,null,null,null,null,0,null,21,10,0,0,0,0,0,1,0]
[22,"Lurås","Anniken","Stabæk",55,1,null,"","","","","",4,"","",null,{"$f":"AD27+AI27+AN27+AS27+AX27+BC27+BH27","v":55},"","","","","","","","",null,null,null,null,0,null,null,null,null,0,null,null,null,null,0,null,null,null,null,0,null,null,null,null,0,null,4,50,5,55,null,null,null,null,0,null,null,null,null,0,null,22,9,0,0,0,0,0,0,1]
[23,"Jacobsen Krosby ","Ida Sofie","Kjelsås",52,2,null,13,12,"","","","","","",null,{"$f":"AD28+AI28+AN28+AS28+AX28+BC28+BH28+BM28","v":52},"","","","","","","","",null,13,20,5,25,null,12,22,5,27,null,null,null,null,0,null,null,null,null,0,null,null,null,null,0,null,null,null,null,0,null,null,null,null,0,null,null,null,null,0,null,23,8,0,0,0,0,0,1,0]
[24,"Wormdahl ","Cathrine Benjamin","Heming",46,2,null,12,"",17,"","","","","",null,{"$f":"AD29+AI29+AN29+AS29+AX29+BC29+BH29+BM29","v":46},"","","","","","","","",null,12,22,5,27,null,null,null,null,0,null,17,14,5,19,null,null,null,null,0,null,null,null,null,0,null,null,null,null,0,null,null,null,null,0,null,null,null,null,0,null,24,7,{"$f":"IF($F28=7,1,0)","v":0},{"$f":"IF($F28=6,1,0)","v":0},{"$f":"IF($F28=5,1,0)","v":0},{"$f":"IF($F28=4,1,0)","v":0},{"$f":"IF($F28=3,1,0)","v":0},{"$f":"IF($F28=2,1,0)","v":1},{"$f":"IF($F28=1,1,0)","v":0}]
[25,"Abelgaard Thomassen ","Frida","Ljan",37,2,null,17,"","","","",18,"","",null,{"$f":"AD30+AI30+AN30+AS30+AX30+BC30+BH30+BM30","v":37},"","","","","","","","",null,17,14,5,19,null,null,null,null,0,null,null,null,null,0,null,null,null,null,0,null,null,null,null,0,null,18,13,5,18,null,null,null,null,0,null,null,null,null,0,null,25,6,{"$f":"IF($F29=7,1,0)","v":0},{"$f":"IF($F29=6,1,0)","v":0},{"$f":"IF($F29=5,1,0)","v":0},{"$f":"IF($F29=4,1,0)","v":0},{"$f":"IF($F29=3,1,0)","v":0},{"$f":"IF($F29=2,1,0)","v":1},{"$f":"IF($F29=1,1,0)","v":0}]
[25,"Forårsveen ","Lisa","Hakadal",37,1,null,"","","","","",8,"","",null,{"$f":"AD31+AI31+AN31+AS31+AX31+BC31+BH31","v":37},"","","","","","","","",null,null,null,null,0,null,null,null,null,0,null,null,null,null,0,null,null,null,null,0,null,null,null,null,0,null,8,32,5,37,null,null,null,null,0,null,null,null,null,0,null,26,5,0,0,0,0,0,1,0]
[27,"Hansen","Mina","Hakadal",25,1,null,"","","","",{"$f":"IF(AQ32=\"\",\"\",AQ32)","v":""},{"$f":"IF(AU32=\"\",\"\",AU32)","v":""},{"$f":"IF(AZ32=\"\",\"\",AZ32)","v":13},{"$f":"IF(BE32=\"\",\"\",BE32)","v":""},null,{"$f":"AD32+AI32+AN32+AS32+AX32+BC32+BH32","v":25},"","","","","","","","",null,null,null,null,0,null,null,null,null,0,null,null,null,null,0,null,null,null,null,0,null,null,null,null,0,null,13,20,5,25,null,null,null,null,0,null,null,null,null,0,null,27,4,0,0,0,0,0,0,1]
[28,"Løchen","Sarah","Hakadal",21,1,null,"","","","",{"$f":"IF(AQ33=\"\",\"\",AQ33)","v":""},{"$f":"IF(AU33=\"\",\"\",AU33)","v":""},{"$f":"IF(AZ33=\"\",\"\",AZ33)","v":15},{"$f":"IF(BE33=\"\",\"\",BE33)","v":""},null,{"$f":"AD33+AI33+AN33+AS33+AX33+BC33+BH33","v":21},"","","","","","","","",null,null,null,null,0,null,null,null,null,0,null,null,null,null,0,null,null,null,null,0,null,null,null,null,0,null,15,16,5,21,null,null,null,null,0,null,null,null,null,0,null,28,3,0,0,0,0,0,0,1]
[29,"Refsum Fanny","Fanny","Heming",20,1,null,16,"","","",{"$f":"IF(AU34=\"\",\"\",AU34)","v":""},{"$f":"IF(AZ34=\"\",\"\",AZ34)","v":""},{"$f":"IF(BE34=\"\",\"\",BE34)","v":""},{"$f":"IF(BJ34=\"\",\"\",BJ34)","v":""},null,{"$f":"AD34+AI34+AN34+AS34+AX34+BC34+BH34+BM34","v":20},"","","","","","","","",null,16,15,5,20,null,null,null,null,0,null,null,null,null,0,null,null,null,null,0,null,null,null,null,0,null,null,null,null,0,null,null,null,null,0,null,null,null,null,0,null,29,2,0,0,0,0,0,0,1]
[30,"Spone","Carmen","Heming",19,1,null,"","","",17,"","","","",null,{"$f":"AD35+AI35+AN35+AS35+AX35+BC35+BH35","v":19},"","","","","","","","",null,null,null,null,0,null,null,null,null,0,null,null,null,null,0,null,17,14,5,19,null,null,null,null,0,null,null,null,null,0,null,null,null,null,0,null,null,null,null,0,null,30,1,0,0,0,0,0,0,1]
[31,"Jakobsen","Alexandra Rafen","Njård",17,1,null,"","","",19,"","","","",null,{"$f":"AD36+AI36+AN36+AS36+AX36+BC36+BH36","v":17},"","","","","","","","",null,null,null,null,0,null,null,null,null,0,null,null,null,null,0,null,19,12,5,17,null,null,null,null,0,null,null,null,null,0,null,null,null,null,0,null,null,null,null,0,null,31,null,0,0,0,0,0,0,1]
[32,"Feinberg","Rebekka","Heming",16,1,null,"","",20,"","","","","",null,{"$f":"AD37+AI37+AN37+AS37+AX37+BC37+BH37+BM37","v":16},"","","","","","","","",null,null,null,null,0,null,null,null,null,0,null,20,11,5,16,null,null,null,null,0,null,null,null,null,0,null,null,null,null,0,null,null,null,null,0,null,null,null,null,0,null,32,null,0,0,0,0,0,0,1]
[33,"Skovholt","Iris","Heming",15,1,null,"","",21,"","","","","",null,{"$f":"AD38+AI38+AN38+AS38+AX38+BC38+BH38+BM38","v":15},"","","","","","","","",null,null,null,null,0,null,null,null,null,0,null,21,10,5,15,null,null,null,null,0,null,null,null,null,0,null,null,null,null,0,null,null,null,null,0,null,null,null,null,0,null,33,null,0,0,0,0,0,0,1]
[34,"Thelle","Cecilie","Kjelsås",5,1,null,"","DSQ","","","","","","",null,{"$f":"AD39+AI39+AN39+AS39+AX39+BC39+BH39+BM39","v":5},"","","","","","","","",null,null,null,null,0,null,"DSQ",0,5,5,null,null,null,null,0,null,null,null,null,0,null,null,null,null,0,null,null,null,null,0,null,null,null,null,0,null,null,null,null,0,null,34,null,{"$f":"IF($F29=7,1,0)","v":0},{"$f":"IF($F29=6,1,0)","v":0},{"$f":"IF($F29=5,1,0)","v":0},{"$f":"IF($F29=4,1,0)","v":0},{"$f":"IF($F29=3,1,0)","v":0},{"$f":"IF($F29=2,1,0)","v":1},{"$f":"IF($F29=1,1,0)","v":0}]
[null,null,null,null,null,null,null,{"$f":"IF(AA40=\"\",\"\",AA40)","v":""},{"$f":"IF(AF40=\"\",\"\",AF40)","v":""},{"$f":"IF(AK40=\"\",\"\",AK40)","v":""},{"$f":"IF(AP40=\"\",\"\",AP40)","v":""},"",{"$f":"IF(AU40=\"\",\"\",AU40)","v":""},{"$f":"IF(AZ40=\"\",\"\",AZ40)","v":""},{"$f":"IF(BE40=\"\",\"\",BE40)","v":""},null,{"$f":"AD40+AI40+AN40+AS40+AX40+BC40+BH40","v":0},{"$f":"IF($F40>=5,IF(AB40=\"\",\"\",AB40),\"\")","v":""},{"$f":"IF($F40>=5,IF(AG40=\"\",\"\",AG40),\"\")","v":""},{"$f":"IF($F40>=5,IF(AL40=\"\",\"\",AL40),\"\")","v":""},{"$f":"IF($F40>=5,IF(AQ40=\"\",\"\",AQ40),\"\")","v":""},{"$f":"IF($F40>=5,IF(AV40=\"\",\"\",AV40),\"\")","v":""},{"$f":"IF($F40>=5,IF(BA40=\"\",\"\",BA40),\"\")","v":""},{"$f":"IF($F40>=5,IF(BF40=\"\",\"\",BF40),\"\")","v":""},{"$f":"IF($F40>=5,IF(BK40=\"\",\"\",BK40),\"\")","v":""},null,null,null,null,{"$f":"AB40+AC40","v":0},null,null,null,null,{"$f":"AG40+AH40","v":0},null,null,null,null,{"$f":"AL40+AM40","v":0},null,null,null,null,{"$f":"AQ40+AR40","v":0},null,null,null,null,{"$f":"AV40+AW40","v":0},null,null,null,null,{"$f":"BA40+BB40","v":0},null,null,null,null,{"$f":"BF40+BG40","v":0},null,null,null,null,{"$f":"BK40+BL40","v":0},null,35,null,{"$f":"IF($F30=7,1,0)","v":0},{"$f":"IF($F30=6,1,0)","v":0},{"$f":"IF($F30=5,1,0)","v":0},{"$f":"IF($F30=4,1,0)","v":0},{"$f":"IF($F30=3,1,0)","v":0},{"$f":"IF($F30=2,1,0)","v":1},{"$f":"IF($F30=1,1,0)","v":0}]
[null,null,null,null,null,null,null,"","","","","","","","",null,0,{"$f":"IF($F31>=5,IF(AB41=\"\",\"\",AB41),\"\")","v":""},{"$f":"IF($F31>=5,IF(AG41=\"\",\"\",AG41),\"\")","v":""},{"$f":"IF($F31>=5,IF(AL41=\"\",\"\",AL41),\"\")","v":""},{"$f":"IF($F31>=5,IF(AQ41=\"\",\"\",AQ41),\"\")","v":""},"",{"$f":"IF($F31>=5,IF(AV41=\"\",\"\",AV41),\"\")","v":""},{"$f":"IF($F31>=5,IF(BA41=\"\",\"\",BA41),\"\")","v":""},{"$f":"IF($F31>=5,IF(BF41=\"\",\"\",BF41),\"\")","v":""},null,null,null,null,0,null,null,null,null,0,null,null,null,null,0,null,null,null,null,0,null,null,null,null,0,null,null,null,null,0,null,null,null,null,0,null,null,null,null,0,null,36,null,{"$f":"IF($F31=7,1,0)","v":0},{"$f":"IF($F31=6,1,0)","v":0},{"$f":"IF($F31=5,1,0)","v":0},{"$f":"IF($F31=4,1,0)","v":0},{"$f":"IF($F31=3,1,0)","v":0},{"$f":"IF($F31=2,1,0)","v":0},{"$f":"IF($F31=1,1,0)","v":1}]
[null,null,null,null,null,null,null,"","","","","","","","",null,0,{"$f":"IF($F32>=5,IF(AB42=\"\",\"\",AB42),\"\")","v":""},{"$f":"IF($F32>=5,IF(AG42=\"\",\"\",AG42),\"\")","v":""},{"$f":"IF($F32>=5,IF(AL42=\"\",\"\",AL42),\"\")","v":""},"","",{"$f":"IF($F32>=5,IF(AV42=\"\",\"\",AV42),\"\")","v":""},{"$f":"IF($F32>=5,IF(BA42=\"\",\"\",BA42),\"\")","v":""},{"$f":"IF($F32>=5,IF(BF42=\"\",\"\",BF42),\"\")","v":""},null,null,null,null,0,null,null,null,null,0,null,null,null,null,0,null,null,null,null,0,null,null,null,null,0,null,null,null,null,0,null,null,null,null,0,null,null,null,null,0,null,37,null,{"$f":"IF($F32=7,1,0)","v":0},{"$f":"IF($F32=6,1,0)","v":0},{"$f":"IF($F32=5,1,0)","v":0},{"$f":"IF($F32=4,1,0)","v":0},{"$f":"IF($F32=3,1,0)","v":0},{"$f":"IF($F32=2,1,0)","v":0},{"$f":"IF($F32=1,1,0)","v":1}]
[null,null,null,null,null,null,null,"","","","","","","","",null,0,{"$f":"IF($F33>=5,IF(AB43=\"\",\"\",AB43),\"\")","v":""},{"$f":"IF($F33>=5,IF(AG43=\"\",\"\",AG43),\"\")","v":""},{"$f":"IF($F33>=5,IF(AL43=\"\",\"\",AL43),\"\")","v":""},"","",{"$f":"IF($F33>=5,IF(AV43=\"\",\"\",AV43),\"\")","v":""},{"$f":"IF($F33>=5,IF(BA43=\"\",\"\",BA43),\"\")","v":""},{"$f":"IF($F33>=5,IF(BF43=\"\",\"\",BF43),\"\")","v":""},null,null,null,null,0,null,null,null,null,0,null,null,null,null,0,null,null,null,null,0,null,null,null,null,0,null,null,null,null,0,null,null,null,null,0,null,null,null,null,0,null,38,null,{"$f":"IF($F33=7,1,0)","v":0},{"$f":"IF($F33=6,1,0)","v":0},{"$f":"IF($F33=5,1,0)","v":0},{"$f":"IF($F33=4,1,0)","v":0},{"$f":"IF($F33=3,1,0)","v":0},{"$f":"IF($F33=2,1,0)","v":0},{"$f":"IF($F33=1,1,0)","v":1}]
[null,null,null,null,null,null,null,"","","","","","","","",null,0,{"$f":"IF($F33>=5,IF(AB44=\"\",\"\",AB44),\"\")","v":""},{"$f":"IF($F33>=5,IF(AG44=\"\",\"\",AG44),\"\")","v":""},{"$f":"IF($F33>=5,IF(AL44=\"\",\"\",AL44),\"\")","v":""},{"$f":"IF($F33>=5,IF(AQ44=\"\",\"\",AQ44),\"\")","v":""},{"$f":"IF($F33>=5,IF(AR44=\"\",\"\",AR44),\"\")","v":""},{"$f":"IF($F33>=5,IF(AV44=\"\",\"\",AV44),\"\")","v":""},{"$f":"IF($F33>=5,IF(BA44=\"\",\"\",BA44),\"\")","v":""},{"$f":"IF($F33>=5,IF(BF44=\"\",\"\",BF44),\"\")","v":""},null,null,null,null,0,null,null,null,null,0,null,null,null,null,0,null,null,null,null,0,null,null,null,null,0,null,null,null,null,0,null,null,null,null,0,null,null,null,null,0,null,39,null,{"$f":"IF($F33=7,1,0)","v":0},{"$f":"IF($F33=6,1,0)","v":0},{"$f":"IF($F33=5,1,0)","v":0},{"$f":"IF($F33=4,1,0)","v":0},{"$f":"IF($F33=3,1,0)","v":0},{"$f":"IF($F33=2,1,0)","v":0},{"$f":"IF($F33=1,1,0)","v":1}]
[null,null,null,null,null,null,null,"","","","","","","","",null,0,{"$f":"IF($F34>=5,IF(AB45=\"\",\"\",AB45),\"\")","v":""},{"$f":"IF($F34>=5,IF(AG45=\"\",\"\",AG45),\"\")","v":""},{"$f":"IF($F34>=5,IF(AL45=\"\",\"\",AL45),\"\")","v":""},{"$f":"IF($F34>=5,IF(AQ45=\"\",\"\",AQ45),\"\")","v":""},{"$f":"IF($F34>=5,IF(AR45=\"\",\"\",AR45),\"\")","v":""},{"$f":"IF($F34>=5,IF(AV45=\"\",\"\",AV45),\"\")","v":""},{"$f":"IF($F34>=5,IF(BA45=\"\",\"\",BA45),\"\")","v":""},{"$f":"IF($F34>=5,IF(BF45=\"\",\"\",BF45),\"\")","v":""},null,null,null,null,0,null,null,null,null,0,null,null,null,null,0,null,null,null,null,0,null,null,null,null,0,null,null,null,null,0,null,null,null,null,0,null,null,null,null,0,null,40,null,{"$f":"IF($F34=7,1,0)","v":0},{"$f":"IF($F34=6,1,0)","v":0},{"$f":"IF($F34=5,1,0)","v":0},{"$f":"IF($F34=4,1,0)","v":0},{"$f":"IF($F34=3,1,0)","v":0},{"$f":"IF($F34=2,1,0)","v":0},{"$f":"IF($F34=1,1,0)","v":1}]
[null,null,null,null,null,null,null,"","","","","","","","",null,0,{"$f":"IF($F35>=5,IF(AB46=\"\",\"\",AB46),\"\")","v":""},{"$f":"IF($F35>=5,IF(AG46=\"\",\"\",AG46),\"\")","v":""},{"$f":"IF($F35>=5,IF(AL46=\"\",\"\",AL46),\"\")","v":""},{"$f":"IF($F35>=5,IF(AQ46=\"\",\"\",AQ46),\"\")","v":""},"",{"$f":"IF($F35>=5,IF(AV46=\"\",\"\",AV46),\"\")","v":""},{"$f":"IF($F35>=5,IF(BA46=\"\",\"\",BA46),\"\")","v":""},{"$f":"IF($F35>=5,IF(BF46=\"\",\"\",BF46),\"\")","v":""},null,null,null,null,0,null,null,null,null,0,null,null,null,null,0,null,null,null,null,0,null,null,null,null,0,null,null,null,null,0,null,null,null,null,0,null,null,null,null,0,null,41,null,{"$f":"IF($F35=7,1,0)","v":0},{"$f":"IF($F35=6,1,0)","v":0},{"$f":"IF($F35=5,1,0)","v":0},{"$f":"IF($F35=4,1,0)","v":0},{"$f":"IF($F35=3,1,0)","v":0},{"$f":"IF($F35=2,1,0)","v":0},{"$f":"IF($F35=1,1,0)","v":1}]
[null,null,null,null,null,null,null,"","","","","","","","",null,0,"","","",{"$f":"IF($F36>=5,IF(AQ47=\"\",\"\",AQ47),\"\")","v":""},"","","","",null,null,null,null,0,null,null,null,null,0,null,null,null,null,0,null,null,null,null,0,null,null,null,null,0,null,null,null,null,0,null,null,null,null,0,null,null,null,null,0,null,42,null,0,0,0,0,0,0,1]
[null,null,null,null,null,null,null,"","","","","","","","",null,0,"","","",{"$f":"IF($F37>=5,IF(AQ48=\"\",\"\",AQ48),\"\")","v":""},"","","","",null,null,null,null,0,null,null,null,null,0,null,null,null,null,0,null,null,null,null,0,null,null,null,null,0,null,null,null,null,0,null,null,null,null,0,null,null,null,null,0,null,43,null,0,0,0,0,0,0,1]
[null,null,null,null,null,null,null,"","","","","","","","",null,0,"","","",{"$f":"IF($F38>=5,IF(AQ49=\"\",\"\",AQ49),\"\")","v":""},"","","","",null,null,null,null,0,null,null,null,null,0,null,null,null,null,0,null,null,null,null,0,null,null,null,null,0,null,null,null,null,0,null,null,null,null,0,null,null,null,null,0,null,44,null,0,0,0,0,0,0,1]
[null,null,null,null,null,null,null,"","","","","","","","",null,0,"","","",{"$f":"IF($F39>=5,IF(AQ50=\"\",\"\",AQ50),\"\")","v":""},"","","","",null,null,null,null,0,null,null,null,null,0,null,null,null,null,0,null,null,null,null,0,null,null,null,null,0,null,null,null,null,0,null,null,null,null,0,null,null,null,null,0,null,45,null,0,0,0,0,0,0,1]
[null,null,null,null,null,null,null,"","","",{"$f":"IF(AP51=\"\",\"\",AP51)","v":""},"","","","",null,0,"","","",{"$f":"IF($F40>=5,IF(AQ51=\"\",\"\",AQ51),\"\")","v":""},"","","","",null,null,null,null,0,null,null,null,null,0,null,null,null,null,0,null,null,null,null,0,null,null,null,null,0,null,null,null,null,0,null,null,null,null,0,null,null,null,null,0,null,46,null,0,0,0,0,0,0,0]
[null,null,null,null,null,null,null,"","","","","","","","",null,0,"","","",{"$f":"IF($F41>=5,IF(AQ52=\"\",\"\",AQ52),\"\")","v":""},"","","","",null,null,null,null,0,null,null,null,null,0,null,null,null,null,0,null,null,null,null,0,null,null,null,null,0,null,null,null,null,0,null,null,null,null,0,null,null,null,null,0,null,47,null,0,0,0,0,0,0,0]
[null,null,null,null,null,null,null,"","","","","","","","",null,0,{"$f":"IF($F35>=5,IF(AB53=\"\",\"\",AB53),\"\")","v":""},{"$f":"IF($F35>=5,IF(AG53=\"\",\"\",AG53),\"\")","v":""},{"$f":"IF($F35>=5,IF(AL53=\"\",\"\",AL53),\"\")","v":""},{"$f":"IF($F35>=5,IF(AQ53=\"\",\"\",AQ53),\"\")","v":""},{"$f":"IF($F35>=5,IF(AR53=\"\",\"\",AR53),\"\")","v":""},{"$f":"IF($F35>=5,IF(AV53=\"\",\"\",AV53),\"\")","v":""},{"$f":"IF($F35>=5,IF(BA53=\"\",\"\",BA53),\"\")","v":""},{"$f":"IF($F35>=5,IF(BF53=\"\",\"\",BF53),\"\")","v":""},null,null,null,null,0,null,null,null,null,0,null,null,null,null,0,null,null,null,null,0,null,null,null,null,0,null,null,null,null,0,null,null,null,null,0,null,null,null,null,0,null,48,null,{"$f":"IF($F35=7,1,0)","v":0},{"$f":"IF($F35=6,1,0)","v":0},{"$f":"IF($F35=5,1,0)","v":0},{"$f":"IF($F35=4,1,0)","v":0},{"$f":"IF($F35=3,1,0)","v":0},{"$f":"IF($F35=2,1,0)","v":0},{"$f":"IF($F35=1,1,0)","v":1}]

{"sheet":"G12 2016","index":14,"n_rows":54,"n_cols":75,"rows_kept":54,"cut":false,"hidden":false,"merged":[[2,41,2,44],[2,51,2,54],[4,7,4,14],[4,17,4,24],[2,56,2,59],[2,61,2,64],[3,27,3,29],[3,32,3,34],[3,37,3,39],[3,42,3,44],[3,47,3,49],[3,52,3,54],[3,57,3,59],[3,62,3,64],[2,26,2,29],[2,31,2,34],[2,36,2,39],[2,46,2,49]]}
["Resultatliste Oslo Cup 2016 - Gutter 12 år"]
[{"$f":"'Forside 2017'!A2","v":"Etter 5 av 8 renn"}]
[null,null,null,null,null,null,null,"IRS Rennet","Ljan Rennet","Telenor Arena Cup","Njård Rennet","Ready Rennet","Euro-tecfarten","Oslo Alpinfestival SL","Oslo Alpinfestival SSL",null,null,"IRS Rennet","Ljan Rennet","Telenor Arena Cup","Njård Rennet","Ready Rennet","Euro-tecfarten","Oslo Alpinfestival SL","Oslo Alpinfestival SSL",null,"--------IRS Rennet----------",null,null,null,null,"----------Ljan Rennet---------",null,null,null,null,"-----Telenor Arena Cup----",null,null,null,null,"--------Njård Rennet----------",null,null,null,null,"--------Ready Rennet---------",null,null,null,null,"------Euro-tecfarten--------",null,null,null,null,"---Oslo Alpinfestival SL---",null,null,null,null,"---Oslo Alpinfestival SSL---"]
[null,null,null,null,null,"Antall",null,"2016-02-06","2016-02-07","2016-02-10","2016-02-12","2016-02-13","2016-03-08","2016-04-02","2016-04-03",null,"Poeng","2016-02-06","2016-02-07","2016-02-10","2016-02-12","2016-02-13","2016-03-08","2016-04-02","2016-04-03",null,null,"--------Poeng--------",null,null,null,null,"--------Poeng--------",null,null,null,null,"-------Poeng---------",null,null,null,null,"-------Poeng---------",null,null,null,null,"-------Poeng---------",null,null,null,null,"-------Poeng---------",null,null,null,null,"-------Poeng---------",null,null,null,null,"-------Poeng---------",null,null,null,null,null,"Løpere med ","Løpere med ","Løpere med ","Løpere med ","Løpere med ","Løpere med ","Løpere med "]
["Plass","Etternavn","Fornavn","Klubb","Poeng","renn",null,"------------------------------Plassering i rennene---------------------------------",null,null,null,null,null,null,null,null,"brutto","----------------Resultatpoeng hvis mer enn 4 renn----------------",null,null,null,null,null,null,null,null,"Plass","Res.","Del.","Tot.",null,"Plass","Res.","Del.","Tot.",null,"Plass","Res.","Del.","Tot.",null,"Plass","Res.","Del.","Tot.",null,"Plass","Res.","Del.","Tot.",null,"Plass","Res.","Del.","Tot.",null,"Plass","Res.","Del.","Tot.",null,"Plass","Res.","Del.","Tot.",null,null,null,"8 renn","7 renn","6 renn","5 renn","4 renn","3 renn","kun 1 renn"]
[1,"Brækken ","Theodor","IRS",{"$f":"Q6-V6-W6","v":390},{"$f":"COUNT(AC6,AH6,AM6,AR6,AW6,BB6,BG6,BL6)","v":6},null,{"$f":"IF(AA6=\"\",\"\",AA6)","v":1},{"$f":"IF(AF6=\"\",\"\",AF6)","v":2},{"$f":"IF(AK6=\"\",\"\",AK6)","v":1},{"$f":"IF(AP6=\"\",\"\",AP6)","v":2},{"$f":"IF(AU6=\"\",\"\",AU6)","v":2},{"$f":"IF(AZ6=\"\",\"\",AZ6)","v":4},{"$f":"IF(BE6=\"\",\"\",BE6)","v":""},{"$f":"IF(BJ6=\"\",\"\",BJ6)","v":""},null,{"$f":"AD6+AI6+AN6+AS6+AX6+BC6+BH6+BM6","v":520},{"$f":"IF($F6>=5,IF(AB6=\"\",\"\",AB6),\"\")","v":100},{"$f":"IF($F6>=5,IF(AG6=\"\",\"\",AG6),\"\")","v":80},{"$f":"IF($F6>=5,IF(AL6=\"\",\"\",AL6),\"\")","v":100},{"$f":"IF($F6>=5,IF(AQ6=\"\",\"\",AQ6),\"\")","v":80},{"$f":"IF($F6>=5,IF(AV6=\"\",\"\",AV6),\"\")","v":80},{"$f":"IF($F6>=5,IF(BA6=\"\",\"\",BA6),\"\")","v":50},{"$f":"IF($F6>=5,IF(BF6=\"\",\"\",BF6),\"\")","v":""},{"$f":"IF($F6>=5,IF(BK6=\"\",\"\",BK6),\"\")","v":""},null,1,100,5,{"$f":"AB6+AC6","v":105},null,2,80,5,{"$f":"AG6+AH6","v":85},null,1,100,5,{"$f":"AL6+AM6","v":105},null,2,80,5,{"$f":"AQ6+AR6","v":85},null,2,80,5,{"$f":"AV6+AW6","v":85},null,4,50,5,{"$f":"BA6+BB6","v":55},null,null,null,null,{"$f":"BF6+BG6","v":0},null,null,null,null,{"$f":"BK6+BL6","v":0},null,1,100,{"$f":"IF($F6=7,1,0)","v":0},{"$f":"IF($F6=6,1,0)","v":1},{"$f":"IF($F6=5,1,0)","v":0},{"$f":"IF($F6=4,1,0)","v":0},{"$f":"IF($F6=3,1,0)","v":0},{"$f":"IF($F6=2,1,0)","v":0},{"$f":"IF($F6=1,1,0)","v":0}]
[{"$f":"IF(E7<E6,BO7,A6)","v":1},"Sandvik ","Oscar Andreas","Ready",{"$f":"Q7-U7-W7","v":390},6,null,2,1,2,4,1,5,"","",null,485,80,100,80,50,100,45,"","",null,2,80,5,85,null,1,100,5,105,null,2,80,5,85,null,4,50,5,55,null,1,100,5,105,null,5,45,5,50,null,null,null,null,0,null,null,null,null,0,null,2,80,{"$f":"IF($F7=7,1,0)","v":0},{"$f":"IF($F7=6,1,0)","v":1},{"$f":"IF($F7=5,1,0)","v":0},{"$f":"IF($F7=4,1,0)","v":0},{"$f":"IF($F7=3,1,0)","v":0},{"$f":"IF($F7=2,1,0)","v":0},{"$f":"IF($F7=1,1,0)","v":0}]
[{"$f":"IF(E8<E7,BO8,A7)","v":3},"Normannseth ","Frederik","Heming",{"$f":"Q8-T8-S8","v":310},6,null,3,4,5,1,3,3,"","",null,405,60,50,45,100,60,60,"","",null,3,60,5,65,null,4,50,5,55,null,5,45,5,50,null,1,100,5,105,null,3,60,5,65,null,3,60,5,65,null,null,null,null,0,null,null,null,null,0,null,3,60,0,1,0,0,0,0,0]
[{"$f":"IF(E9<E8,BO9,A8)","v":3},"Haugen ","Tollef","Heming",{"$f":"Q9-R9-V9","v":310},6,null,"DSQ",3,3,3,4,1,"","",null,360,0,60,60,60,50,100,"","",null,"DSQ",0,5,5,null,3,60,5,65,null,3,60,5,65,null,3,60,5,65,null,4,50,5,55,null,1,100,5,105,null,null,null,null,0,null,null,null,null,0,null,4,50,{"$f":"IF($F9=7,1,0)","v":0},{"$f":"IF($F9=6,1,0)","v":1},{"$f":"IF($F9=5,1,0)","v":0},{"$f":"IF($F9=4,1,0)","v":0},{"$f":"IF($F9=3,1,0)","v":0},{"$f":"IF($F9=2,1,0)","v":0},{"$f":"IF($F9=1,1,0)","v":0}]
[{"$f":"IF(E10<E9,BO11,A9)","v":6},"Lysklætt ","Alexander Eliassen","Heming",{"$f":"Q10-R10-W10","v":207},6,null,"DNF",4,8,5,5,9,"","",null,236,0,50,32,50,45,29,"","",null,"DNF",0,5,5,null,4,50,5,55,null,8,32,5,37,null,5,50,5,55,null,5,45,5,50,null,9,29,5,34,null,null,null,null,0,null,null,null,null,0,null,5,45,0,1,0,0,0,0,0]
[7,"Lødemel ","Christian","Heming",{"$f":"Q11-S11-T11","v":178},6,null,6,"DSQ",11,7,7,7,"","",null,202,40,0,24,36,36,36,"","",null,6,40,5,45,null,"DSQ",0,5,5,null,11,24,5,29,null,7,36,5,41,null,7,36,5,41,null,7,36,5,41,null,null,null,null,0,null,null,null,null,0,null,6,40,0,1,0,0,0,0,0]
[8,"Bjerknes ","Elias Raaholt","Ready",{"$f":"Q12-T12-W12","v":176},6,null,5,6,10,8,9,10,"","",null,228,45,40,26,32,29,26,"","",null,5,45,5,50,null,6,40,5,45,null,10,26,5,31,null,8,32,5,37,null,9,29,5,34,null,10,26,5,31,null,null,null,null,0,null,null,null,null,0,null,7,36,0,1,0,0,0,0,0]
[9,"Ertesvåg ","Kristoffer","TRY",{"$f":"Q13","v":154},5,null,4,"DSQ",14,9,8,"","","",null,154,50,0,18,29,32,"","","",null,4,50,5,55,null,"DSQ",0,5,5,null,14,18,5,23,null,9,29,5,34,null,8,32,5,37,null,null,null,null,0,null,null,null,null,0,null,null,null,null,0,null,8,32,0,0,1,0,0,0,0]
[10,"Hammer","Aksel","Stabæk",{"$f":"Q14","v":145},3,null,"","",4,"DNF","",2,"","",null,145,"","","","","","","","",null,null,null,null,0,null,null,null,null,0,null,4,50,5,55,null,"DNF",0,5,5,null,null,null,null,0,null,2,80,5,85,null,null,null,null,0,null,null,null,null,0,null,9,29,0,0,0,0,1,0,0]
[11,"Riege ","Jacob","Heming",{"$f":"Q15-T15-V15","v":128},6,null,9,8,"DNF",12,"DNQ",16,"","",null,128,29,32,0,22,0,15,"","",null,9,29,5,34,null,8,32,5,37,null,"DNF",0,5,5,null,12,22,5,27,null,"DNQ",0,5,5,null,16,15,5,20,null,null,null,null,0,null,null,null,null,0,null,10,26,0,1,0,0,0,0,0]
[12,"Frederiksen ","Carl Henrik","Ready",{"$f":"Q16","v":116},5,null,7,"DSQ",18,14,11,"","","",null,116,36,0,13,18,24,"","","",null,7,36,5,41,null,"DSQ",0,5,5,null,18,13,5,18,null,14,18,5,23,null,11,24,5,29,null,null,null,null,0,null,null,null,null,0,null,null,null,null,0,null,11,24,0,0,1,0,0,0,0]
[13,"Stangnes ","Eirik Svae","Heming",{"$f":"Q17-R17","v":110},5,null,"DNF","DSQ",9,"",6,15,"","",null,110,0,0,29,"",40,16,"","",null,"DNF",0,5,5,null,"DSQ",0,5,5,null,9,29,5,34,null,null,null,null,0,null,6,40,5,45,null,15,16,5,21,null,null,null,null,0,null,null,null,null,0,null,12,22,0,0,1,0,0,0,0]
[14,"Oksvik ","Martin Andreas","IRS",{"$f":"Q18","v":103},3,null,8,7,"",13,"","","","",null,103,"","","","","","","","",null,8,32,5,37,null,7,36,5,41,null,null,null,null,0,null,13,20,5,25,null,null,null,null,0,null,null,null,null,0,null,null,null,null,0,null,null,null,null,0,null,13,20,0,0,0,0,1,0,0]
[15,"Vodal","Haakon Folkenborg","Heming",{"$f":"Q19","v":97},4,null,"","",17,11,10,18,"","",null,97,"","","","","","","","",null,null,null,null,0,null,null,null,null,0,null,17,14,5,19,null,11,24,5,29,null,10,26,5,31,null,18,13,5,18,null,null,null,null,0,null,null,null,null,0,null,14,18,0,0,0,1,0,0,0]
[16,"Høiness-Cappelen ","Gustaf","Njård",{"$f":"Q20-T20","v":94},5,null,10,"",22,16,14,21,"","",null,103,26,"",9,15,18,10,"","",null,10,26,5,31,null,null,null,null,0,null,22,9,5,14,null,16,15,5,20,null,14,18,5,23,null,21,10,5,15,null,null,null,null,0,null,null,null,null,0,null,15,16,0,0,1,0,0,0,0]
[17,"Ragnhildstveit","Filip","Haslum",{"$f":"Q21","v":90},2,null,"","",6,"","",6,"","",null,90,"","","","","","","","",null,null,null,null,0,null,null,null,null,0,null,6,40,5,45,null,null,null,null,0,null,null,null,null,0,null,6,40,5,45,null,null,null,null,0,null,null,null,null,0,null,16,15,0,0,0,0,0,1,0]
[18,"Auren","Nicholas","Stabæk",75,3,null,"","","DNF",6,"",13,"","",null,75,"","","","","","","","",null,null,null,null,0,null,null,null,null,0,null,"DNF",0,5,5,null,6,40,5,45,null,null,null,null,0,null,13,20,5,25,null,null,null,null,0,null,null,null,null,0,null,17,14,0,0,0,0,1,0,0]
[19,"Meier","Jonatan","Kjelsås",74,4,null,"","",23,15,12,23,"","",null,74,"","","","","","","","",null,null,null,null,0,null,null,null,null,0,null,23,8,5,13,null,15,16,5,21,null,12,22,5,27,null,23,8,5,13,null,null,null,null,0,null,null,null,null,0,null,18,13,0,0,0,1,0,0,0]
[20,"Langsrud ","Einar","Heming",67,3,null,"DNF","",13,"","",8,"","",null,67,"","","","","","","","",null,"DNF",0,5,5,null,null,null,null,0,null,13,20,5,25,null,null,null,null,0,null,null,null,null,0,null,8,32,5,37,null,null,null,null,0,null,null,null,null,0,null,19,12,0,0,0,0,1,0,0]
[21,"Tveit","Oskar Børnick","Kjelsås",56,3,null,"","",19,"",13,22,"","",null,56,"","","","","","","","",null,null,null,null,0,null,null,null,null,0,null,19,12,5,17,null,null,null,null,0,null,13,20,5,25,null,22,9,5,14,null,null,null,null,0,null,null,null,null,0,null,20,11,0,0,0,0,1,0,0]
[22,"Sivertsen ","Didrik","TRY",47,2,null,11,"","",18,"","","","",null,47,"","","","","","","","",null,11,24,5,29,null,null,null,null,0,null,null,null,null,0,null,18,13,5,18,null,null,null,null,0,null,null,null,null,0,null,null,null,null,0,null,null,null,null,0,null,21,10,0,0,0,0,0,1,0]
[23,"Hepsøe","Torius","Haslum",41,1,null,"","",7,"","","","","",null,41,"","","","","","","","",null,null,null,null,0,null,null,null,null,0,null,7,36,5,41,null,null,null,null,0,null,null,null,null,0,null,null,null,null,0,null,null,null,null,0,null,null,null,null,0,null,22,9,0,0,0,0,0,0,1]
[24,"Ardem","Herman Andre","Kjelsås",40,2,null,"","","",17,{"$f":"IF(AQ28=\"\",\"\",AQ28)","v":14},{"$f":"IF(AU28=\"\",\"\",AU28)","v":15},{"$f":"IF(AZ28=\"\",\"\",AZ28)","v":""},{"$f":"IF(BE28=\"\",\"\",BE28)","v":""},null,{"$f":"AD28+AI28+AN28+AS28+AX28+BC28+BH28","v":40},"","","","","","","","",null,null,null,null,0,null,null,null,null,0,null,null,null,null,0,null,17,14,5,19,null,15,16,5,21,null,null,null,null,0,null,null,null,null,0,null,null,null,null,0,null,23,8,0,0,0,0,0,1,0]
[{"$f":"IF(E29<E28,BO34,A28)","v":24},"Flagstad","Simon","HSIL",40,3,null,null,"",31,"",{"$f":"IF(AU29=\"\",\"\",AU29)","v":17},{"$f":"IF(AZ29=\"\",\"\",AZ29)","v":20},{"$f":"IF(BE29=\"\",\"\",BE29)","v":""},{"$f":"IF(BJ29=\"\",\"\",BJ29)","v":""},null,{"$f":"AD29+AI29+AN29+AS29+AX29+BC29+BH29+BM29","v":40},"","","","","","","","",null,null,null,null,0,null,null,null,null,0,null,31,0,5,5,null,null,null,null,0,null,17,14,5,19,null,20,11,5,16,null,null,null,null,0,null,null,null,null,0,null,24,7,0,0,0,0,1,0,0]
[{"$f":"IF(E30<E29,BO31,A29)","v":26},"Stjernstrøm ","Jonas August","Ljan Alpin",39,2,null,{"$f":"IF(AA30=\"\",\"\",AA30)","v":"DNF"},9,"","",{"$f":"IF(AU30=\"\",\"\",AU30)","v":""},{"$f":"IF(AZ30=\"\",\"\",AZ30)","v":""},{"$f":"IF(BE30=\"\",\"\",BE30)","v":""},{"$f":"IF(BJ30=\"\",\"\",BJ30)","v":""},null,39,"","","","","","","","",null,"DNF",0,5,5,null,9,29,5,34,null,null,null,null,0,null,null,null,null,0,null,null,null,null,0,null,null,null,null,0,null,null,null,null,0,null,null,null,null,0,null,25,6,0,0,0,0,0,1,0]
[{"$f":"IF(E31<E30,BO32,A30)","v":27},"Smedby","Håkon","BSK",31,1,null,"","","",10,{"$f":"IF(AQ31=\"\",\"\",AQ31)","v":26},{"$f":"IF(AU31=\"\",\"\",AU31)","v":""},{"$f":"IF(AZ31=\"\",\"\",AZ31)","v":""},{"$f":"IF(BE31=\"\",\"\",BE31)","v":""},null,31,"","","","","","","","",null,null,null,null,0,null,null,null,null,0,null,null,null,null,0,null,10,26,5,31,null,null,null,null,0,null,null,null,null,0,null,null,null,null,0,null,null,null,null,0,null,26,5,0,0,0,0,0,0,1]
[{"$f":"IF(E32<E31,BO33,A31)","v":28},"Hemminghytt","Andreas","LiL Aplin",29,1,null,"","",null,"",{"$f":"IF(AU32=\"\",\"\",AU32)","v":""},{"$f":"IF(AZ32=\"\",\"\",AZ32)","v":11},{"$f":"IF(BE32=\"\",\"\",BE32)","v":""},{"$f":"IF(BJ32=\"\",\"\",BJ32)","v":""},null,29,"","","","","","","","",null,null,null,null,0,null,null,null,null,0,null,null,null,null,0,null,null,null,null,0,null,null,null,null,0,null,11,24,5,29,null,null,null,null,0,null,null,null,null,0,null,27,4,0,0,0,0,0,0,1]
[{"$f":"IF(E33<E32,BO34,A32)","v":29},"Cock","Christopher","Heming",28,2,null,"","",{"$f":"IF(AK33=\"\",\"\",AK33)","v":28},"",16,"","","",null,28,"","","","","","","","",null,null,null,null,0,null,null,null,null,0,null,28,3,5,8,null,null,null,null,0,null,16,15,5,20,null,null,null,null,0,null,null,null,null,0,null,null,null,null,0,null,28,3,0,0,0,0,0,1,0]
[{"$f":"IF(E34<E33,BO39,A33)","v":29},"Risan","Henrik","LiL Aplin",28,2,null,"","",{"$f":"IF(AK34=\"\",\"\",AK34)","v":31},"","",14,"","",null,28,"","","","","","","","",null,null,null,null,0,null,null,null,null,0,null,31,0,5,5,null,null,null,null,0,null,null,null,null,0,null,14,18,5,23,null,null,null,null,0,null,null,null,null,0,null,29,2,0,0,0,0,0,1,0]
[{"$f":"IF(E35<E34,BO36,A34)","v":31},"Bratsberg","William","BSK",27,1,null,"","",{"$f":"IF(AK35=\"\",\"\",AK35)","v":12},"","","","","",null,27,"","","","","","","","",null,null,null,null,0,null,null,null,null,0,null,12,22,5,27,null,null,null,null,0,null,null,null,null,0,null,null,null,null,0,null,null,null,null,0,null,null,null,null,0,null,30,1,0,0,0,0,0,0,1]
[{"$f":"IF(E36<E35,BO41,A35)","v":31},"Nergaard","Hans Herman","BSK",27,1,null,"","",null,"","",12,"","",null,27,"","","","","","","","",null,null,null,null,0,null,null,null,null,0,null,null,null,null,0,null,null,null,null,0,null,null,null,null,0,null,12,22,5,27,null,null,null,null,0,null,null,null,null,0,null,31,null,0,0,0,0,0,0,1]
[{"$f":"IF(E37<E36,BO38,A36)","v":33},"Polhammer","Carl","Kjelsås",26,2,null,"","",{"$f":"IF(AK37=\"\",\"\",AK37)","v":20},"","",26,"","",null,26,"","","","","","","","",null,null,null,null,0,null,null,null,null,0,null,20,11,5,16,null,null,null,null,0,null,null,null,null,0,null,26,5,5,10,null,null,null,null,0,null,null,null,null,0,null,32,null,0,0,0,0,0,1,0]
[{"$f":"IF(E38<E37,BO43,A37)","v":33},"Haavind","Nuila Emanuel","Ljan Alpin",26,{"$f":"COUNT(AC38,AH38,AM38,AR38,AW38,BB38,BG38,BL38)","v":2},null,null,null,null,{"$f":"IF(AP38=\"\",\"\",AP38)","v":21},null,null,null,null,null,{"$f":"AD38+AI38+AN38+AS38+AX38+BC38+BH38","v":26},{"$f":"IF($F38>=5,IF(AB38=\"\",\"\",AB38),\"\")","v":""},{"$f":"IF($F38>=5,IF(AG38=\"\",\"\",AG38),\"\")","v":""},{"$f":"IF($F38>=5,IF(AL38=\"\",\"\",AL38),\"\")","v":""},{"$f":"IF($F38>=5,IF(AQ38=\"\",\"\",AQ38),\"\")","v":""},{"$f":"IF($F38>=5,IF(AV38=\"\",\"\",AV38),\"\")","v":""},{"$f":"IF($F38>=5,IF(BA38=\"\",\"\",BA38),\"\")","v":""},{"$f":"IF($F38>=5,IF(BF38=\"\",\"\",BF38),\"\")","v":""},{"$f":"IF($F38>=5,IF(BK38=\"\",\"\",BK38),\"\")","v":""},null,null,null,null,{"$f":"AB38+AC38","v":0},null,null,null,null,{"$f":"AG38+AH38","v":0},null,null,null,null,{"$f":"AL38+AM38","v":0},null,21,10,5,{"$f":"AQ38+AR38","v":15},null,null,null,null,{"$f":"AV38+AW38","v":0},null,25,6,5,{"$f":"BA38+BB38","v":11},null,null,null,null,{"$f":"BF38+BG38","v":0},null,null,null,null,{"$f":"BK38+BL38","v":0},null,33,null,0,0,0,0,0,1,0]
[{"$f":"IF(E39<E38,BO40,A38)","v":35},"Synnestvedt","Storm Alexander","Kjelsås",22,2,null,{"$f":"IF(AA39=\"\",\"\",AA39)","v":""},{"$f":"IF(AF39=\"\",\"\",AF39)","v":""},{"$f":"IF(AK39=\"\",\"\",AK39)","v":26},"",{"$f":"IF(AU39=\"\",\"\",AU39)","v":""},{"$f":"IF(AZ39=\"\",\"\",AZ39)","v":24},{"$f":"IF(BE39=\"\",\"\",BE39)","v":""},{"$f":"IF(BJ39=\"\",\"\",BJ39)","v":""},null,{"$f":"AD39+AI39+AN39+AS39+AX39+BC39+BH39+BM39","v":22},"","","","","","","","",null,null,null,null,0,null,null,null,null,0,null,26,5,5,10,null,null,null,null,0,null,null,null,null,0,null,24,7,5,12,null,null,null,null,0,null,null,null,null,0,null,34,null,0,0,0,0,0,1,0]
[{"$f":"IF(E40<E39,BO41,A39)","v":36},"Jansen","Nikolai Severin","Heming",21,1,null,"","",{"$f":"IF(AK40=\"\",\"\",AK40)","v":15},"",{"$f":"IF(AU40=\"\",\"\",AU40)","v":""},{"$f":"IF(AZ40=\"\",\"\",AZ40)","v":""},{"$f":"IF(BE40=\"\",\"\",BE40)","v":""},{"$f":"IF(BJ40=\"\",\"\",BJ40)","v":""},null,{"$f":"AD40+AI40+AN40+AS40+AX40+BC40+BH40+BM40","v":21},"","","","","","","","",null,null,null,null,0,null,null,null,null,0,null,15,16,5,21,null,null,null,null,0,null,null,null,null,0,null,null,null,null,0,null,null,null,null,0,null,null,null,null,0,null,35,null,{"$f":"IF($F40=7,1,0)","v":0},{"$f":"IF($F40=6,1,0)","v":0},{"$f":"IF($F40=5,1,0)","v":0},{"$f":"IF($F40=4,1,0)","v":0},{"$f":"IF($F40=3,1,0)","v":0},{"$f":"IF($F40=2,1,0)","v":0},{"$f":"IF($F40=1,1,0)","v":1}]
[{"$f":"IF(E41<E40,BO42,A40)","v":37},"Schoubye","Nicolai","Haslum",20,1,null,"","",{"$f":"IF(AK41=\"\",\"\",AK41)","v":16},"",{"$f":"IF(AU41=\"\",\"\",AU41)","v":""},{"$f":"IF(AZ41=\"\",\"\",AZ41)","v":""},{"$f":"IF(BE41=\"\",\"\",BE41)","v":""},{"$f":"IF(BJ41=\"\",\"\",BJ41)","v":""},null,{"$f":"AD41+AI41+AN41+AS41+AX41+BC41+BH41+BM41","v":20},"","","","","","","","",null,null,null,null,0,null,null,null,null,0,null,16,15,5,20,null,null,null,null,0,null,null,null,null,0,null,null,null,null,0,null,null,null,null,0,null,null,null,null,0,null,36,null,0,0,0,0,0,0,1]
[{"$f":"IF(E42<E41,BO43,A41)","v":38},"Søvik","Erik","Kjelsås",19,1,null,"","",null,"",{"$f":"IF(AU42=\"\",\"\",AU42)","v":""},{"$f":"IF(AZ42=\"\",\"\",AZ42)","v":17},{"$f":"IF(BE42=\"\",\"\",BE42)","v":""},{"$f":"IF(BJ42=\"\",\"\",BJ42)","v":""},null,{"$f":"AD42+AI42+AN42+AS42+AX42+BC42+BH42+BM42","v":19},"","","","","","","","",null,null,null,null,0,null,null,null,null,0,null,null,null,null,0,null,null,null,null,0,null,null,null,null,0,null,17,14,5,19,null,null,null,null,0,null,null,null,null,0,null,37,null,0,0,0,0,0,0,1]
[{"$f":"IF(E43<E42,BO44,A42)","v":39},"Ulrichsen","Bernhard","TRY",17,1,null,"","",{"$f":"IF(AK43=\"\",\"\",AK43)","v":""},19,{"$f":"IF(AQ43=\"\",\"\",AQ43)","v":12},{"$f":"IF(AU43=\"\",\"\",AU43)","v":""},{"$f":"IF(AZ43=\"\",\"\",AZ43)","v":""},{"$f":"IF(BE43=\"\",\"\",BE43)","v":""},null,{"$f":"AD43+AI43+AN43+AS43+AX43+BC43+BH43","v":17},"","","","","","","","",null,null,null,null,0,null,null,null,null,0,null,null,null,null,0,null,19,12,5,17,null,null,null,null,0,null,null,null,null,0,null,null,null,null,0,null,null,null,null,0,null,38,null,0,0,0,0,0,0,1]
[{"$f":"IF(E44<E43,BO49,A43)","v":39},"Tangen ","Marius Naustdal","Hakadal",17,1,null,"","",null,"",{"$f":"IF(AU44=\"\",\"\",AU44)","v":""},{"$f":"IF(AZ44=\"\",\"\",AZ44)","v":19},{"$f":"IF(BE44=\"\",\"\",BE44)","v":""},{"$f":"IF(BJ44=\"\",\"\",BJ44)","v":""},null,{"$f":"AD44+AI44+AN44+AS44+AX44+BC44+BH44+BM44","v":17},"","","","","","","","",null,null,null,null,0,null,null,null,null,0,null,null,null,null,0,null,null,null,null,0,null,null,null,null,0,null,19,12,5,17,null,null,null,null,0,null,null,null,null,0,null,39,null,0,0,0,0,0,0,1]
[{"$f":"IF(E45<E44,BO46,A44)","v":41},"Kvam","Lucio Normann Catalano","Njård",16,1,null,null,null,null,20,null,null,null,null,null,{"$f":"AD45+AI45+AN45+AS45+AX45+BC45+BH45","v":16},"","","","","","","","",null,null,null,null,0,null,null,null,null,0,null,null,null,null,0,null,20,11,5,16,null,null,null,null,0,null,null,null,null,0,null,null,null,null,0,null,null,null,null,0,null,40]
[42,"Benestad","Lukas","Haslum",15,1,null,{"$f":"IF(AA46=\"\",\"\",AA46)","v":""},{"$f":"IF(AF46=\"\",\"\",AF46)","v":""},{"$f":"IF(AK46=\"\",\"\",AK46)","v":21},"",{"$f":"IF(AU46=\"\",\"\",AU46)","v":""},{"$f":"IF(AZ46=\"\",\"\",AZ46)","v":""},{"$f":"IF(BE46=\"\",\"\",BE46)","v":""},{"$f":"IF(BJ46=\"\",\"\",BJ46)","v":""},null,{"$f":"AD46+AI46+AN46+AS46+AX46+BC46+BH46+BM46","v":15},"","","","","","","","",null,null,null,null,0,null,null,null,null,0,null,21,10,5,15,null,null,null,null,0,null,null,null,null,0,null,null,null,null,0,null,null,null,null,0,null,null,null,null,0,null,41]
[43,"Schou","Ferdinand","Heming",12,1,null,"","",{"$f":"IF(AK47=\"\",\"\",AK47)","v":24},"","","","","",null,12,"","","","","","","","",null,null,null,null,0,null,null,null,null,0,null,24,7,5,12,null,null,null,null,0,null,null,null,null,0,null,null,null,null,0,null,null,null,null,0,null,null,null,null,0,null,42]
[44,"Norstrand","Herman","Heming",11,1,null,"","",{"$f":"IF(AK48=\"\",\"\",AK48)","v":25},"","","","","",null,11,"","","","","","","","",null,null,null,null,0,null,null,null,null,0,null,25,6,5,11,null,null,null,null,0,null,null,null,null,0,null,null,null,null,0,null,null,null,null,0,null,null,null,null,0,null,43]
[45,"Finnøy","Fredrik",null,10,2,null,"","",null,"","DNF","","","",null,10,"","","","","","","","",null,null,null,null,0,null,null,null,null,0,null,31,0,5,5,null,null,null,null,0,null,"DNF",0,5,5,null,null,null,null,0,null,null,null,null,0,null,null,null,null,0,null,44]
[46,"Bull Steinsland","Nikolai Sebastian","Heming",9,1,null,"","",{"$f":"IF(AK50=\"\",\"\",AK50)","v":27},"","","","","",null,9,"","","","","","","","",null,null,null,null,0,null,null,null,null,0,null,27,4,5,9,null,null,null,null,0,null,null,null,null,0,null,null,null,null,0,null,null,null,null,0,null,null,null,null,0,null,45]
[47,"Bengston","Severin","Heming",7,1,null,"","",{"$f":"IF(AK51=\"\",\"\",AK51)","v":29},"","","","","",null,7,"","","","","","","","",null,null,null,null,0,null,null,null,null,0,null,29,2,5,7,null,null,null,null,0,null,null,null,null,0,null,null,null,null,0,null,null,null,null,0,null,null,null,null,0,null,46]
[48,"Heibo-Tobiasson","Jonas","Heming",6,1,null,"","",{"$f":"IF(AK52=\"\",\"\",AK52)","v":30},"","","","","",null,6,"","","","","","","","",null,null,null,null,0,null,null,null,null,0,null,30,1,5,6,null,null,null,null,0,null,null,null,null,0,null,null,null,null,0,null,null,null,null,0,null,null,null,null,0,null,47]
[49,"Eggesbø","Bernardo","Heming",5,1,null,"","",{"$f":"IF(AK53=\"\",\"\",AK53)","v":"DNF"},"","","","","",null,5,"","","","","","","","",null,null,null,null,0,null,null,null,null,0,null,"DNF",0,5,5,null,null,null,null,0,null,null,null,null,0,null,null,null,null,0,null,null,null,null,0,null,null,null,null,0,null,48]
[{"$f":"IF(E54<E53,BO55,A53)","v":49},"Wold-Pedersen ","Nicolai","BSK",5,1,null,"","",null,"","","DNF","","",null,5,"","","","","","","","",null,null,null,null,0,null,null,null,null,0,null,null,null,null,0,null,null,null,null,0,null,null,null,null,0,null,"DNF",0,5,5,null,null,null,null,0,null,null,null,null,0]

{"sheet":"Skikrets 2016","index":15,"n_rows":191,"n_cols":65,"rows_kept":191,"cut":false,"hidden":false,"merged":[[166,7,166,14],[166,17,166,24],[164,46,164,49],[164,51,164,54],[164,56,164,59],[164,61,164,64],[165,27,165,29],[165,32,165,34],[165,37,165,39],[165,42,165,44],[165,47,165,49],[165,52,165,54],[165,57,165,59],[165,62,165,64],[162,42,162,45],[164,26,164,29],[164,31,164,34],[164,36,164,39],[164,41,164,44],[110,52,110,54],[110,57,110,59],[110,62,110,64],[111,7,111,14],[111,17,111,24],[110,27,110,29],[110,32,110,34],[110,37,110,39],[110,42,110,44],[110,47,110,49],[109,41,109,44],[109,46,109,49],[109,51,109,54],[109,56,109,59],[109,61,109,64],[71,7,71,14],[71,17,71,24],[109,26,109,29],[109,31,109,34],[109,36,109,39],[70,27,70,29],[70,32,70,34],[70,37,70,39],[70,42,70,44],[70,47,70,49],[69,26,69,29],[69,31,69,34],[69,36,69,39],[69,41,69,44],[69,46,69,49],[32,41,32,44],[32,46,32,49],[32,51,32,54],[32,56,32,59],[32,61,32,64],[33,42,33,44],[33,47,33,49],[33,52,33,54],[33,57,33,59],[33,62,33,64],[34,7,34,14],[34,17,34,24],[2,26,2,29],[2,31,2,34],[2,36,2,39],[4,7,4,14],[4,17,4,24],[3,27,3,29],[3,32,3,34],[3,37,3,39],[32,26,32,29],[32,31,32,34],[32,36,32,39],[33,27,33,29],[33,32,33,34],[33,37,33,39],[2,41,2,44],[2,46,2,49],[2,56,2,59],[2,61,2,64],[3,42,3,44],[3,47,3,49],[3,52,3,54],[3,57,3,59],[3,62,3,64],[2,51,2,54],[69,51,69,54],[69,56,69,59],[69,61,69,64],[70,52,70,54],[70,57,70,59],[70,62,70,64]]}
["Resultatliste Oslo Cup 2016 - Jenter 11 år"]
[{"$f":"'Forside 2017'!A2","v":"Etter 5 av 8 renn"}]
[null,null,null,null,null,null,null,"IRS Rennet","Ljan Rennet","Telenor Arena Cup","Njård Rennet","Ready Rennet","Euro-tecfarten","Oslo Alpinfestival SL","Oslo Alpinfestival SSL",null,null,"IRS Rennet","Ljan Rennet","Telenor Arena Cup","Njård Rennet","Ready Rennet","Euro-tecfarten","Oslo Alpinfestival SL","Oslo Alpinfestival SSL",null,"--------IRS Rennet----------",null,null,null,null,"----------Ljan Rennet---------",null,null,null,null,"-----Telenor Arena Cup----",null,null,null,null,"--------Njård Rennet----------",null,null,null,null,"--------Ready Rennet---------",null,null,null,null,"------Euro-tecfarten--------",null,null,null,null,"---Oslo Alpinfestival SL---",null,null,null,null,"---Oslo Alpinfestival SSL---"]
[null,null,null,null,null,"Antall",null,"2016-02-06","2016-02-07","2016-02-10","2016-02-12","2016-02-13","2016-03-08","2016-04-02","2016-04-03",null,"Poeng","2016-02-06","2016-02-07","2016-02-10","2016-02-12","2016-02-13","2016-03-08","2016-04-02","2016-04-03",null,null,"--------Poeng--------",null,null,null,null,"--------Poeng--------",null,null,null,null,"-------Poeng---------",null,null,null,null,"-------Poeng---------",null,null,null,null,"-------Poeng---------",null,null,null,null,"-------Poeng---------",null,null,null,null,"-------Poeng---------",null,null,null,null,"-------Poeng---------"]
["Plass","Etternavn","Fornavn","Klubb","Poeng","renn",null,"------------------------------Plassering i rennene---------------------------------",null,null,null,null,null,null,null,null,"brutto","----------------Resultatpoeng hvis mer enn 4 renn----------------",null,null,null,null,null,null,null,null,"Plass","Res.","Del.","Tot.",null,"Plass","Res.","Del.","Tot.",null,"Plass","Res.","Del.","Tot.",null,"Plass","Res.","Del.","Tot.",null,"Plass","Res.","Del.","Tot.",null,"Plass","Res.","Del.","Tot.",null,"Plass","Res.","Del.","Tot.",null,"Plass","Res.","Del.","Tot."]
[1,"Grimkelsrud ","Elisabeth","Kjelsås",{"$f":"Q6-V6-U6","v":410},{"$f":"COUNT(AC6,AH6,AM6,AR6,AW6,BB6,BG6,BL6)","v":6},null,{"$f":"IF(AA6=\"\",\"\",AA6)","v":2},{"$f":"IF(AF6=\"\",\"\",AF6)","v":1},{"$f":"IF(AK6=\"\",\"\",AK6)","v":1},{"$f":"IF(AP6=\"\",\"\",AP6)","v":2},{"$f":"IF(AU6=\"\",\"\",AU6)","v":2},{"$f":"IF(AZ6=\"\",\"\",AZ6)","v":1},{"$f":"IF(BE6=\"\",\"\",BE6)","v":""},{"$f":"IF(BJ6=\"\",\"\",BJ6)","v":""},null,{"$f":"AD6+AI6+AN6+AS6+AX6+BC6+BH6+BM6","v":570},{"$f":"IF($F6>=5,IF(AB6=\"\",\"\",AB6),\"\")","v":80},{"$f":"IF($F6>=5,IF(AG6=\"\",\"\",AG6),\"\")","v":100},{"$f":"IF($F6>=5,IF(AL6=\"\",\"\",AL6),\"\")","v":100},{"$f":"IF($F6>=5,IF(AQ6=\"\",\"\",AQ6),\"\")","v":80},{"$f":"IF($F6>=5,IF(AV6=\"\",\"\",AV6),\"\")","v":80},{"$f":"IF($F6>=5,IF(BA6=\"\",\"\",BA6),\"\")","v":100},{"$f":"IF($F6>=5,IF(BF6=\"\",\"\",BF6),\"\")","v":""},{"$f":"IF($F6>=5,IF(BK6=\"\",\"\",BK6),\"\")","v":""},null,2,80,5,{"$f":"AB6+AC6","v":85},null,1,100,5,{"$f":"AG6+AH6","v":105},null,1,100,5,{"$f":"AL6+AM6","v":105},null,2,80,5,{"$f":"AQ6+AR6","v":85},null,2,80,5,{"$f":"AV6+AW6","v":85},null,1,100,5,{"$f":"BA6+BB6","v":105},null,null,null,null,{"$f":"BF6+BG6","v":0},null,null,null,null,{"$f":"BK6+BL6","v":0}]
[2,"Bugge ","Mathilde Haugdal","Ready",{"$f":"Q7-T7-W7","v":330},6,null,1,2,"DNF",3,3,6,"","",null,{"$f":"AD7+AI7+AN7+AS7+AX7+BC7+BH7","v":370},100,80,0,60,60,40,"","",null,1,100,5,105,null,2,80,5,85,null,"DNF",0,5,5,null,3,60,5,65,null,3,60,5,65,null,6,40,5,45,null,null,null,null,0,null,null,null,null,0]
[3,"Sandvin ","Eva","Kjelsås",{"$f":"Q8-R8-V8","v":230},6,null,"DSQ",3,6,4,19,4,"","",null,242,0,60,40,50,12,50,"","",null,"DSQ",0,5,5,null,3,60,5,65,null,6,40,5,45,null,4,50,5,55,null,19,12,5,17,null,4,50,5,55,null,null,null,null,0,null,null,null,null,0]
[4,"Røsjorde Sjøvik ","Mira","Kjelsås",{"$f":"Q9-W9","v":215},6,null,5,"DSQ",3,6,6,8,"","",null,247,45,0,60,40,40,32,"","",null,5,45,5,50,null,"DSQ",0,5,5,null,3,60,5,65,null,6,40,5,45,null,6,40,5,45,null,8,32,5,37,null,null,null,null,0,null,null,null,null,0]
[5,"Flåm","Amalie ","Harestua",{"$f":"Q10","v":210},2,null,"","","",1,1,"","","",null,210,"","","","","","","","",null,null,null,null,0,null,null,null,null,0,null,null,null,null,0,null,1,100,5,105,null,1,100,5,105,null,null,null,null,0,null,null,null,null,0,null,null,null,null,0]
[6,"Roed ","Elphi Haukenes","Heming",{"$f":"Q11-V11","v":187},5,null,7,5,5,7,10,"","","",null,213,36,45,45,36,26,"","","",null,7,36,5,41,null,5,45,5,50,null,5,45,5,50,null,7,36,5,41,null,10,26,5,31,null,null,null,null,0,null,null,null,null,0,null,null,null,null,0]
[7,"Kristiansen ","Vilde Lovis","IRS",{"$f":"Q12","v":171},4,null,"",4,11,"",8,5,"","",null,171,"","","","","","","","",null,null,null,null,0,null,4,50,5,55,null,11,24,5,29,null,null,null,null,0,null,8,32,5,37,null,5,45,5,50,null,null,null,null,0,null,null,null,null,0]
[8,"Lyså ","Amalie Bugge","Ready",153,4,null,4,"",9,8,12,"","","",null,153,"","","","","","","","",null,4,50,5,55,null,null,null,null,0,null,9,29,5,34,null,8,32,5,37,null,12,22,5,27,null,null,null,null,0,null,null,null,null,0,null,null,null,null,0]
[{"$f":"IF(E14<E13,#REF!,A13)","v":8},"Flydal","Vilde","Heming",153,3,null,"","",2,9,9,"","","",null,153,"","","","","","","","",null,null,null,null,0,null,null,null,null,0,null,2,80,5,85,null,9,29,5,34,null,9,29,5,34,null,null,null,null,0,null,null,null,null,0,null,null,null,null,0]
[10,"Gurholt ","Ida Kristine","Njård",148,6,null,6,"DSQ","DSQ",10,15,7,"","",null,148,40,0,0,26,16,36,"","",null,6,40,5,45,null,"DSQ",0,5,5,null,"DSQ",0,5,5,null,10,26,5,31,null,15,16,5,21,null,7,36,5,41,null,null,null,null,0,null,null,null,null,0]
[11,"Folkvord","Rikke","HSIL",121,4,null,"","",10,"DNF",16,3,"","",null,121,"","","","","","","","",null,null,null,null,0,null,null,null,null,0,null,10,26,5,31,null,"DNF",0,5,5,null,16,15,5,20,null,3,60,5,65,null,null,null,null,0,null,null,null,null,0]
[12,"Larsen ","Kornelia Wang","LIL Alpin",120,2,null,3,"","","",4,"","","",null,120,"","","","","","","","",null,3,60,5,65,null,null,null,null,0,null,null,null,null,0,null,null,null,null,0,null,4,50,5,55,null,null,null,null,0,null,null,null,null,0,null,null,null,null,0]
[13,"Dietrichson","Iben","Ready",105,3,null,"","","DSQ",5,5,"","","",null,105,"","","","","","","","",null,null,null,null,0,null,null,null,null,0,null,"DSQ",0,5,5,null,5,45,5,50,null,5,45,5,50,null,null,null,null,0,null,null,null,null,0,null,null,null,null,0]
[14,"Galligani","Filippa","Heming",104,3,null,"","",7,"",11,9,"","",null,104,"","","","","","","","",null,null,null,null,0,null,null,null,null,0,null,7,36,5,41,null,null,null,null,0,null,11,24,5,29,null,9,29,5,34,null,null,null,null,0,null,null,null,null,0]
[15,"Wrage","Paulina Rønning","Heming",85,3,null,"","",4,"DNF",13,"","","",null,85,"","","","","","","","",null,null,null,null,0,null,null,null,null,0,null,4,50,5,55,null,"DNF",0,5,5,null,13,20,5,25,null,null,null,null,0,null,null,null,null,0,null,null,null,null,0]
[{"$f":"IF(E21<E20,#REF!,A20)","v":15},"Brodwall ","Emilie Rønnestad","Stabæk",85,1,null,"","","","","",{"$f":"IF(AU21=\"\",\"\",AU21)","v":""},{"$f":"IF(AZ21=\"\",\"\",AZ21)","v":2},{"$f":"IF(BE21=\"\",\"\",BE21)","v":""},null,85,"","","","","","","","",null,null,null,null,0,null,null,null,null,0,null,null,null,null,0,null,null,null,null,0,null,null,null,null,0,null,2,80,5,85,null,null,null,null,0,null,null,null,null,0]
[17,"Haakensen ","Hedda","Kjelsås",82,2,null,8,6,"","","",{"$f":"IF(AZ22=\"\",\"\",AZ22)","v":""},{"$f":"IF(BE22=\"\",\"\",BE22)","v":""},{"$f":"IF(BJ22=\"\",\"\",BJ22)","v":""},null,82,"","","","","","","","",null,8,32,5,37,null,6,40,5,45,null,null,null,null,0,null,null,null,null,0,null,null,null,null,0,null,null,null,null,0,null,null,null,null,0,null,null,null,null,0]
[18,"Wurschmidt","Elise","Heming",53,3,null,"","","DNF",11,17,{"$f":"IF(AZ23=\"\",\"\",AZ23)","v":""},{"$f":"IF(BE23=\"\",\"\",BE23)","v":""},{"$f":"IF(BJ23=\"\",\"\",BJ23)","v":""},null,53,"","","","","","","","",null,null,null,null,0,null,null,null,null,0,null,"DNF",0,5,5,null,11,24,5,29,null,17,14,5,19,null,null,null,null,0,null,null,null,null,0,null,null,null,null,0]
[19,"Trondsen","Marie Arnstad","Heming",50,2,null,"","",12,"",14,{"$f":"IF(AZ24=\"\",\"\",AZ24)","v":""},{"$f":"IF(BE24=\"\",\"\",BE24)","v":""},{"$f":"IF(BJ24=\"\",\"\",BJ24)","v":""},null,50,"","","","","","","","",null,null,null,null,0,null,null,null,null,0,null,12,22,5,27,null,null,null,null,0,null,14,18,5,23,null,null,null,null,0,null,null,null,null,0,null,null,null,null,0]
[20,"Naustdal ","Elise","Kjelsås",46,2,null,"","DSQ","","",7,{"$f":"IF(AZ25=\"\",\"\",AZ25)","v":""},{"$f":"IF(BE25=\"\",\"\",BE25)","v":""},{"$f":"IF(BJ25=\"\",\"\",BJ25)","v":""},null,46,"","","","","","","","",null,null,null,null,0,null,"DSQ",0,5,5,null,null,null,null,0,null,null,null,null,0,null,7,36,5,41,null,null,null,null,0,null,null,null,null,0,null,null,null,null,0]
[21,"Briskelid","Cornelia","Heming",45,2,null,"","","",12,18,{"$f":"IF(AU26=\"\",\"\",AU26)","v":18},{"$f":"IF(AZ26=\"\",\"\",AZ26)","v":""},{"$f":"IF(BE26=\"\",\"\",BE26)","v":""},null,45,"","","","","","","","",null,null,null,null,0,null,null,null,null,0,null,null,null,null,0,null,12,22,5,27,null,18,13,5,18,null,null,null,null,0,null,null,null,null,0,null,null,null,null,0]
[22,"Briseid-Bødtker","Mia","Heming",37,1,null,"","",8,"","",{"$f":"IF(AZ27=\"\",\"\",AZ27)","v":""},{"$f":"IF(BE27=\"\",\"\",BE27)","v":""},{"$f":"IF(BJ27=\"\",\"\",BJ27)","v":""},null,37,"","","","","","","","",null,null,null,null,0,null,null,null,null,0,null,8,32,5,37,null,null,null,null,0,null,null,null,null,0,null,null,null,null,0,null,null,null,null,0,null,null,null,null,0]
[23,"Mobekk","Mina","Njård",31,1,null,"","","","","",{"$f":"IF(AU28=\"\",\"\",AU28)","v":""},{"$f":"IF(AZ28=\"\",\"\",AZ28)","v":10},{"$f":"IF(BE28=\"\",\"\",BE28)","v":""},null,31,"","","","","","","","",null,null,null,null,0,null,null,null,null,0,null,null,null,null,0,null,null,null,null,0,null,null,null,null,0,null,10,26,5,31,null,null,null,null,0,null,null,null,null,0]
[24,"Skavik ","Thea","Heming",5,1,null,"","DSQ","","","",{"$f":"IF(AZ29=\"\",\"\",AZ29)","v":""},{"$f":"IF(BE29=\"\",\"\",BE29)","v":""},{"$f":"IF(BJ29=\"\",\"\",BJ29)","v":""},null,5,"","","","","","","","",null,null,null,null,0,null,"DSQ",0,5,5,null,null,null,null,0,null,null,null,null,0,null,null,null,null,0,null,null,null,null,0,null,null,null,null,0,null,null,null,null,0]
[]
["Resultatliste Oslo Cup 2016 - Gutter 11 år"]
["Etter 6 av 8 renn"]
[null,null,null,null,null,null,null,"IRS Rennet","Ljan Rennet","Telenor Arena Cup","Njård Rennet","Ready Rennet","Euro-tecfarten","Oslo Alpinfestival SL","Oslo Alpinfestival SSL",null,null,"IRS Rennet","Ljan Rennet","Telenor Arena Cup","Njård Rennet","Ready Rennet","Euro-tecfarten","Oslo Alpinfestival SL","Oslo Alpinfestival SSL",null,"--------IRS Rennet----------",null,null,null,null,"----------Ljan Rennet---------",null,null,null,null,"-----Telenor Arena Cup----",null,null,null,null,"--------Njård Rennet----------",null,null,null,null,"--------Ready Rennet---------",null,null,null,null,"------Euro-tecfarten--------",null,null,null,null,"---Oslo Alpinfestival SL---",null,null,null,null,"---Oslo Alpinfestival SSL---"]
[null,null,null,null,null,"Antall",null,"2016-02-06","2016-02-07","2016-02-10","2016-02-12","2016-02-13","2016-03-08","2016-04-02","2016-04-03",null,"Poeng","2016-02-06","2016-02-07","2016-02-10","2016-02-12","2016-02-13","2016-03-08","2016-04-02","2016-04-03",null,null,"--------Poeng--------",null,null,null,null,"--------Poeng--------",null,null,null,null,"-------Poeng---------",null,null,null,null,"-------Poeng---------",null,null,null,null,"-------Poeng---------",null,null,null,null,"-------Poeng---------",null,null,null,null,"-------Poeng---------",null,null,null,null,"-------Poeng---------"]
["Plass","Etternavn","Fornavn","Klubb","Poeng","renn",null,"------------------------------Plassering i rennene---------------------------------",null,null,null,null,null,null,null,null,"brutto","----------------Resultatpoeng hvis mer enn 4 renn----------------",null,null,null,null,null,null,null,null,"Plass","Res.","Del.","Tot.",null,"Plass","Res.","Del.","Tot.",null,"Plass","Res.","Del.","Tot.",null,"Plass","Res.","Del.","Tot.",null,"Plass","Res.","Del.","Tot.",null,"Plass","Res.","Del.","Tot.",null,"Plass","Res.","Del.","Tot.",null,"Plass","Res.","Del.","Tot."]
[1,"Ulrichsen Vigsnæs ","Victor","Heming",{"$f":"Q36-U36","v":370},{"$f":"COUNT(AC36,AH36,AM36,AR36,AW36,BB36,BG36,BL36)","v":6},null,{"$f":"IF(AA36=\"\",\"\",AA36)","v":1},{"$f":"IF(AF36=\"\",\"\",AF36)","v":2},{"$f":"IF(AK36=\"\",\"\",AK36)","v":2},{"$f":"IF(AP36=\"\",\"\",AP36)","v":3},{"$f":"IF(AU36=\"\",\"\",AU36)","v":"DNF"},{"$f":"IF(AZ36=\"\",\"\",AZ36)","v":2},{"$f":"IF(BE36=\"\",\"\",BE36)","v":""},{"$f":"IF(BJ36=\"\",\"\",BJ36)","v":""},null,{"$f":"AD36+AI36+AN36+AS36+AX36+BC36+BH36+BM36","v":430},{"$f":"IF($F36>=5,IF(AB36=\"\",\"\",AB36),\"\")","v":100},{"$f":"IF($F36>=5,IF(AG36=\"\",\"\",AG36),\"\")","v":80},{"$f":"IF($F36>=5,IF(AL36=\"\",\"\",AL36),\"\")","v":80},{"$f":"IF($F36>=5,IF(AQ36=\"\",\"\",AQ36),\"\")","v":60},{"$f":"IF($F36>=5,IF(AV36=\"\",\"\",AV36),\"\")","v":0},{"$f":"IF($F36>=5,IF(BA36=\"\",\"\",BA36),\"\")","v":80},{"$f":"IF($F36>=5,IF(BF36=\"\",\"\",BF36),\"\")","v":""},{"$f":"IF($F36>=5,IF(BK36=\"\",\"\",BK36),\"\")","v":""},null,1,100,5,{"$f":"AB36+AC36","v":105},null,2,80,5,{"$f":"AG36+AH36","v":85},null,2,80,5,{"$f":"AL36+AM36","v":85},null,3,60,5,{"$f":"AQ36+AR36","v":65},null,"DNF",0,5,{"$f":"AV36+AW36","v":5},null,2,80,5,{"$f":"BA36+BB36","v":85},null,null,null,null,{"$f":"BF36+BG36","v":0},null,null,null,null,{"$f":"BK36+BL36","v":0}]
[2,"Fosseidbråten ","Joakim","Ready",{"$f":"Q37-T37","v":330},6,null,"DSQ",1,6,6,3,1,"","",null,370,0,100,40,40,60,100,"","",null,"DSQ",0,5,5,null,1,100,5,105,null,6,40,5,45,null,6,40,5,45,null,3,60,5,65,null,1,100,5,105,null,null,null,null,0,null,null,null,null,0]
[3,"Bakkevig ","Rasmus","Heming",{"$f":"Q38","v":314},5,null,9,"",1,1,"DNF",3,"","",null,314,29,"",100,100,0,60,"","",null,9,29,5,34,null,null,null,null,0,null,1,100,5,105,null,1,100,5,105,null,"DNF",0,5,5,null,3,60,5,65,null,null,null,null,0,null,null,null,null,0]
[4,"Lunder","Peder","Stabæk  ",{"$f":"Q39","v":305},4,null,"","",3,2,1,5,"","",null,305,"","","","","","","","",null,null,null,null,0,null,null,null,null,0,null,3,60,5,65,null,2,80,5,85,null,1,100,5,105,null,5,45,5,50,null,null,null,null,0,null,null,null,null,0]
[5,"Østrøm ","Christoffer","Heming",{"$f":"Q40","v":290},5,null,2,3,5,"DSQ",2,"","","",null,290,80,60,45,0,80,"","","",null,2,80,5,85,null,3,60,5,65,null,5,45,5,50,null,"DSQ",0,5,5,null,2,80,5,85,null,null,null,null,0,null,null,null,null,0,null,null,null,null,0]
[6,"Cappelen Mazzocchi ","Mats","Heming",{"$f":"Q41-U41","v":190},6,null,6,6,"DSQ",9,6,6,"","",null,219,40,40,0,29,40,40,"","",null,6,40,5,45,null,6,40,5,45,null,"DSQ",0,5,5,null,9,29,5,34,null,6,40,5,45,null,6,40,5,45,null,null,null,null,0,null,null,null,null,0]
[6,"Sellæg ","Johannes","Ready",{"$f":"Q42-U42","v":190},5,null,3,4,10,11,9,"","","",null,214,60,50,26,24,29,"","","",null,3,60,5,65,null,4,50,5,55,null,10,26,5,31,null,11,24,5,29,null,9,29,5,34,null,null,null,null,0,null,null,null,null,0,null,null,null,null,0]
[8,"Fredriksen","Mathias","Heming",{"$f":"Q43","v":188},4,null,"","",8,7,4,4,"","",null,188,"","","","","","","","",null,null,null,null,0,null,null,null,null,0,null,8,32,5,37,null,7,36,5,41,null,4,50,5,55,null,4,50,5,55,null,null,null,null,0,null,null,null,null,0]
[9,"Nergaard ","Sverre","Heming",150,5,null,"DSQ",7,19,8,5,"","","",null,150,0,36,12,32,45,"","","",null,"DSQ",0,5,5,null,7,36,5,41,null,19,12,5,17,null,8,32,5,37,null,5,45,5,50,null,null,null,null,0,null,null,null,null,0,null,null,null,null,0]
[10,"Lorentzen ","Carl Axel","Heming",146,4,null,8,"",9,10,7,"","","",null,146,"","","","","","","","",null,8,32,5,37,null,null,null,null,0,null,9,32,5,37,null,10,26,5,31,null,7,36,5,41,null,null,null,null,0,null,null,null,null,0,null,null,null,null,0]
[11,"Schei ","Viktor","IRS",138,5,null,5,"DSQ",12,13,10,"","","",null,138,45,0,22,20,26,"","","",null,5,45,5,50,null,"DSQ",0,5,5,null,12,22,5,27,null,13,20,5,25,null,10,26,5,31,null,null,null,null,0,null,null,null,null,0,null,null,null,null,0]
[12,"Gjetsund ","Eivind","Heming",133,4,null,7,9,11,"",11,"","","",null,133,"","","","","","","","",null,7,36,5,41,null,9,29,5,34,null,11,24,5,29,null,null,null,null,0,null,11,24,5,29,null,null,null,null,0,null,null,null,null,0,null,null,null,null,0]
[13,"Rasmussen","Jonathan Holst","Stabæk  ",132,3,null,"","",7,5,"",7,"","",null,132,"","","","","","","","",null,null,null,null,0,null,null,null,null,0,null,7,36,5,41,null,5,45,5,50,null,null,null,null,0,null,7,36,5,41,null,null,null,null,0,null,null,null,null,0]
[14,"Torrissen Ingulstad","Philip","Kjelsås  ",113,4,null,"","",13,12,12,9,"","",null,113,"","","","","","","","",null,null,null,null,0,null,null,null,null,0,null,13,20,5,25,null,12,22,5,27,null,12,22,5,27,null,9,29,5,34,null,null,null,null,0,null,null,null,null,0]
[15,"Bengston","Sebastian","Heming",110,2,null,"","",4,4,"","","","",null,110,"","","","","","","","",null,null,null,null,0,null,null,null,null,0,null,4,50,5,55,null,4,50,5,55,null,null,null,null,0,null,null,null,null,0,null,null,null,null,0,null,null,null,null,0]
[15,"Buchardt ","Aksel","Heming",110,3,null,4,5,"","","","DSQ","","",null,110,"","","","","","","","",null,4,50,5,55,null,5,45,5,50,null,null,null,null,0,null,null,null,null,0,null,null,null,null,0,null,"DSQ",0,5,5,null,null,null,null,0,null,null,null,null,0]
[17,"Nordklev","Ola","Heming",53,2,null,"",8,20,"","","","","",null,53,"","","","","","","","",null,null,null,null,0,null,8,32,5,37,null,20,11,5,16,null,null,null,null,0,null,null,null,null,0,null,null,null,null,0,null,null,null,null,0,null,null,null,null,0]
[18,"Hoist","Marcus","Kjelsås  ",44,2,null,"","",17,"",13,"","","",null,44,"","","","","","","","",null,null,null,null,0,null,null,null,null,0,null,17,14,5,19,null,null,null,null,0,null,13,20,5,25,null,null,null,null,0,null,null,null,null,0,null,null,null,null,0]
[19,"Solheim","Erik Lund","Ready",42,2,null,"","","","DNF",8,"","","",null,42,"","","","","","","","",null,null,null,null,0,null,null,null,null,0,null,null,null,null,0,null,"DNF",0,5,5,null,8,32,5,37,null,null,null,null,0,null,null,null,null,0,null,null,null,null,0]
[20,"Blomqvist","Fredrik","Hakadal",37,1,null,"","","","","",8,"","",null,37,"","","","","","","","",null,null,null,null,0,null,null,null,null,0,null,null,null,null,0,null,null,null,null,0,null,null,null,null,0,null,8,32,5,37,null,null,null,null,0,null,null,null,null,0]
[21,"Maaø ","Filippo Fregosi","Ljan Alpin",33,3,null,"DNF","DSQ","",14,"","","","",null,33,"","","","","","","","",null,"DNF",0,5,5,null,"DSQ",0,5,5,null,null,null,null,0,null,14,18,5,23,null,null,null,null,0,null,null,null,null,0,null,null,null,null,0,null,null,null,null,0]
[22,"Maribo Alexander","Alexander","HSIL",31,1,null,"","","","","",10,"","",null,31,"","","","","","","","",null,null,null,null,0,null,null,null,null,0,null,null,null,null,0,null,null,null,null,0,null,null,null,null,0,null,10,26,5,31,null,null,null,null,0,null,null,null,null,0]
[23,"Brandt","Kasper","Heming",23,1,null,"","",14,"","","","","",null,23,"","","","","","","","",null,null,null,null,0,null,null,null,null,0,null,14,18,5,23,null,null,null,null,0,null,null,null,null,0,null,null,null,null,0,null,null,null,null,0,null,null,null,null,0]
[{"$f":"IF(E59<E58,#REF!,A58)","v":23},"Wall","Tilden",null,23,1,null,"","","","",14,"","","",null,23,"","","","","","","","",null,null,null,null,0,null,null,null,null,0,null,null,null,null,0,null,null,null,null,0,null,14,18,5,23,null,null,null,null,0,null,null,null,null,0,null,null,null,null,0]
[24,"Tschudi Nytvedt","Nicholas","Heming",21,1,null,"","",15,"","","","","",null,21,"","","","","","","","",null,null,null,null,0,null,null,null,null,0,null,15,16,5,21,null,null,null,null,0,null,null,null,null,0,null,null,null,null,0,null,null,null,null,0,null,null,null,null,0]
[{"$f":"IF(E61<E60,#REF!,A60)","v":24},"Lorange","William","Njård",21,1,null,"","","",15,"","","","",null,21,"","","","","","","","",null,null,null,null,0,null,null,null,null,0,null,null,null,null,0,null,15,16,5,21,null,null,null,null,0,null,null,null,null,0,null,null,null,null,0,null,null,null,null,0]
[25,"Ringvold","Wilhelm","Heming",20,1,null,"","",16,"","","","","",null,20,"","","","","","","","",null,null,null,null,0,null,null,null,null,0,null,16,15,5,20,null,null,null,null,0,null,null,null,null,0,null,null,null,null,0,null,null,null,null,0,null,null,null,null,0]
[26,"Hassel","Anton","Kjelsås  ",18,1,null,"","",18,"","","","","",null,18,"","","","","","","","",null,null,null,null,0,null,null,null,null,0,null,18,13,5,18,null,null,null,null,0,null,null,null,null,0,null,null,null,null,0,null,null,null,null,0,null,null,null,null,0]
[27,"Gras","Nicolas","Ljan Alpin",5,1,null,"","DSQ","","","","","","",null,5,"","","","","","","","",null,null,null,null,0,null,"DSQ",0,5,5,null,null,null,null,0,null,null,null,null,0,null,null,null,null,0,null,null,null,null,0,null,null,null,null,0,null,null,null,null,0]
[{"$f":"IF(E65<E64,#REF!,A64)","v":27},"Sundby","Alexander","Heming",5,1,null,"","","DSQ","","","","","",null,5,"","","","","","","","",null,null,null,null,0,null,null,null,null,0,null,"DSQ",0,5,5,null,null,null,null,0,null,null,null,null,0,null,null,null,null,0,null,null,null,null,0,null,null,null,null,0]
[{"$f":"IF(E66<E65,#REF!,A65)","v":27},"Stenbekken ","Tov Andre","Lørenskog",5,1,null,"","","","","","DSQ","","",null,5,"","","","","","","","",null,null,null,null,0,null,null,null,null,0,null,null,null,null,0,null,null,null,null,0,null,null,null,null,0,null,"DSQ",0,5,5,null,null,null,null,0,null,null,null,null,0]
[]
["Resultatliste Oslo Cup 2016 - Jenter 12 år"]
["Etter 6 av 8 renn"]
[null,null,null,null,null,null,null,"IRS Rennet","Ljan Rennet","Telenor Arena Cup","Njård Rennet","Ready Rennet","Euro-tecfarten","Oslo Alpinfestival SL","Oslo Alpinfestival SSL",null,null,"IRS Rennet","Ljan Rennet","Telenor Arena Cup","NjårdRennet","Ready Rennet","Euro-tecfarten","Oslo Alpinfestival SL","Oslo Alpinfestival SSL",null,"--------IRS Rennet----------",null,null,null,null,"----------Ljan Rennet---------",null,null,null,null,"-----Telenor Arena Cup----",null,null,null,null,"--------Njård Rennet----------",null,null,null,null,"--------Ready Rennet---------",null,null,null,null,"------Euro-tecfarten--------",null,null,null,null,"---Oslo Alpinfestival SL---",null,null,null,null,"---Oslo Alpinfestival SSL---"]
[null,null,null,null,null,"Antall",null,"2016-02-06","2016-02-07","2016-02-10","2016-02-12","2016-02-13","2016-03-08","2016-04-02","2016-04-03",null,"Poeng","2016-02-06","2016-02-07","2016-02-10","2016-02-12","2016-02-13","2016-03-08","2016-04-02","2016-04-03",null,null,"--------Poeng--------",null,null,null,null,"--------Poeng--------",null,null,null,null,"-------Poeng---------",null,null,null,null,"-------Poeng---------",null,null,null,null,"-------Poeng---------",null,null,null,null,"-------Poeng---------",null,null,null,null,"-------Poeng---------",null,null,null,null,"-------Poeng---------"]
["Plass","Etternavn","Fornavn","Klubb","Poeng","renn",null,"------------------------------Plassering i rennene---------------------------------",null,null,null,null,null,null,null,null,"brutto","----------------Resultatpoeng hvis mer enn 4 renn----------------",null,null,null,null,null,null,null,null,"Plass","Res.","Del.","Tot.",null,"Plass","Res.","Del.","Tot.",null,"Plass","Res.","Del.","Tot.",null,"Plass","Res.","Del.","Tot.",null,"Plass","Res.","Del.","Tot.",null,"Plass","Res.","Del.","Tot.",null,"Plass","Res.","Del.","Tot.",null,"Plass","Res.","Del.","Tot."]
[1,"Haugen ","Ulrikke","Heming",{"$f":"Q73-R73-T73","v":410},{"$f":"COUNT(AC73,AH73,AM73,AR73,AW73,BB73,BG73,BL73)","v":6},null,{"$f":"IF(AA73=\"\",\"\",AA73)","v":"DNF"},{"$f":"IF(AF73=\"\",\"\",AF73)","v":1},{"$f":"IF(AK73=\"\",\"\",AK73)","v":2},{"$f":"IF(AP73=\"\",\"\",AP73)","v":2},{"$f":"IF(AU73=\"\",\"\",AU73)","v":1},{"$f":"IF(AZ73=\"\",\"\",AZ73)","v":1},{"$f":"IF(BE73=\"\",\"\",BE73)","v":""},{"$f":"IF(BJ73=\"\",\"\",BJ73)","v":""},null,{"$f":"AD73+AI73+AN73+AS73+AX73+BC73+BH73+BM73","v":490},{"$f":"IF($F73>=5,IF(AB73=\"\",\"\",AB73),\"\")","v":0},{"$f":"IF($F73>=5,IF(AG73=\"\",\"\",AG73),\"\")","v":100},{"$f":"IF($F73>=5,IF(AL73=\"\",\"\",AL73),\"\")","v":80},{"$f":"IF($F73>=5,IF(AQ73=\"\",\"\",AQ73),\"\")","v":80},{"$f":"IF($F73>=5,IF(AV73=\"\",\"\",AV73),\"\")","v":100},{"$f":"IF($F73>=5,IF(BA73=\"\",\"\",BA73),\"\")","v":100},{"$f":"IF($F73>=5,IF(BF73=\"\",\"\",BF73),\"\")","v":""},{"$f":"IF($F73>=5,IF(BK73=\"\",\"\",BK73),\"\")","v":""},null,"DNF",0,5,{"$f":"AB73+AC73","v":5},null,1,100,5,{"$f":"AG73+AH73","v":105},null,2,80,5,{"$f":"AL73+AM73","v":85},null,2,80,5,{"$f":"AQ73+AR73","v":85},null,1,100,5,{"$f":"AV73+AW73","v":105},null,1,100,5,{"$f":"BA73+BB73","v":105},null,null,null,null,{"$f":"BF73+BG73","v":0},null,null,null,null,{"$f":"BK73+BL73","v":0}]
[2,"Nordhus ","Mathilde Schjøth-Iversen","Heming",{"$f":"Q74-U74-V74","v":320},6,null,1,2,4,8,5,3,"","",null,397,100,80,50,32,45,60,"","",null,1,100,5,105,null,2,80,5,85,null,4,50,5,55,null,8,32,5,37,null,5,45,5,50,null,3,60,5,65,null,null,null,null,0,null,null,null,null,0]
[3,"Ringstad ","Linnea","Ready",{"$f":"Q75","v":270},5,null,"DSQ",5,3,3,2,"","","",null,270,0,45,60,60,80,"","","",null,"DSQ",0,5,5,null,5,45,5,50,null,3,60,5,65,null,3,60,5,65,null,2,80,5,85,null,null,null,null,0,null,null,null,null,0,null,null,null,null,0]
[4,"Elmenhorst-Larsen ","Elise","Ready",{"$f":"Q76-T76","v":225},5,null,3,3,7,6,6,"","","",null,261,60,60,36,40,40,"","","",null,3,60,5,65,null,3,60,5,65,null,7,36,5,41,null,6,40,5,45,null,6,40,5,45,null,null,null,null,0,null,null,null,null,0,null,null,null,null,0]
[5,"Klock-Lundgård ","Henriette","IRS",{"$f":"Q77-T77","v":221},5,null,7,4,10,4,3,"","","",null,247,36,50,26,50,60,"","","",null,7,36,5,41,null,4,50,5,55,null,10,26,5,31,null,4,50,5,55,null,3,60,5,65,null,null,null,null,0,null,null,null,null,0,null,null,null,null,0]
[6,"Moe ","Josefine Tunli","Heming",{"$f":"Q78-W78","v":217},5,null,2,"",6,7,7,10,"","",null,243,80,"",40,36,36,26,"","",null,2,80,5,85,null,null,null,null,0,null,6,40,5,45,null,7,36,5,41,null,7,36,5,41,null,10,26,5,31,null,null,null,null,0,null,null,null,null,0]
[7,"Kaasa","Emilie","Stabæk",{"$f":"Q79","v":210},2,null,"","",1,1,"","","","",null,210,"","","","","","","","",null,null,null,null,0,null,null,null,null,0,null,1,100,5,105,null,1,100,5,105,null,null,null,null,0,null,null,null,null,0,null,null,null,null,0,null,null,null,null,0]
[8,"Ringstad ","Adele","Ready",{"$f":"Q80-S80","v":205},5,null,6,9,5,5,4,"","","",null,234,40,29,45,45,50,"","","",null,6,40,5,45,null,9,29,5,34,null,5,45,5,50,null,5,45,5,50,null,4,50,5,55,null,null,null,null,0,null,null,null,null,0,null,null,null,null,0]
[9,"Efskind ","Astrid","Kjelsås",{"$f":"Q81-T81-S81","v":181},6,null,4,10,11,9,8,6,"","",null,231,50,26,24,29,32,40,"","",null,4,50,5,55,null,10,26,5,31,null,11,24,5,29,null,9,29,5,34,null,8,32,5,37,null,6,40,5,45,null,null,null,null,0,null,null,null,null,0]
[10,"Meidell ","Cornelia","Heming",{"$f":"Q82-U82-T82","v":169},6,null,5,7,9,11,9,9,"","",null,222,45,36,29,24,29,29,"","",null,5,45,5,50,null,7,36,5,41,null,9,29,5,34,null,11,24,5,29,null,9,29,5,34,null,9,29,5,34,null,null,null,null,0,null,null,null,null,0]
[11,"Wessel-Aas ","Charlotta","Heming",{"$f":"Q83","v":139},4,null,8,11,14,"","",5,"","",null,139,"","","","","","","","",null,8,32,5,37,null,11,24,5,29,null,14,18,5,23,null,null,null,null,0,null,null,null,null,0,null,5,45,5,50,null,null,null,null,0,null,null,null,null,0]
[12,"Alsos ","Una","Ready",{"$f":"Q84-R84-S84","v":138},6,null,15,"DSQ",8,10,10,11,"","",null,154,16,0,32,26,26,24,"","",null,15,16,5,21,null,"DSQ",0,5,5,null,8,32,5,37,null,10,26,5,31,null,10,26,5,31,null,11,24,5,29,null,null,null,null,0,null,null,null,null,0]
[13,"Mortensen ","Ada Pilvik","IRS",{"$f":"Q85-T85-W85","v":132},6,null,11,6,15,15,12,16,"","",null,163,24,40,16,16,22,15,"","",null,11,24,5,29,null,6,40,5,45,null,15,16,5,21,null,15,16,5,21,null,12,22,5,27,null,16,15,5,20,null,null,null,null,0,null,null,null,null,0]
[14,"Frøland ","Julie Isaksen","Ready",{"$f":"Q86-T86","v":129},5,null,10,8,13,12,11,"","","",null,149,26,32,20,22,24,"","","",null,10,26,5,31,null,8,32,5,37,null,13,20,5,25,null,12,22,5,27,null,11,24,5,29,null,null,null,null,0,null,null,null,null,0,null,null,null,null,0]
[15,"Syrrist ","Henriethe","IRS",{"$f":"Q87","v":109},5,null,9,"DSQ",16,13,13,"","","",null,109,29,0,15,20,20,"","","",null,9,29,5,34,null,"DSQ",0,5,5,null,16,15,5,20,null,13,20,5,25,null,13,20,5,25,null,null,null,null,0,null,null,null,null,0,null,null,null,null,0]
[16,"Bjarøy Rolén ","Hedda","Heming",88,6,null,"DSQ","DSQ","DNF",14,14,12,"","",null,88,0,0,0,18,18,22,"","",null,"DSQ",0,5,5,null,"DSQ",0,5,5,null,"DNF",0,5,5,null,14,18,5,23,null,14,18,5,23,null,12,22,5,27,null,null,null,null,0,null,null,null,null,0]
[17,"Strand","Sofie","BSK",85,1,null,"","","","","",2,"","",null,{"$f":"AD89+AI89+AN89+AS89+AX89+BC89+BH89","v":85},"","","","","","","","",null,null,null,null,0,null,null,null,null,0,null,null,null,null,0,null,null,null,null,0,null,null,null,null,0,null,2,80,5,85,null,null,null,null,0,null,null,null,null,0]
[18,"Smalberget ","Hanna Amalie","Kjelsås",83,4,null,14,13,19,18,"","","","",null,{"$f":"AD90+AI90+AN90+AS90+AX90+BC90+BH90+BM90","v":83},"","","","","","","","",null,14,18,5,23,null,13,20,5,25,null,19,12,5,17,null,18,13,5,18,null,null,null,null,0,null,null,null,null,0,null,null,null,null,0,null,null,null,null,0]
[19,"Grone","Sophie","Heming",82,4,null,"","",18,16,15,14,"","",null,{"$f":"AD91+AI91+AN91+AS91+AX91+BC91+BH91+BM91","v":82},"","","","","","","","",null,null,null,null,0,null,null,null,null,0,null,18,13,5,18,null,16,15,5,20,null,15,16,5,21,null,14,18,5,23,null,null,null,null,0,null,null,null,null,0]
[20,"Høiden Rolland ","Erika Mathilde","Kjelsås",75,4,null,18,14,22,"","",17,"","",null,{"$f":"AD92+AI92+AN92+AS92+AX92+BC92+BH92+BM92","v":75},"","","","","","","","",null,18,13,5,18,null,14,18,5,23,null,22,9,5,14,null,null,null,null,0,null,null,null,null,0,null,17,15,5,20,null,null,null,null,0,null,null,null,null,0]
[21,"Gudem","Luna","IRS",68,2,null,"","",12,"","",7,"","",null,{"$f":"AD93+AI93+AN93+AS93+AX93+BC93+BH93+BM93","v":68},"","","","","","","","",null,null,null,null,0,null,null,null,null,0,null,12,22,5,27,null,null,null,null,0,null,null,null,null,0,null,7,36,5,41,null,null,null,null,0,null,null,null,null,0]
[22,"Lurås","Anniken","Stabæk",55,1,null,"","","","","",4,"","",null,{"$f":"AD94+AI94+AN94+AS94+AX94+BC94+BH94","v":55},"","","","","","","","",null,null,null,null,0,null,null,null,null,0,null,null,null,null,0,null,null,null,null,0,null,null,null,null,0,null,4,50,5,55,null,null,null,null,0,null,null,null,null,0]
[23,"Jacobsen Krosby ","Ida Sofie","Kjelsås",52,2,null,13,12,"","","","","","",null,{"$f":"AD95+AI95+AN95+AS95+AX95+BC95+BH95+BM95","v":52},"","","","","","","","",null,13,20,5,25,null,12,22,5,27,null,null,null,null,0,null,null,null,null,0,null,null,null,null,0,null,null,null,null,0,null,null,null,null,0,null,null,null,null,0]
[24,"Wormdahl ","Cathrine Benjamin","Heming",46,2,null,12,"",17,"","","","","",null,{"$f":"AD96+AI96+AN96+AS96+AX96+BC96+BH96+BM96","v":46},"","","","","","","","",null,12,22,5,27,null,null,null,null,0,null,17,14,5,19,null,null,null,null,0,null,null,null,null,0,null,null,null,null,0,null,null,null,null,0,null,null,null,null,0]
[25,"Abelgaard Thomassen ","Frida","Ljan",37,2,null,17,"","","","",18,"","",null,{"$f":"AD97+AI97+AN97+AS97+AX97+BC97+BH97+BM97","v":37},"","","","","","","","",null,17,14,5,19,null,null,null,null,0,null,null,null,null,0,null,null,null,null,0,null,null,null,null,0,null,18,13,5,18,null,null,null,null,0,null,null,null,null,0]
[{"$f":"IF(E98<E97,#REF!,A97)","v":25},"Forårsveen ","Lisa","Hakadal",37,1,null,"","","","","",8,"","",null,{"$f":"AD98+AI98+AN98+AS98+AX98+BC98+BH98","v":37},"","","","","","","","",null,null,null,null,0,null,null,null,null,0,null,null,null,null,0,null,null,null,null,0,null,null,null,null,0,null,8,32,5,37,null,null,null,null,0,null,null,null,null,0]
[27,"Hansen","Mina","Hakadal",25,1,null,"","","","",{"$f":"IF(AQ99=\"\",\"\",AQ99)","v":""},{"$f":"IF(AU99=\"\",\"\",AU99)","v":""},{"$f":"IF(AZ99=\"\",\"\",AZ99)","v":13},{"$f":"IF(BE99=\"\",\"\",BE99)","v":""},null,{"$f":"AD99+AI99+AN99+AS99+AX99+BC99+BH99","v":25},"","","","","","","","",null,null,null,null,0,null,null,null,null,0,null,null,null,null,0,null,null,null,null,0,null,null,null,null,0,null,13,20,5,25,null,null,null,null,0,null,null,null,null,0]
[28,"Løchen","Sarah","Hakadal",21,1,null,"","","","",{"$f":"IF(AQ100=\"\",\"\",AQ100)","v":""},{"$f":"IF(AU100=\"\",\"\",AU100)","v":""},{"$f":"IF(AZ100=\"\",\"\",AZ100)","v":15},{"$f":"IF(BE100=\"\",\"\",BE100)","v":""},null,{"$f":"AD100+AI100+AN100+AS100+AX100+BC100+BH100","v":21},"","","","","","","","",null,null,null,null,0,null,null,null,null,0,null,null,null,null,0,null,null,null,null,0,null,null,null,null,0,null,15,16,5,21,null,null,null,null,0,null,null,null,null,0]
[29,"Refsum Fanny","Fanny","Heming",20,1,null,16,"","","",{"$f":"IF(AU101=\"\",\"\",AU101)","v":""},{"$f":"IF(AZ101=\"\",\"\",AZ101)","v":""},{"$f":"IF(BE101=\"\",\"\",BE101)","v":""},{"$f":"IF(BJ101=\"\",\"\",BJ101)","v":""},null,{"$f":"AD101+AI101+AN101+AS101+AX101+BC101+BH101+BM101","v":20},"","","","","","","","",null,16,15,5,20,null,null,null,null,0,null,null,null,null,0,null,null,null,null,0,null,null,null,null,0,null,null,null,null,0,null,null,null,null,0,null,null,null,null,0]
[30,"Spone","Carmen","Heming",19,1,null,"","","",17,"","","","",null,{"$f":"AD102+AI102+AN102+AS102+AX102+BC102+BH102","v":19},"","","","","","","","",null,null,null,null,0,null,null,null,null,0,null,null,null,null,0,null,17,14,5,19,null,null,null,null,0,null,null,null,null,0,null,null,null,null,0,null,null,null,null,0]
[31,"Jakobsen","Alexandra Rafen","Njård",17,1,null,"","","",19,"","","","",null,{"$f":"AD103+AI103+AN103+AS103+AX103+BC103+BH103","v":17},"","","","","","","","",null,null,null,null,0,null,null,null,null,0,null,null,null,null,0,null,19,12,5,17,null,null,null,null,0,null,null,null,null,0,null,null,null,null,0,null,null,null,null,0]
[32,"Feinberg","Rebekka","Heming",16,1,null,"","",20,"","","","","",null,{"$f":"AD104+AI104+AN104+AS104+AX104+BC104+BH104+BM104","v":16},"","","","","","","","",null,null,null,null,0,null,null,null,null,0,null,20,11,5,16,null,null,null,null,0,null,null,null,null,0,null,null,null,null,0,null,null,null,null,0,null,null,null,null,0]
[33,"Skovholt","Iris","Heming",15,1,null,"","",21,"","","","","",null,{"$f":"AD105+AI105+AN105+AS105+AX105+BC105+BH105+BM105","v":15},"","","","","","","","",null,null,null,null,0,null,null,null,null,0,null,21,10,5,15,null,null,null,null,0,null,null,null,null,0,null,null,null,null,0,null,null,null,null,0,null,null,null,null,0]
[34,"Thelle","Cecilie","Kjelsås",5,1,null,"","DSQ","","","","","","",null,{"$f":"AD106+AI106+AN106+AS106+AX106+BC106+BH106+BM106","v":5},"","","","","","","","",null,null,null,null,0,null,"DSQ",0,5,5,null,null,null,null,0,null,null,null,null,0,null,null,null,null,0,null,null,null,null,0,null,null,null,null,0,null,null,null,null,0]
[]
["Resultatliste Oslo Cup 2016 - Gutter 12 år"]
["Etter 6 av 8 renn"]
[null,null,null,null,null,null,null,"IRS Rennet","Ljan Rennet","Telenor Arena Cup","Njård Rennet","Ready Rennet","Euro-tecfarten","Oslo Alpinfestival SL","Oslo Alpinfestival SSL",null,null,"IRS Rennet","Ljan Rennet","Telenor Arena Cup","Njård Rennet","Ready Rennet","Euro-tecfarten","Oslo Alpinfestival SL","Oslo Alpinfestival SSL",null,"--------IRS Rennet----------",null,null,null,null,"----------Ljan Rennet---------",null,null,null,null,"-----Telenor Arena Cup----",null,null,null,null,"--------Njård Rennet----------",null,null,null,null,"--------Ready Rennet---------",null,null,null,null,"------Euro-tecfarten--------",null,null,null,null,"---Oslo Alpinfestival SL---",null,null,null,null,"---Oslo Alpinfestival SSL---"]
[null,null,null,null,null,"Antall",null,"2016-02-06","2016-02-07","2016-02-10","2016-02-12","2016-02-13","2016-03-08","2016-04-02","2016-04-03",null,"Poeng","2016-02-06","2016-02-07","2016-02-10","2016-02-12","2016-02-13","2016-03-08","2016-04-02","2016-04-03",null,null,"--------Poeng--------",null,null,null,null,"--------Poeng--------",null,null,null,null,"-------Poeng---------",null,null,null,null,"-------Poeng---------",null,null,null,null,"-------Poeng---------",null,null,null,null,"-------Poeng---------",null,null,null,null,"-------Poeng---------",null,null,null,null,"-------Poeng---------"]
["Plass","Etternavn","Fornavn","Klubb","Poeng","renn",null,"------------------------------Plassering i rennene---------------------------------",null,null,null,null,null,null,null,null,"brutto","----------------Resultatpoeng hvis mer enn 4 renn----------------",null,null,null,null,null,null,null,null,"Plass","Res.","Del.","Tot.",null,"Plass","Res.","Del.","Tot.",null,"Plass","Res.","Del.","Tot.",null,"Plass","Res.","Del.","Tot.",null,"Plass","Res.","Del.","Tot.",null,"Plass","Res.","Del.","Tot.",null,"Plass","Res.","Del.","Tot.",null,"Plass","Res.","Del.","Tot."]
[1,"Brækken ","Theodor","IRS",{"$f":"Q113-V113-W113","v":390},{"$f":"COUNT(AC113,AH113,AM113,AR113,AW113,BB113,BG113,BL113)","v":6},null,{"$f":"IF(AA113=\"\",\"\",AA113)","v":1},{"$f":"IF(AF113=\"\",\"\",AF113)","v":2},{"$f":"IF(AK113=\"\",\"\",AK113)","v":1},{"$f":"IF(AP113=\"\",\"\",AP113)","v":2},{"$f":"IF(AU113=\"\",\"\",AU113)","v":2},{"$f":"IF(AZ113=\"\",\"\",AZ113)","v":4},{"$f":"IF(BE113=\"\",\"\",BE113)","v":""},{"$f":"IF(BJ113=\"\",\"\",BJ113)","v":""},null,{"$f":"AD113+AI113+AN113+AS113+AX113+BC113+BH113+BM113","v":520},{"$f":"IF($F113>=5,IF(AB113=\"\",\"\",AB113),\"\")","v":100},{"$f":"IF($F113>=5,IF(AG113=\"\",\"\",AG113),\"\")","v":80},{"$f":"IF($F113>=5,IF(AL113=\"\",\"\",AL113),\"\")","v":100},{"$f":"IF($F113>=5,IF(AQ113=\"\",\"\",AQ113),\"\")","v":80},{"$f":"IF($F113>=5,IF(AV113=\"\",\"\",AV113),\"\")","v":80},{"$f":"IF($F113>=5,IF(BA113=\"\",\"\",BA113),\"\")","v":50},{"$f":"IF($F113>=5,IF(BF113=\"\",\"\",BF113),\"\")","v":""},{"$f":"IF($F113>=5,IF(BK113=\"\",\"\",BK113),\"\")","v":""},null,1,100,5,{"$f":"AB113+AC113","v":105},null,2,80,5,{"$f":"AG113+AH113","v":85},null,1,100,5,{"$f":"AL113+AM113","v":105},null,2,80,5,{"$f":"AQ113+AR113","v":85},null,2,80,5,{"$f":"AV113+AW113","v":85},null,4,50,5,{"$f":"BA113+BB113","v":55},null,null,null,null,{"$f":"BF113+BG113","v":0},null,null,null,null,{"$f":"BK113+BL113","v":0}]
[{"$f":"IF(E114<E113,#REF!,A113)","v":1},"Sandvik ","Oscar Andreas","Ready",{"$f":"Q114-U114-W114","v":390},6,null,2,1,2,4,1,5,"","",null,485,80,100,80,50,100,45,"","",null,2,80,5,85,null,1,100,5,105,null,2,80,5,85,null,4,50,5,55,null,1,100,5,105,null,5,45,5,50,null,null,null,null,0,null,null,null,null,0]
[3,"Normannseth ","Frederik","Heming",{"$f":"Q115-T115-S115","v":310},6,null,3,4,5,1,3,3,"","",null,405,60,50,45,100,60,60,"","",null,3,60,5,65,null,4,50,5,55,null,5,45,5,50,null,1,100,5,105,null,3,60,5,65,null,3,60,5,65,null,null,null,null,0,null,null,null,null,0]
[{"$f":"IF(E116<E115,#REF!,A115)","v":3},"Haugen ","Tollef","Heming",{"$f":"Q116-R116-V116","v":310},6,null,"DSQ",3,3,3,4,1,"","",null,360,0,60,60,60,50,100,"","",null,"DSQ",0,5,5,null,3,60,5,65,null,3,60,5,65,null,3,60,5,65,null,4,50,5,55,null,1,100,5,105,null,null,null,null,0,null,null,null,null,0]
[5,"Lysklætt ","Alexander Eliassen","Heming",{"$f":"Q117-R117-W117","v":207},6,null,"DNF",4,8,5,5,9,"","",null,236,0,50,32,50,45,29,"","",null,"DNF",0,5,5,null,4,50,5,55,null,8,32,5,37,null,5,50,5,55,null,5,45,5,50,null,9,29,5,34,null,null,null,null,0,null,null,null,null,0]
[6,"Lødemel ","Christian","Heming",{"$f":"Q118-S118-T118","v":178},6,null,6,"DSQ",11,7,7,7,"","",null,202,40,0,24,36,36,36,"","",null,6,40,5,45,null,"DSQ",0,5,5,null,11,24,5,29,null,7,36,5,41,null,7,36,5,41,null,7,36,5,41,null,null,null,null,0,null,null,null,null,0]
[7,"Bjerknes ","Elias Raaholt","Ready",{"$f":"Q119-T119-W119","v":176},6,null,5,6,10,8,9,10,"","",null,228,45,40,26,32,29,26,"","",null,5,45,5,50,null,6,40,5,45,null,10,26,5,31,null,8,32,5,37,null,9,29,5,34,null,10,26,5,31,null,null,null,null,0,null,null,null,null,0]
[8,"Ertesvåg ","Kristoffer","TRY",{"$f":"Q120","v":154},5,null,4,"DSQ",14,9,8,"","","",null,154,50,0,18,29,32,"","","",null,4,50,5,55,null,"DSQ",0,5,5,null,14,18,5,23,null,9,29,5,34,null,8,32,5,37,null,null,null,null,0,null,null,null,null,0,null,null,null,null,0]
[9,"Hammer","Aksel","Stabæk",{"$f":"Q121","v":145},3,null,"","",4,"DNF","",2,"","",null,145,"","","","","","","","",null,null,null,null,0,null,null,null,null,0,null,4,50,5,55,null,"DNF",0,5,5,null,null,null,null,0,null,2,80,5,85,null,null,null,null,0,null,null,null,null,0]
[10,"Riege ","Jacob","Heming",{"$f":"Q122-T122-V122","v":128},6,null,9,8,"DNF",12,"DNQ",16,"","",null,128,29,32,0,22,0,15,"","",null,9,29,5,34,null,8,32,5,37,null,"DNF",0,5,5,null,12,22,5,27,null,"DNQ",0,5,5,null,16,15,5,20,null,null,null,null,0,null,null,null,null,0]
[11,"Frederiksen ","Carl Henrik","Ready",{"$f":"Q123","v":116},5,null,7,"DSQ",18,14,11,"","","",null,116,36,0,13,18,24,"","","",null,7,36,5,41,null,"DSQ",0,5,5,null,18,13,5,18,null,14,18,5,23,null,11,24,5,29,null,null,null,null,0,null,null,null,null,0,null,null,null,null,0]
[12,"Stangnes ","Eirik Svae","Heming",{"$f":"Q124-R124","v":110},5,null,"DNF","DSQ",9,"",6,15,"","",null,110,0,0,29,"",40,16,"","",null,"DNF",0,5,5,null,"DSQ",0,5,5,null,9,29,5,34,null,null,null,null,0,null,6,40,5,45,null,15,16,5,21,null,null,null,null,0,null,null,null,null,0]
[13,"Oksvik ","Martin Andreas","IRS",{"$f":"Q125","v":103},3,null,8,7,"",13,"","","","",null,103,"","","","","","","","",null,8,32,5,37,null,7,36,5,41,null,null,null,null,0,null,13,20,5,25,null,null,null,null,0,null,null,null,null,0,null,null,null,null,0,null,null,null,null,0]
[14,"Vodal","Haakon Folkenborg","Heming",{"$f":"Q126","v":97},4,null,"","",17,11,10,18,"","",null,97,"","","","","","","","",null,null,null,null,0,null,null,null,null,0,null,17,14,5,19,null,11,24,5,29,null,10,26,5,31,null,18,13,5,18,null,null,null,null,0,null,null,null,null,0]
[15,"Høiness-Cappelen ","Gustaf","Njård",{"$f":"Q127-T127","v":94},5,null,10,"",22,16,14,21,"","",null,103,26,"",9,15,18,10,"","",null,10,26,5,31,null,null,null,null,0,null,22,9,5,14,null,16,15,5,20,null,14,18,5,23,null,21,10,5,15,null,null,null,null,0,null,null,null,null,0]
[16,"Ragnhildstveit","Filip","Haslum",{"$f":"Q128","v":90},2,null,"","",6,"","",6,"","",null,90,"","","","","","","","",null,null,null,null,0,null,null,null,null,0,null,6,40,5,45,null,null,null,null,0,null,null,null,null,0,null,6,40,5,45,null,null,null,null,0,null,null,null,null,0]
[17,"Auren","Nicholas","Stabæk",75,3,null,"","","DNF",6,"",13,"","",null,75,"","","","","","","","",null,null,null,null,0,null,null,null,null,0,null,"DNF",0,5,5,null,6,40,5,45,null,null,null,null,0,null,13,20,5,25,null,null,null,null,0,null,null,null,null,0]
[18,"Meier","Jonatan","Kjelsås",74,4,null,"","",23,15,12,23,"","",null,74,"","","","","","","","",null,null,null,null,0,null,null,null,null,0,null,23,8,5,13,null,15,16,5,21,null,12,22,5,27,null,23,8,5,13,null,null,null,null,0,null,null,null,null,0]
[19,"Langsrud ","Einar","Heming",67,3,null,"DNF","",13,"","",8,"","",null,67,"","","","","","","","",null,"DNF",0,5,5,null,null,null,null,0,null,13,20,5,25,null,null,null,null,0,null,null,null,null,0,null,8,32,5,37,null,null,null,null,0,null,null,null,null,0]
[20,"Tveit","Oskar Børnick","Kjelsås",56,3,null,"","",19,"",13,22,"","",null,56,"","","","","","","","",null,null,null,null,0,null,null,null,null,0,null,19,12,5,17,null,null,null,null,0,null,13,20,5,25,null,22,9,5,14,null,null,null,null,0,null,null,null,null,0]
[21,"Sivertsen ","Didrik","TRY",47,2,null,11,"","",18,"","","","",null,47,"","","","","","","","",null,11,24,5,29,null,null,null,null,0,null,null,null,null,0,null,18,13,5,18,null,null,null,null,0,null,null,null,null,0,null,null,null,null,0,null,null,null,null,0]
[22,"Hepsøe","Torius","Haslum",41,1,null,"","",7,"","","","","",null,41,"","","","","","","","",null,null,null,null,0,null,null,null,null,0,null,7,36,5,41,null,null,null,null,0,null,null,null,null,0,null,null,null,null,0,null,null,null,null,0,null,null,null,null,0]
[23,"Ardem","Herman Andre","Kjelsås",40,2,null,"","","",17,{"$f":"IF(AQ135=\"\",\"\",AQ135)","v":14},{"$f":"IF(AU135=\"\",\"\",AU135)","v":15},{"$f":"IF(AZ135=\"\",\"\",AZ135)","v":""},{"$f":"IF(BE135=\"\",\"\",BE135)","v":""},null,{"$f":"AD135+AI135+AN135+AS135+AX135+BC135+BH135","v":40},"","","","","","","","",null,null,null,null,0,null,null,null,null,0,null,null,null,null,0,null,17,14,5,19,null,15,16,5,21,null,null,null,null,0,null,null,null,null,0,null,null,null,null,0]
[{"$f":"IF(E136<E135,#REF!,A135)","v":23},"Flagstad","Simon","HSIL",40,3,null,null,"",31,"",{"$f":"IF(AU136=\"\",\"\",AU136)","v":17},{"$f":"IF(AZ136=\"\",\"\",AZ136)","v":20},{"$f":"IF(BE136=\"\",\"\",BE136)","v":""},{"$f":"IF(BJ136=\"\",\"\",BJ136)","v":""},null,{"$f":"AD136+AI136+AN136+AS136+AX136+BC136+BH136+BM136","v":40},"","","","","","","","",null,null,null,null,0,null,null,null,null,0,null,31,0,5,5,null,null,null,null,0,null,17,14,5,19,null,20,11,5,16,null,null,null,null,0,null,null,null,null,0]
[25,"Stjernstrøm ","Jonas August","Ljan Alpin",39,2,null,{"$f":"IF(AA137=\"\",\"\",AA137)","v":"DNF"},9,"","",{"$f":"IF(AU137=\"\",\"\",AU137)","v":""},{"$f":"IF(AZ137=\"\",\"\",AZ137)","v":""},{"$f":"IF(BE137=\"\",\"\",BE137)","v":""},{"$f":"IF(BJ137=\"\",\"\",BJ137)","v":""},null,39,"","","","","","","","",null,"DNF",0,5,5,null,9,29,5,34,null,null,null,null,0,null,null,null,null,0,null,null,null,null,0,null,null,null,null,0,null,null,null,null,0,null,null,null,null,0]
[26,"Smedby","Håkon","BSK",31,1,null,"","","",10,{"$f":"IF(AQ138=\"\",\"\",AQ138)","v":26},{"$f":"IF(AU138=\"\",\"\",AU138)","v":""},{"$f":"IF(AZ138=\"\",\"\",AZ138)","v":""},{"$f":"IF(BE138=\"\",\"\",BE138)","v":""},null,31,"","","","","","","","",null,null,null,null,0,null,null,null,null,0,null,null,null,null,0,null,10,26,5,31,null,null,null,null,0,null,null,null,null,0,null,null,null,null,0,null,null,null,null,0]
[27,"Hemminghytt","Andreas","LiL Aplin",29,1,null,"","",null,"",{"$f":"IF(AU139=\"\",\"\",AU139)","v":""},{"$f":"IF(AZ139=\"\",\"\",AZ139)","v":11},{"$f":"IF(BE139=\"\",\"\",BE139)","v":""},{"$f":"IF(BJ139=\"\",\"\",BJ139)","v":""},null,29,"","","","","","","","",null,null,null,null,0,null,null,null,null,0,null,null,null,null,0,null,null,null,null,0,null,null,null,null,0,null,11,24,5,29,null,null,null,null,0,null,null,null,null,0]
[28,"Cock","Christopher","Heming",28,2,null,"","",{"$f":"IF(AK140=\"\",\"\",AK140)","v":28},"",16,"","","",null,28,"","","","","","","","",null,null,null,null,0,null,null,null,null,0,null,28,3,5,8,null,null,null,null,0,null,16,15,5,20,null,null,null,null,0,null,null,null,null,0,null,null,null,null,0]
[{"$f":"IF(E141<E140,#REF!,A140)","v":28},"Risan","Henrik","LiL Aplin",28,2,null,"","",{"$f":"IF(AK141=\"\",\"\",AK141)","v":31},"","",14,"","",null,28,"","","","","","","","",null,null,null,null,0,null,null,null,null,0,null,31,0,5,5,null,null,null,null,0,null,null,null,null,0,null,14,18,5,23,null,null,null,null,0,null,null,null,null,0]
[30,"Bratsberg","William","BSK",27,1,null,"","",{"$f":"IF(AK142=\"\",\"\",AK142)","v":12},"","","","","",null,27,"","","","","","","","",null,null,null,null,0,null,null,null,null,0,null,12,22,5,27,null,null,null,null,0,null,null,null,null,0,null,null,null,null,0,null,null,null,null,0,null,null,null,null,0]
[{"$f":"IF(E143<E142,#REF!,A142)","v":30},"Nergaard","Hans Herman","BSK",27,1,null,"","",null,"","",12,"","",null,27,"","","","","","","","",null,null,null,null,0,null,null,null,null,0,null,null,null,null,0,null,null,null,null,0,null,null,null,null,0,null,12,22,5,27,null,null,null,null,0,null,null,null,null,0]
[32,"Polhammer","Carl","Kjelsås",26,2,null,"","",{"$f":"IF(AK144=\"\",\"\",AK144)","v":20},"","",26,"","",null,26,"","","","","","","","",null,null,null,null,0,null,null,null,null,0,null,20,11,5,16,null,null,null,null,0,null,null,null,null,0,null,26,5,5,10,null,null,null,null,0,null,null,null,null,0]
[{"$f":"IF(E145<E144,#REF!,A144)","v":32},"Haavind","Nuila Emanuel","Ljan Alpin",26,{"$f":"COUNT(AC145,AH145,AM145,AR145,AW145,BB145,BG145,BL145)","v":2},null,null,null,null,{"$f":"IF(AP145=\"\",\"\",AP145)","v":21},null,null,null,null,null,{"$f":"AD145+AI145+AN145+AS145+AX145+BC145+BH145","v":26},{"$f":"IF($F145>=5,IF(AB145=\"\",\"\",AB145),\"\")","v":""},{"$f":"IF($F145>=5,IF(AG145=\"\",\"\",AG145),\"\")","v":""},{"$f":"IF($F145>=5,IF(AL145=\"\",\"\",AL145),\"\")","v":""},{"$f":"IF($F145>=5,IF(AQ145=\"\",\"\",AQ145),\"\")","v":""},{"$f":"IF($F145>=5,IF(AV145=\"\",\"\",AV145),\"\")","v":""},{"$f":"IF($F145>=5,IF(BA145=\"\",\"\",BA145),\"\")","v":""},{"$f":"IF($F145>=5,IF(BF145=\"\",\"\",BF145),\"\")","v":""},{"$f":"IF($F145>=5,IF(BK145=\"\",\"\",BK145),\"\")","v":""},null,null,null,null,{"$f":"AB145+AC145","v":0},null,null,null,null,{"$f":"AG145+AH145","v":0},null,null,null,null,{"$f":"AL145+AM145","v":0},null,21,10,5,{"$f":"AQ145+AR145","v":15},null,null,null,null,{"$f":"AV145+AW145","v":0},null,25,6,5,{"$f":"BA145+BB145","v":11},null,null,null,null,{"$f":"BF145+BG145","v":0},null,null,null,null,{"$f":"BK145+BL145","v":0}]
[34,"Synnestvedt","Storm Alexander","Kjelsås",22,2,null,{"$f":"IF(AA146=\"\",\"\",AA146)","v":""},{"$f":"IF(AF146=\"\",\"\",AF146)","v":""},{"$f":"IF(AK146=\"\",\"\",AK146)","v":26},"",{"$f":"IF(AU146=\"\",\"\",AU146)","v":""},{"$f":"IF(AZ146=\"\",\"\",AZ146)","v":24},{"$f":"IF(BE146=\"\",\"\",BE146)","v":""},{"$f":"IF(BJ146=\"\",\"\",BJ146)","v":""},null,{"$f":"AD146+AI146+AN146+AS146+AX146+BC146+BH146+BM146","v":22},"","","","","","","","",null,null,null,null,0,null,null,null,null,0,null,26,5,5,10,null,null,null,null,0,null,null,null,null,0,null,24,7,5,12,null,null,null,null,0,null,null,null,null,0]
[35,"Jansen","Nikolai Severin","Heming",21,1,null,"","",{"$f":"IF(AK147=\"\",\"\",AK147)","v":15},"",{"$f":"IF(AU147=\"\",\"\",AU147)","v":""},{"$f":"IF(AZ147=\"\",\"\",AZ147)","v":""},{"$f":"IF(BE147=\"\",\"\",BE147)","v":""},{"$f":"IF(BJ147=\"\",\"\",BJ147)","v":""},null,{"$f":"AD147+AI147+AN147+AS147+AX147+BC147+BH147+BM147","v":21},"","","","","","","","",null,null,null,null,0,null,null,null,null,0,null,15,16,5,21,null,null,null,null,0,null,null,null,null,0,null,null,null,null,0,null,null,null,null,0,null,null,null,null,0]
[36,"Schoubye","Nicolai","Haslum",20,1,null,"","",{"$f":"IF(AK148=\"\",\"\",AK148)","v":16},"",{"$f":"IF(AU148=\"\",\"\",AU148)","v":""},{"$f":"IF(AZ148=\"\",\"\",AZ148)","v":""},{"$f":"IF(BE148=\"\",\"\",BE148)","v":""},{"$f":"IF(BJ148=\"\",\"\",BJ148)","v":""},null,{"$f":"AD148+AI148+AN148+AS148+AX148+BC148+BH148+BM148","v":20},"","","","","","","","",null,null,null,null,0,null,null,null,null,0,null,16,15,5,20,null,null,null,null,0,null,null,null,null,0,null,null,null,null,0,null,null,null,null,0,null,null,null,null,0]
[37,"Søvik","Erik","Kjelsås",19,1,null,"","",null,"",{"$f":"IF(AU149=\"\",\"\",AU149)","v":""},{"$f":"IF(AZ149=\"\",\"\",AZ149)","v":17},{"$f":"IF(BE149=\"\",\"\",BE149)","v":""},{"$f":"IF(BJ149=\"\",\"\",BJ149)","v":""},null,{"$f":"AD149+AI149+AN149+AS149+AX149+BC149+BH149+BM149","v":19},"","","","","","","","",null,null,null,null,0,null,null,null,null,0,null,null,null,null,0,null,null,null,null,0,null,null,null,null,0,null,17,14,5,19,null,null,null,null,0,null,null,null,null,0]
[38,"Ulrichsen","Bernhard","TRY",17,1,null,"","",{"$f":"IF(AK150=\"\",\"\",AK150)","v":""},19,{"$f":"IF(AQ150=\"\",\"\",AQ150)","v":12},{"$f":"IF(AU150=\"\",\"\",AU150)","v":""},{"$f":"IF(AZ150=\"\",\"\",AZ150)","v":""},{"$f":"IF(BE150=\"\",\"\",BE150)","v":""},null,{"$f":"AD150+AI150+AN150+AS150+AX150+BC150+BH150","v":17},"","","","","","","","",null,null,null,null,0,null,null,null,null,0,null,null,null,null,0,null,19,12,5,17,null,null,null,null,0,null,null,null,null,0,null,null,null,null,0,null,null,null,null,0]
[{"$f":"IF(E151<E150,#REF!,A150)","v":38},"Tangen ","Marius Naustdal","Hakadal",17,1,null,"","",null,"",{"$f":"IF(AU151=\"\",\"\",AU151)","v":""},{"$f":"IF(AZ151=\"\",\"\",AZ151)","v":19},{"$f":"IF(BE151=\"\",\"\",BE151)","v":""},{"$f":"IF(BJ151=\"\",\"\",BJ151)","v":""},null,{"$f":"AD151+AI151+AN151+AS151+AX151+BC151+BH151+BM151","v":17},"","","","","","","","",null,null,null,null,0,null,null,null,null,0,null,null,null,null,0,null,null,null,null,0,null,null,null,null,0,null,19,12,5,17,null,null,null,null,0,null,null,null,null,0]
[40,"Kvam","Lucio Normann Catalano","Njård",16,1,null,null,null,null,20,null,null,null,null,null,{"$f":"AD152+AI152+AN152+AS152+AX152+BC152+BH152","v":16},"","","","","","","","",null,null,null,null,0,null,null,null,null,0,null,null,null,null,0,null,20,11,5,16,null,null,null,null,0,null,null,null,null,0,null,null,null,null,0,null,null,null,null,0]
[41,"Benestad","Lukas","Haslum",15,1,null,{"$f":"IF(AA153=\"\",\"\",AA153)","v":""},{"$f":"IF(AF153=\"\",\"\",AF153)","v":""},{"$f":"IF(AK153=\"\",\"\",AK153)","v":21},"",{"$f":"IF(AU153=\"\",\"\",AU153)","v":""},{"$f":"IF(AZ153=\"\",\"\",AZ153)","v":""},{"$f":"IF(BE153=\"\",\"\",BE153)","v":""},{"$f":"IF(BJ153=\"\",\"\",BJ153)","v":""},null,{"$f":"AD153+AI153+AN153+AS153+AX153+BC153+BH153+BM153","v":15},"","","","","","","","",null,null,null,null,0,null,null,null,null,0,null,21,10,5,15,null,null,null,null,0,null,null,null,null,0,null,null,null,null,0,null,null,null,null,0,null,null,null,null,0]
[42,"Schou","Ferdinand","Heming",12,1,null,"","",{"$f":"IF(AK154=\"\",\"\",AK154)","v":24},"","","","","",null,12,"","","","","","","","",null,null,null,null,0,null,null,null,null,0,null,24,7,5,12,null,null,null,null,0,null,null,null,null,0,null,null,null,null,0,null,null,null,null,0,null,null,null,null,0]
[43,"Norstrand","Herman","Heming",11,1,null,"","",{"$f":"IF(AK155=\"\",\"\",AK155)","v":25},"","","","","",null,11,"","","","","","","","",null,null,null,null,0,null,null,null,null,0,null,25,6,5,11,null,null,null,null,0,null,null,null,null,0,null,null,null,null,0,null,null,null,null,0,null,null,null,null,0]
[44,"Finnøy","Fredrik",null,10,2,null,"","",null,"","DNF","","","",null,10,"","","","","","","","",null,null,null,null,0,null,null,null,null,0,null,31,0,5,5,null,null,null,null,0,null,"DNF",0,5,5,null,null,null,null,0,null,null,null,null,0,null,null,null,null,0]
[45,"Bull Steinsland","Nikolai Sebastian","Heming",9,1,null,"","",{"$f":"IF(AK157=\"\",\"\",AK157)","v":27},"","","","","",null,9,"","","","","","","","",null,null,null,null,0,null,null,null,null,0,null,27,4,5,9,null,null,null,null,0,null,null,null,null,0,null,null,null,null,0,null,null,null,null,0,null,null,null,null,0]
[46,"Bengston","Severin","Heming",7,1,null,"","",{"$f":"IF(AK158=\"\",\"\",AK158)","v":29},"","","","","",null,7,"","","","","","","","",null,null,null,null,0,null,null,null,null,0,null,29,2,5,7,null,null,null,null,0,null,null,null,null,0,null,null,null,null,0,null,null,null,null,0,null,null,null,null,0]
[47,"Heibo-Tobiasson","Jonas","Heming",6,1,null,"","",{"$f":"IF(AK159=\"\",\"\",AK159)","v":30},"","","","","",null,6,"","","","","","","","",null,null,null,null,0,null,null,null,null,0,null,30,1,5,6,null,null,null,null,0,null,null,null,null,0,null,null,null,null,0,null,null,null,null,0,null,null,null,null,0]
[48,"Eggesbø","Bernardo","Heming",5,1,null,"","",{"$f":"IF(AK160=\"\",\"\",AK160)","v":"DNF"},"","","","","",null,5,"","","","","","","","",null,null,null,null,0,null,null,null,null,0,null,"DNF",0,5,5,null,null,null,null,0,null,null,null,null,0,null,null,null,null,0,null,null,null,null,0,null,null,null,null,0]
[{"$f":"IF(E161<E160,#REF!,A160)","v":48},"Wold-Pedersen ","Nicolai","BSK",5,1,null,"","",null,"","","DNF","","",null,5,"","","","","","","","",null,null,null,null,0,null,null,null,null,0,null,null,null,null,0,null,null,null,null,0,null,null,null,null,0,null,"DNF",0,5,5,null,null,null,null,0,null,null,null,null,0]
[]
["Resultatliste Oslo Cup 2017 - Gutter 12 år"]
[{"$f":"'Forside 2017'!A164","v":0}]
[null,null,null,null,null,null,null,"IRS Rennet","Ljan Rennet","Njård Rennet","Ready Rennet","Telenor Arena Cup","Euro-tecfarten","Oslo Alpinfestival SL","Oslo Alpinfestival SSL",null,null,"IRS Rennet","Ljan Rennet","Njård Rennet","Ready Rennet","Telenor Arena Cup","Euro-tecfarten","Oslo Alpinfestival SL","Oslo Alpinfestival SSL",null,"--------IRS Rennet----------",null,null,null,null,"----------Ljan Rennet---------",null,null,null,null,"--------Njård Rennet----------",null,null,null,null,"--------Ready Rennet---------",null,null,null,null,"-----Telenor Arena Cup----",null,null,null,null,"------Euro-tecfarten--------",null,null,null,null,"---Oslo Alpinfestival SL---",null,null,null,null,"---Oslo Alpinfestival SSL---"]
[null,null,null,null,null,"Antall",null,"2016-02-04","2016-02-05","2016-02-10","2016-02-11","2016-02-15","2016-03-01","2017-03-11","2016-03-12",null,"Poeng","2016-02-04","2016-02-05","2016-02-10","2016-02-11","2016-02-15","2016-03-01","2017-03-11","2016-03-12",null,null,"--------Poeng--------",null,null,null,null,"--------Poeng--------",null,null,null,null,"-------Poeng---------",null,null,null,null,"-------Poeng---------",null,null,null,null,"-------Poeng---------",null,null,null,null,"-------Poeng---------",null,null,null,null,"-------Poeng---------",null,null,null,null,"-------Poeng---------"]
["Plass","Etternavn","Fornavn","Klubb","Poeng","renn",null,"------------------------------Plassering i rennene---------------------------------",null,null,null,null,null,null,null,null,"brutto","----------------Resultatpoeng hvis mer enn 4 renn----------------",null,null,null,null,null,null,null,null,"Plass","Res.","Del.","Tot.",null,"Plass","Res.","Del.","Tot.",null,"Plass","Res.","Del.","Tot.",null,"Plass","Res.","Del.","Tot.",null,"Plass","Res.","Del.","Tot.",null,"Plass","Res.","Del.","Tot.",null,"Plass","Res.","Del.","Tot.",null,"Plass","Res.","Del.","Tot."]
[1,"Fosseidbråten","Joakim","Ready",{"$f":"Q168","v":318},{"$f":"COUNT(AC168,AH168,AM168,AR168,AW168,BB168,BG168,BL168)","v":4},null,{"$f":"IF(AA168=\"\",\"\",AA168)","v":14},{"$f":"IF(AF168=\"\",\"\",AF168)","v":2},{"$f":"IF(AK168=\"\",\"\",AK168)","v":1},{"$f":"IF(AP168=\"\",\"\",AP168)","v":1},{"$f":"IF(AU168=\"\",\"\",AU168)","v":""},{"$f":"IF(AZ168=\"\",\"\",AZ168)","v":""},{"$f":"IF(BE168=\"\",\"\",BE168)","v":""},{"$f":"IF(BJ168=\"\",\"\",BJ168)","v":""},null,{"$f":"AD168+AI168+AN168+AS168+AX168+BC168+BH168","v":318},{"$f":"IF($F168>=5,IF(AB168=\"\",\"\",AB168),\"\")","v":""},{"$f":"IF($F168>=5,IF(AG168=\"\",\"\",AG168),\"\")","v":""},{"$f":"IF($F168>=5,IF(AL168=\"\",\"\",AL168),\"\")","v":""},{"$f":"IF($F168>=5,IF(AQ168=\"\",\"\",AQ168),\"\")","v":""},{"$f":"IF($F168>=5,IF(AV168=\"\",\"\",AV168),\"\")","v":""},{"$f":"IF($F168>=5,IF(BA168=\"\",\"\",BA168),\"\")","v":""},{"$f":"IF($F168>=5,IF(BF168=\"\",\"\",BF168),\"\")","v":""},{"$f":"IF($F168>=5,IF(BK168=\"\",\"\",BK168),\"\")","v":""},null,14,18,5,{"$f":"AB168+AC168","v":23},null,2,80,5,{"$f":"AG168+AH168","v":85},null,1,100,5,{"$f":"AL168+AM168","v":105},null,1,100,5,{"$f":"AQ168+AR168","v":105},null,null,null,null,{"$f":"AV168+AW168","v":0},null,null,null,null,{"$f":"BA168+BB168","v":0},null,null,null,null,{"$f":"BF168+BG168","v":0},null,null,null,null,{"$f":"BK168+BL168","v":0}]
[2,"Ulrichsen Vigsnæs","Victor","Heming",300,4,null,13,1,2,2,"","","","",null,300,"","","","","","","","",null,13,20,5,25,null,1,100,5,105,null,2,80,5,85,null,2,80,5,85,null,null,null,null,0,null,null,null,null,0,null,null,null,null,0,null,null,null,null,0]
[3,"Østrøm","Christoffer","Heming",226,4,null,2,3,10,6,"","","","",null,226,"","","","","","","","",null,2,80,5,85,null,3,60,5,65,null,10,26,5,31,null,6,40,5,45,null,null,null,null,0,null,null,null,null,0,null,null,null,null,0,null,null,null,null,0]
[4,"Solheim","Erik Lund","Ready",220,4,null,4,4,6,3,"","","","",null,220,"","","","","","","","",null,4,50,5,55,null,4,50,5,55,null,6,40,5,45,null,3,60,5,65,null,null,null,null,0,null,null,null,null,0,null,null,null,null,0,null,null,null,null,0]
[5,"Fredriksen","Mathias","Heming",192,4,null,1,"DSQ",4,12,"","","","",null,192,"","","","","","","","",null,1,100,5,105,null,"DSQ",0,5,5,null,4,50,5,55,null,12,22,5,27,null,null,null,null,0,null,null,null,null,0,null,null,null,null,0,null,null,null,null,0]
[6,"Buchardt","Aksel","Heming",166,4,null,8,6,9,5,"","","","",null,166,"","","","","","","","",null,8,32,5,37,null,6,40,5,45,null,9,29,5,34,null,5,45,5,50,null,null,null,null,0,null,null,null,null,0,null,null,null,null,0,null,null,null,null,0]
[7,"Nergaard","Sverre","Heming",150,4,null,6,"DSQ",6,4,"","","","",null,150,"","","","","","","","",null,6,40,5,45,null,"DSQ",0,5,5,null,6,40,5,45,null,4,50,5,55,null,null,null,null,0,null,null,null,null,0,null,null,null,null,0,null,null,null,null,0]
[8,"Bakkevig","Rasmus","Heming",146,4,null,10,13,3,13,"","","","",null,{"$f":"AD175+AI175+AN175+AS175+AX175+BC175+BH175+BM175","v":146},"","","","","","","","",null,10,26,5,31,null,13,20,5,25,null,3,60,5,65,null,13,20,5,25,null,null,null,null,0,null,null,null,null,0,null,null,null,null,0,null,null,null,null,0]
[9,"Lorentzen","Carl Axel","Heming",134,4,null,3,"DSQ",5,9,"","","","",null,{"$f":"AD176+AI176+AN176+AS176+AX176+BC176+BH176","v":134},"","","","","","","","",null,3,60,5,65,null,"DSQ",0,5,5,null,5,45,5,50,null,9,9,5,14,null,null,null,null,0,null,null,null,null,0,null,null,null,null,0,null,null,null,null,0]
[10,"Torrissen","Philip Ingulstad","Kjelsås",120,4,null,11,7,15,11,"",{"$f":"IF(AU177=\"\",\"\",AU177)","v":""},{"$f":"IF(AZ177=\"\",\"\",AZ177)","v":""},{"$f":"IF(BE177=\"\",\"\",BE177)","v":""},null,120,"","","","","","","","",null,11,24,5,29,null,7,36,5,41,null,15,16,5,21,null,11,24,5,29,null,null,null,null,0,null,null,null,null,0,null,null,null,null,0,null,null,null,null,0]
[11,"Maaø","Filippo Fregosi","IRS",114,4,null,9,5,13,"DNF","",{"$f":"IF(AZ178=\"\",\"\",AZ178)","v":""},{"$f":"IF(BE178=\"\",\"\",BE178)","v":""},{"$f":"IF(BJ178=\"\",\"\",BJ178)","v":""},null,114,"","","","","","","","",null,9,29,5,34,null,5,45,5,50,null,13,20,5,25,null,"DNF",0,5,5,null,null,null,null,0,null,null,null,null,0,null,null,null,null,0,null,null,null,null,0]
[12,"Holst","Marcus Normann","Kjelsås",78,4,null,"DSQ","DSQ",12,7,"",{"$f":"IF(AZ179=\"\",\"\",AZ179)","v":""},{"$f":"IF(BE179=\"\",\"\",BE179)","v":""},{"$f":"IF(BJ179=\"\",\"\",BJ179)","v":""},null,78,"","","","","","","","",null,"DSQ",0,5,5,null,"DSQ",0,5,5,null,12,22,5,27,null,7,36,5,41,null,null,null,null,0,null,null,null,null,0,null,null,null,null,0,null,null,null,null,0]
[13,"Nordklev","Ola","Heming",70,2,null,7,11,"","","",{"$f":"IF(AZ180=\"\",\"\",AZ180)","v":""},{"$f":"IF(BE180=\"\",\"\",BE180)","v":""},{"$f":"IF(BJ180=\"\",\"\",BJ180)","v":""},null,70,"","","","","","","","",null,7,36,5,41,null,11,24,5,29,null,null,null,null,0,null,null,null,null,0,null,null,null,null,0,null,null,null,null,0,null,null,null,null,0,null,null,null,null,0]
[14,"Gjetsund","Eivind","Heming",66,2,null,"","",11,8,"",{"$f":"IF(AU181=\"\",\"\",AU181)","v":""},{"$f":"IF(AZ181=\"\",\"\",AZ181)","v":""},{"$f":"IF(BE181=\"\",\"\",BE181)","v":""},null,66,"","","","","","","","",null,null,null,null,0,null,null,null,null,0,null,11,24,5,29,null,8,32,5,37,null,null,null,null,0,null,null,null,null,0,null,null,null,null,0,null,null,null,null,0]
[15,"Pedersen","Sondre","Ullensaker",58,2,null,12,10,"","","",{"$f":"IF(AZ182=\"\",\"\",AZ182)","v":""},{"$f":"IF(BE182=\"\",\"\",BE182)","v":""},{"$f":"IF(BJ182=\"\",\"\",BJ182)","v":""},null,58,"","","","","","","","",null,12,22,5,27,null,10,26,5,31,null,null,null,null,0,null,null,null,null,0,null,null,null,null,0,null,null,null,null,0,null,null,null,null,0,null,null,null,null,0]
[16,"Cappelen Mazzocchi","Mats","Heming",50,1,null,5,"","","","","","","",null,50,"","","","","","","","",null,5,45,5,50,null,null,null,null,0,null,null,null,null,0,null,null,null,null,0,null,null,null,null,0,null,null,null,null,0,null,null,null,null,0,null,null,null,null,0]
[17,"Schei","Viktor","IRS",48,2,null,"",8,"",10,"","","","",null,48,"","","","","","","","",null,null,null,null,0,null,8,32,5,37,null,null,null,null,0,null,10,6,5,11,null,null,null,null,0,null,null,null,null,0,null,null,null,null,0,null,null,null,null,0]
[18,"Rasmussen","Jonathan Holst","Stabæk",37,1,null,"","",8,"","","","","",null,37,"","","","","","","","",null,null,null,null,0,null,null,null,null,0,null,8,32,5,37,null,null,null,null,0,null,null,null,null,0,null,null,null,null,0,null,null,null,null,0,null,null,null,null,0]
[19,"Hassel","Anton","Kjelsås",31,1,null,"",9,"","","","","","",null,31,"","","","","","","","",null,null,null,null,0,null,9,26,5,31,null,null,null,null,0,null,null,null,null,0,null,null,null,null,0,null,null,null,null,0,null,null,null,null,0,null,null,null,null,0]
[20,"Brandt","Kasper","Heming",28,2,null,"","",14,"DNF","","","","",null,28,"","","","","","","","",null,null,null,null,0,null,null,null,null,0,null,14,18,5,23,null,"DNF",0,5,5,null,null,null,null,0,null,null,null,null,0,null,null,null,null,0,null,null,null,null,0]
[21,"Gras","Nicolas","Ljan",27,1,null,"",12,"","","","","","",null,27,"","","","","","","","",null,null,null,null,0,null,12,22,5,27,null,null,null,null,0,null,null,null,null,0,null,null,null,null,0,null,null,null,null,0,null,null,null,null,0,null,null,null,null,0]
[22,"Ellefsen","Nicolay","Ljan",23,1,null,"",14,"","","",{"$f":"IF(AU189=\"\",\"\",AU189)","v":""},{"$f":"IF(AZ189=\"\",\"\",AZ189)","v":""},{"$f":"IF(BE189=\"\",\"\",BE189)","v":""},null,23,"","","","","","","","",null,null,null,null,0,null,14,18,5,23,null,null,null,null,0,null,null,null,null,0,null,null,null,null,0,null,null,null,null,0,null,null,null,null,0,null,null,null,null,0]
[23,"Sellæg","Johannes","Ready",5,1,null,"DNF","","","","",{"$f":"IF(AZ190=\"\",\"\",AZ190)","v":""},{"$f":"IF(BE190=\"\",\"\",BE190)","v":""},{"$f":"IF(BJ190=\"\",\"\",BJ190)","v":""},null,5,"","","","","","","","",null,"DNF",0,5,5,null,null,null,null,0,null,null,null,null,0,null,null,null,null,0,null,null,null,null,0,null,null,null,null,0,null,null,null,null,0,null,null,null,null,0]
[{"$f":"IF(E191<E190,BO191,A190)","v":23},"Opsann","Didrik Kalland","IRS",5,1,null,"DSQ","","","","",{"$f":"IF(AZ191=\"\",\"\",AZ191)","v":""},{"$f":"IF(BE191=\"\",\"\",BE191)","v":""},{"$f":"IF(BJ191=\"\",\"\",BJ191)","v":""},null,5,"","","","","","","","",null,"DSQ",0,5,5,null,null,null,null,0,null,null,null,null,0,null,null,null,null,0,null,null,null,null,0,null,null,null,null,0,null,null,null,null,0,null,null,null,null,0]

{"sheet":"Statistikk 2013","index":16,"n_rows":19,"n_cols":8,"rows_kept":19,"cut":false,"hidden":false,"merged":[]}
["Deltakerstatistikk Oslo Cup 2014"]
[{"$f":"#REF!","v":{"$error":"#REF!"}}]
[]
[]
[]
[]
[null,null,null,"J11","G11","J12","G12","Totalt"]
["Antall startende løpere",null,null,{"$f":"'J11 2013'!E57","v":38},{"$f":"'G11 2013'!E62","v":44},{"$f":"'J12 2013'!E51","v":34},{"$f":"'G12 2013'!E71","v":56},{"$f":"SUM(D8:G8)","v":172}]
["Antall løpere med minst 4 renn",null,null,{"$f":"'J11 2013'!E58","v":9},{"$f":"'G11 2013'!E63","v":10},{"$f":"'J12 2013'!E52","v":10},{"$f":"'G12 2013'!E72","v":21},{"$f":"SUM(D9:G9)","v":50}]
["Totalt antall starter",null,null,{"$f":"'J11 2013'!E59","v":93},{"$f":"'G11 2013'!E64","v":116},{"$f":"'J12 2013'!E53","v":94},{"$f":"'G12 2013'!E73","v":169},{"$f":"SUM(D10:G10)","v":472}]
[]
["Antall løpere med 7 starter",null,null,{"$f":"'J11 2013'!E61","v":3},{"$f":"'G11 2013'!E66","v":5},{"$f":"'J12 2013'!E55","v":0},{"$f":"'G12 2013'!E75","v":2},{"$f":"SUM(D12:G12)","v":10}]
["Antall løpere med 6 starter",null,null,{"$f":"'J11 2013'!E62","v":0},{"$f":"'G11 2013'!E67","v":2},{"$f":"'J12 2013'!E56","v":2},{"$f":"'G12 2013'!E76","v":8},{"$f":"SUM(D13:G13)","v":12}]
["Antall løpere med 5 starter",null,null,{"$f":"'J11 2013'!E63","v":4},{"$f":"'G11 2013'!E68","v":1},{"$f":"'J12 2013'!E57","v":4},{"$f":"'G12 2013'!E77","v":4},13]
["Antall løpere med 4 starter",null,null,{"$f":"'J11 2013'!E64","v":2},{"$f":"'G11 2013'!E69","v":2},{"$f":"'J12 2013'!E58","v":4},{"$f":"'G12 2013'!E78","v":7},15]
["Antall løpere med 3 starter",null,null,{"$f":"'J11 2013'!E65","v":4},{"$f":"'G11 2013'!E70","v":7},{"$f":"'J12 2013'!E59","v":9},{"$f":"'G12 2013'!E79","v":8},28]
["Antall løpere med 2 starter",null,null,{"$f":"'J11 2013'!E66","v":7},{"$f":"'G11 2013'!E71","v":8},{"$f":"'J12 2013'!E60","v":4},{"$f":"'G12 2013'!E80","v":8},27]
["Antall løpere med kun 1 start",null,null,{"$f":"'J11 2013'!E67","v":18},{"$f":"'G11 2013'!E72","v":19},{"$f":"'J12 2013'!E61","v":11},{"$f":"'G12 2013'!E81","v":19},67]
["SUM",null,null,{"$f":"SUM(D12:D18)","v":38},{"$f":"SUM(E12:E18)","v":44},34,56,172]

{"sheet":"J11 2013","index":17,"n_rows":68,"n_cols":71,"rows_kept":68,"cut":false,"hidden":false,"merged":[]}
["Resultatliste Oslo Cup 2013 - Jenter 11 år"]
[{"$f":"#REF!","v":{"$error":"#REF!"}}]
[null,null,null,null,null,null,null,"Miss Volvo","Readyrennet","Tropicana","Polarn O. Pyret","Euro-tecfarten","Nordstrand SL","Trollrennet",null,null,"Miss Volvo","Readyrennet","Tropicana","Polarn O. Pyret","Euro-tecfarten","Nordstrand SL","Trollrennet",null,"--------Miss Volvo----------",null,null,null,null,"-------Readyrennet---------",null,null,null,null,"-----Tropicanerennet-----",null,null,null,null,"---Polarn O. Pyret Cup-----",null,null,null,null,"-----Euro-tecfarten------",null,null,null,null,"------Nordstrand SL-------",null,null,null,null,"-------Trollrennet---------"]
[null,null,null,null,null,"Antall",null,null,null,null,null,null,null,null,null,"Poeng",null,null,null,null,null,null,null,null,null,"-------Poeng---------",null,null,null,null,"-------Poeng---------",null,null,null,null,"-------Poeng---------",null,null,null,null,"-------Poeng---------",null,null,null,null,"-------Poeng---------",null,null,null,null,"-------Poeng---------",null,null,null,null,"-------Poeng---------",null,null,null,null,null,null,"Løpere med ","Løpere som","Løpere med ","Løpere med ","Løpere med ","Løpere med ","Løpere med ","Løpere med ","Løpere med "]
["Plass","Etternavn","Fornavn","Klubb","Poeng","renn",null,"-----------------Plassering i rennene---------------------",null,null,null,null,null,null,null,"brutto","Resultatpoeng hvis mer enn 4 renn",null,null,null,null,null,null,null,"Plass","Res.","Del.","Tot.",null,"Plass","Res.","Del.","Tot.",null,"Plass","Res.","Del.","Tot.",null,"Plass","Res.","Del.","Tot.",null,"Plass","Res.","Del.","Tot.",null,"Plass","Res.","Del.","Tot.",null,"Plass","Res.","Del.","Tot.",null,null,null,null,"minst 4 renn","har vært med","7 renn","6 renn","5 renn","4 renn","3 renn","2 renn","kun 1 renn"]
[1,"Klakegg","Hanna","Ready",{"$f":"P6-T6-V6-W6","v":435},{"$f":"COUNT(AA6,AF6,AK6,AP6,AU6,AZ6,BE6)","v":7},null,{"$f":"IF(Y6=\"\",\"\",Y6)","v":"1"},{"$f":"IF(AD6=\"\",\"\",AD6)","v":"1"},{"$f":"IF(AI6=\"\",\"\",AI6)","v":"1"},{"$f":"IF(AN6=\"\",\"\",AN6)","v":3},{"$f":"IF(AS6=\"\",\"\",AS6)","v":"1"},{"$f":"IF(AX6=\"\",\"\",AX6)","v":1},{"$f":"IF(BC6=\"\",\"\",BC6)","v":1},null,{"$f":"AB6+AG6+AL6+AQ6+AV6+BA6+BF6","v":695},{"$f":"IF($F6>=5,IF(Z6=\"\",\"\",Z6),\"\")","v":100},{"$f":"IF($F6>=5,IF(AE6=\"\",\"\",AE6),\"\")","v":100},{"$f":"IF($F6>=5,IF(AJ6=\"\",\"\",AJ6),\"\")","v":100},{"$f":"IF($F6>=5,IF(AO6=\"\",\"\",AO6),\"\")","v":60},{"$f":"IF($F6>=5,IF(AT6=\"\",\"\",AT6),\"\")","v":100},{"$f":"IF($F6>=5,IF(AY6=\"\",\"\",AY6),\"\")","v":100},{"$f":"IF($F6>=5,IF(BD6=\"\",\"\",BD6),\"\")","v":100},null,"1",100,5,105,null,"1",100,5,{"$f":"AE6+AF6","v":105},null,"1",100,5,{"$f":"AJ6+AK6","v":105},null,3,60,5,{"$f":"AO6+AP6","v":65},null,"1",100,{"$f":"5","v":5},{"$f":"AT6+AU6","v":105},null,1,100,{"$f":"5","v":5},{"$f":"AY6+AZ6","v":105},null,1,100,{"$f":"5","v":5},{"$f":"BD6+BE6","v":105},null,1,100,null,{"$f":"IF(F6>=4,1,0)","v":1},{"$f":"IF(F6>=1,1,0)","v":1},{"$f":"IF($F6=7,1,0)","v":1},{"$f":"IF($F6=6,1,0)","v":0},{"$f":"IF($F6=5,1,0)","v":0},{"$f":"IF($F6=4,1,0)","v":0},{"$f":"IF($F6=3,1,0)","v":0},{"$f":"IF($F6=2,1,0)","v":0},{"$f":"IF($F6=1,1,0)","v":0}]
[{"$f":"IF(E7<E6,BH7,A6)","v":2},"Sørensen","Emma Cecilie","Heming",{"$f":"P7","v":320},4,null,"","",2,2,"",3,2,null,320,"","","","","","","",null,null,null,null,null,null,null,null,null,null,null,2,80,5,{"$f":"AJ7+AK7","v":85},null,2,80,5,85,null,null,null,null,null,null,3,60,{"$f":"5","v":5},65,null,2,80,{"$f":"5","v":5},85,null,2,80,null,1,{"$f":"IF(F7>=1,1,0)","v":1},{"$f":"IF($F7=7,1,0)","v":0},{"$f":"IF($F7=6,1,0)","v":0},{"$f":"IF($F7=5,1,0)","v":0},{"$f":"IF($F7=4,1,0)","v":1},{"$f":"IF($F7=3,1,0)","v":0},{"$f":"IF($F7=2,1,0)","v":0},{"$f":"IF($F7=1,1,0)","v":0}]
[{"$f":"IF(E8<E7,BH8,A7)","v":3},"Telje","Aurora","IRS",{"$f":"P8-S8-T8-U8","v":295},7,null,"3",3,"6",5,"4",2,3,null,430,60,60,40,45,50,80,60,null,"3",60,5,65,null,3,60,5,{"$f":"AE8+AF8","v":65},null,"6",40,5,{"$f":"AJ8+AK8","v":45},null,5,45,5,50,null,"4",50,{"$f":"5","v":5},{"$f":"AT8+AU8","v":55},null,2,80,{"$f":"5","v":5},85,null,3,60,{"$f":"5","v":5},65,null,3,60,null,1,1,1,0,0,0,0,0,0]
[4,"Fosseidbråten","Eva","Ready",{"$f":"P9-T9","v":265},5,null,"",2,3,"6","",4,4,null,305,"",80,60,40,"",50,50,null,null,null,null,null,null,2,80,5,{"$f":"AE9+AF9","v":85},null,3,60,5,{"$f":"AJ9+AK9","v":65},null,"6",40,5,45,null,null,null,null,null,null,4,50,{"$f":"5","v":5},55,null,4,50,{"$f":"5","v":5},55,null,4,50,null,1,1,0,0,1,0,0,0,0]
[5,"Rasmussen","Josephine Nystrøm","Heming",{"$f":"P10-V10","v":250},5,null,"2","","","7",2,"DNF",9,null,250,80,"","",36,80,0,29,null,"2",80,5,85,null,null,null,null,null,null,null,null,null,null,null,"7",36,5,41,null,2,80,{"$f":"5","v":5},{"$f":"AT10+AU10","v":85},null,"DNF",0,{"$f":"5","v":5},5,null,9,29,{"$f":"5","v":5},34,null,5,45,null,1,1,0,0,1,0,0,0,0]
[6,"Gammelsrød","Helene Malting","Ready",{"$f":"P11-T11-U11-S11","v":188},7,null,"7",5,9,19,10,7,7,null,255,36,45,29,12,26,36,36,null,"7",36,5,41,null,5,45,5,{"$f":"AE11+AF11","v":50},null,9,29,5,{"$f":"AJ11+AK11","v":34},null,19,12,5,17,null,10,26,{"$f":"5","v":5},31,null,7,36,{"$f":"5","v":5},41,null,7,36,{"$f":"5","v":5},41,null,6,40,null,1,1,1,0,0,0,0,0,0]
[7,"Nordvik","Victoria","Heming",{"$f":"P12-U12","v":186},5,null,"","","4",10,14,5,6,null,204,"","",50,26,18,45,40,null,null,null,null,null,null,null,null,null,null,null,"4",50,5,{"$f":"AJ12+AK12","v":55},null,10,26,5,31,null,14,18,{"$f":"5","v":5},23,null,5,45,{"$f":"5","v":5},50,null,6,40,{"$f":"5","v":5},45,null,7,36,null,1,1,0,0,1,0,0,0,0]
[8,"Munkelien","Mathilde","Ready",{"$f":"P13-V13","v":181},5,null,"",4,8,"",9,"DSQ",5,null,181,"",50,32,"",29,0,45,null,null,null,null,null,null,4,50,5,{"$f":"AE13+AF13","v":55},null,8,32,5,{"$f":"AJ13+AK13","v":37},null,null,null,null,null,null,9,29,{"$f":"5","v":5},34,null,"DSQ",0,{"$f":"5","v":5},5,null,5,45,{"$f":"5","v":5},50,null,8,32,null,1,1,0,0,1,0,0,0,0]
[9,"Jørgensen","Katharina","Heming",{"$f":"P14","v":134},4,null,"DSQ","",11,"4",6,"","",null,134,"","","","","","","",null,"DSQ",0,5,5,null,null,null,null,null,null,11,24,5,{"$f":"AJ14+AK14","v":29},null,"4",50,5,{"$f":"AO14+AP14","v":55},null,6,40,{"$f":"5","v":5},45,null,null,null,null,null,null,null,null,null,null,null,9,29,null,1,1,0,0,0,1,0,0,0]
[10,"Bergan","Ane","Ready",107,3,null,"6","","",15,7,"","",null,107,"","","","","","","",null,"6",40,5,45,null,null,null,null,null,null,null,null,null,null,null,15,16,5,{"$f":"AO15+AP15","v":21},null,7,36,{"$f":"5","v":5},41,null,null,null,null,null,null,null,null,null,null,null,10,26,null,0,1,0,0,0,0,1,0,0]
[11,"Smeby","Hanna","Asker",105,1,null,"","","","1","","","",null,105,"","","","","","","",null,null,null,null,null,null,null,null,null,null,null,null,null,null,null,null,"1",100,5,{"$f":"AO16+AP16","v":105},null,null,null,null,null,null,null,null,null,null,null,null,null,null,null,null,11,24,null,0,1,0,0,0,0,0,0,1]
[12,"Sandvik","Nora Kristine","Ready",99,2,null,"","","",9,3,"","",null,99,"","","","","","","",null,null,null,null,null,null,null,null,null,null,null,null,null,null,null,null,9,29,5,{"$f":"AO17+AP17","v":34},null,3,60,{"$f":"5","v":5},{"$f":"AT17+AU17","v":65},null,null,null,null,null,null,null,null,null,null,null,12,22,null,0,1,0,0,0,0,0,1,0]
[13,"Naas","Vanessa Riise","Nero",92,2,null,"4","","","",8,"","",null,92,"","","","","","","",null,"4",50,5,55,null,null,null,null,null,null,null,null,null,null,null,null,null,null,null,null,8,32,{"$f":"5","v":5},{"$f":"AT18+AU18","v":37},null,null,null,null,null,null,null,null,null,null,null,13,20,null,0,1,0,0,0,0,0,1,0]
[14,"Myhre","Martine","Nordstrand",89,3,null,"","","","",15,8,10,null,89,"","","","","","","",null,null,null,null,null,null,null,null,null,null,null,null,null,null,null,null,null,null,null,null,null,15,16,{"$f":"5","v":5},{"$f":"AT19+AU19","v":21},null,8,32,{"$f":"5","v":5},{"$f":"AY19+AZ19","v":37},null,10,26,{"$f":"5","v":5},{"$f":"BD19+BE19","v":31},null,14,18,null,0,1,0,0,0,0,1,0,0]
[15,"Hemme Granerud","Josephine","Nordstrand",72,2,null,"","","","",12,6,"",null,72,"","","","","","","",null,null,null,null,null,null,null,null,null,null,null,null,null,null,null,null,null,null,null,null,null,12,22,{"$f":"5","v":5},{"$f":"AT20+AU20","v":27},null,6,40,{"$f":"5","v":5},{"$f":"AY20+AZ20","v":45},null,null,null,null,null,null,15,16,null,0,1,0,0,0,0,0,1,0]
[16,"Refsum","Ulrikke","Heming",70,2,null,"","","7",11,"","","",null,70,"","","","","","","",null,null,null,null,null,null,null,null,null,null,null,"7",36,5,{"$f":"AJ21+AK21","v":41},null,11,24,5,{"$f":"AO21+AP21","v":29},null,null,null,null,null,null,null,null,null,null,null,null,null,null,null,null,16,15,null,0,1,0,0,0,0,0,1,0]
[17,"Mehren","Erle","Heming",68,2,null,"","","5",18,"","","",null,68,"","","","","","","",null,null,null,null,null,null,null,null,null,null,null,"5",45,5,{"$f":"AJ22+AK22","v":50},null,18,13,5,{"$f":"AO22+AP22","v":18},null,null,null,null,null,null,null,null,null,null,null,null,null,null,null,null,17,14,null,0,1,0,0,0,0,0,1,0]
[18,"Botten","Eva Geiran","Kjelsås",67,3,null,"DSQ","",13,"","","",8,null,67,"","","","","","","",null,"DSQ",0,5,5,null,null,null,null,null,null,13,20,5,{"$f":"AJ23+AK23","v":25},null,null,null,null,null,null,null,null,null,null,null,null,null,null,null,null,8,32,{"$f":"5","v":5},{"$f":"BD23+BE23","v":37},null,18,13,null,0,1,0,0,0,0,1,0,0]
[19,"Polhammer","Ebba","Kjelsås",56,2,null,"","",10,"",13,"","",null,56,"","","","","","","",null,null,null,null,null,null,null,null,null,null,null,10,26,5,{"$f":"AJ24+AK24","v":31},null,null,null,null,null,null,13,20,{"$f":"5","v":5},{"$f":"AT24+AU24","v":25},null,null,null,null,null,null,null,null,null,null,null,19,12,null,0,1,0,0,0,0,0,1,0]
[20,"Børsum","Nora","Heming",55,2,null,"","","","DSQ",5,"","",null,55,"","","","","","","",null,null,null,null,null,null,null,null,null,null,null,null,null,null,null,null,"DSQ",0,5,5,null,5,45,{"$f":"5","v":5},{"$f":"AT25+AU25","v":50},null,null,null,null,null,null,null,null,null,null,null,20,11,null,0,1,0,0,0,0,0,1,0]
[21,"Reinert Stene","Emilie Marie ","Nero Alpin",50,1,null,"5","","","","","","",null,50,"","","","","","","",null,"5",45,5,50,null,null,null,null,null,null,null,null,null,null,null,null,null,null,null,null,null,null,null,null,null,null,null,null,null,null,null,null,null,null,null,21,10,null,0,1,0,0,0,0,0,0,1]
[22,"Bjerck-Andresen","Clara","Njård",42,3,null,"","",14,22,"","","DSQ",null,42,"","","","","","","",null,null,null,null,null,null,null,null,null,null,null,14,18,5,{"$f":"AJ27+AK27","v":23},null,22,9,5,{"$f":"AO27+AP27","v":14},null,null,null,null,null,null,null,null,null,null,null,"DSQ",0,{"$f":"5","v":5},{"$f":"BD27+BE27","v":5},null,22,9,null,0,1,0,0,0,0,1,0,0]
[23,"de Lange","Berthine","Heming",37,1,null,"","","",8,"","","",null,37,"","","","","","","",null,null,null,null,null,null,null,null,null,null,null,null,null,null,null,null,8,32,5,{"$f":"AO28+AP28","v":37},null,null,null,null,null,null,null,null,null,null,null,null,null,null,null,null,23,8,null,0,1,0,0,0,0,0,0,1]
[24,"Blomquist","Ingrid","HSIL",29,1,null,"","","","",11,"","",null,29,"","","","","","","",null,null,null,null,null,null,null,null,null,null,null,null,null,null,null,null,null,null,null,null,null,11,24,{"$f":"5","v":5},{"$f":"AT29+AU29","v":29},null,null,null,null,null,null,null,null,null,null,null,24,7,null,0,1,0,0,0,0,0,0,1]
[25,"Enger","Madeleine","Njård",27,1,null,"","",12,"","","","",null,27,"","","","","","","",null,null,null,null,null,null,null,null,null,null,null,12,22,5,{"$f":"AJ30+AK30","v":27},null,null,null,null,null,null,null,null,null,null,null,null,null,null,null,null,null,null,null,null,null,25,6,null,0,1,0,0,0,0,0,0,1]
[25,"Espe","Anniken","Heming",27,1,null,"","","",12,"","","",null,27,"","","","","","","",null,null,null,null,null,null,null,null,null,null,null,null,null,null,null,null,12,22,5,{"$f":"AO31+AP31","v":27},null,null,null,null,null,null,null,null,null,null,null,null,null,null,null,null,26,5,null,0,1,0,0,0,0,0,0,1]
[27,"Solberg Jansen","Andrea","Heming",25,1,null,"","","",13,"","","",null,25,"","","","","","","",null,null,null,null,null,null,null,null,null,null,null,null,null,null,null,null,13,20,5,{"$f":"AO32+AP32","v":25},null,null,null,null,null,null,null,null,null,null,null,null,null,null,null,null,27,4,null,0,1,0,0,0,0,0,0,1]
[28,"Langsrud","Pernille","Heming",23,1,null,"","","",14,"","","",null,23,"","","","","","","",null,null,null,null,null,null,null,null,null,null,null,null,null,null,null,null,14,18,5,{"$f":"AO33+AP33","v":23},null,null,null,null,null,null,null,null,null,null,null,null,null,null,null,null,28,3,null,0,1,0,0,0,0,0,0,1]
[29,"Røang","Sara Joys","Njård",21,1,null,"","",15,"","","","",null,21,"","","","","","","",null,null,null,null,null,null,null,null,null,null,null,15,16,5,{"$f":"AJ34+AK34","v":21},null,null,null,null,null,null,null,null,null,null,null,null,null,null,null,null,null,null,null,null,null,29,2,null,0,1,0,0,0,0,0,0,1]
[30,"Bakken","Cathrine Marie","Heming",20,1,null,"","","",16,"","","",null,20,"","","","","","","",null,null,null,null,null,null,null,null,null,null,null,null,null,null,null,null,16,15,5,{"$f":"AO35+AP35","v":20},null,null,null,null,null,null,null,null,null,null,null,null,null,null,null,null,30,1,null,0,1,0,0,0,0,0,0,1]
[30,"Lindbäck","Amalie Nybø","Nordstrand",20,1,null,"","","","",16,"","",null,20,"","","","","","","",null,null,null,null,null,null,null,null,null,null,null,null,null,null,null,null,null,null,null,null,null,16,15,{"$f":"5","v":5},{"$f":"AT36+AU36","v":20},null,null,null,null,null,null,null,null,null,null,null,31,null,null,0,1,0,0,0,0,0,0,1]
[32,"Aasland","Pia Engemoen","Heming",19,1,null,"","","",17,"","","",null,19,"","","","","","","",null,null,null,null,null,null,null,null,null,null,null,null,null,null,null,null,17,14,5,{"$f":"AO37+AP37","v":19},null,null,null,null,null,null,null,null,null,null,null,null,null,null,null,null,32,null,null,0,1,0,0,0,0,0,0,1]
[33,"Leivestad","Ingrid","Lørenskog",16,1,null,"","","",20,"","","",null,16,"","","","","","","",null,null,null,null,null,null,null,null,null,null,null,null,null,null,null,null,20,11,5,{"$f":"AO38+AP38","v":16},null,null,null,null,null,null,null,null,null,null,null,null,null,null,null,null,33,null,null,0,1,0,0,0,0,0,0,1]
[34,"Grinde-Andersen","Nadia","Heming",15,1,null,"","","",21,"","","",null,15,"","","","","","","",null,null,null,null,null,null,null,null,null,null,null,null,null,null,null,null,21,10,5,{"$f":"AO39+AP39","v":15},null,null,null,null,null,null,null,null,null,null,null,null,null,null,null,null,34,null,null,0,1,0,0,0,0,0,0,1]
[35,"Arntzen","Dina","Nero",5,1,null,"DSQ","","","","","","",null,5,"","","","","","","",null,"DSQ",0,5,5,null,null,null,null,null,null,null,null,null,null,null,null,null,null,null,null,null,null,null,null,null,null,null,null,null,null,null,null,null,null,null,35,null,null,0,1,0,0,0,0,0,0,1]
[35,"Bull Langehaug","Nora","BSK",5,1,null,"DSQ","","","","","","",null,5,"","","","","","","",null,"DSQ",0,5,5,null,null,null,null,null,null,null,null,null,null,null,null,null,null,null,null,null,null,null,null,null,null,null,null,null,null,null,null,null,null,null,36,null,null,0,1,0,0,0,0,0,0,1]
[35,"Hovde","Nora","Stabek",5,1,null,"DSQ","","","","","","",null,5,"","","","","","","",null,"DSQ",0,5,5,null,null,null,null,null,null,null,null,null,null,null,null,null,null,null,null,null,null,null,null,null,null,null,null,null,null,null,null,null,null,null,37,null,null,0,1,0,0,0,0,0,0,1]
[35,"Gjetsund","Sofie","Heming",5,1,null,"","","","DNF","","","",null,5,"","","","","","","",null,null,null,null,null,null,null,null,null,null,null,null,null,null,null,null,"DNF",0,5,{"$f":"AO43+AP43","v":5},null,null,null,null,null,null,null,null,null,null,null,null,null,null,null,null,38,null,null,0,1,0,0,0,0,0,0,1]
[39,null,null,null,0,0,null,"","","","","","","",null,0,"","","","","","","",null,null,null,null,null,null,null,null,null,null,null,null,null,null,null,null,null,null,null,null,null,null,null,null,null,null,null,null,null,null,null,null,null,null,null,null,39,null,null,0,0,0,0,0,0,0,0,0]
[39,null,null,null,{"$f":"P45","v":0},{"$f":"COUNT(AA45,AF45,AK45,AP45,AU45,AZ45,BE45)","v":0},null,{"$f":"IF(Y45=\"\",\"\",Y45)","v":""},{"$f":"IF(AD45=\"\",\"\",AD45)","v":""},{"$f":"IF(AI45=\"\",\"\",AI45)","v":""},{"$f":"IF(AN45=\"\",\"\",AN45)","v":""},{"$f":"IF(AS45=\"\",\"\",AS45)","v":""},{"$f":"IF(AX45=\"\",\"\",AX45)","v":""},{"$f":"IF(BC45=\"\",\"\",BC45)","v":""},null,{"$f":"AB45+AG45+AL45+AQ45+AV45+BA45+BF45","v":0},{"$f":"IF($F45>=5,IF(Z45=\"\",\"\",Z45),\"\")","v":""},{"$f":"IF($F45>=5,IF(AE45=\"\",\"\",AE45),\"\")","v":""},{"$f":"IF($F45>=5,IF(AJ45=\"\",\"\",AJ45),\"\")","v":""},{"$f":"IF($F45>=5,IF(AO45=\"\",\"\",AO45),\"\")","v":""},{"$f":"IF($F45>=5,IF(AT45=\"\",\"\",AT45),\"\")","v":""},{"$f":"IF($F45>=5,IF(AY45=\"\",\"\",AY45),\"\")","v":""},{"$f":"IF($F45>=5,IF(BD45=\"\",\"\",BD45),\"\")","v":""},null,null,null,null,null,null,null,null,null,null,null,null,null,null,null,null,null,null,null,null,null,null,null,null,null,null,null,null,null,null,null,null,null,null,null,null,40,null,null,0,0,0,0,0,0,0,0,0]
[39,null,null,null,{"$f":"P46","v":0},{"$f":"COUNT(AA46,AF46,AK46,AP46,AU46,AZ46,BE46)","v":0},null,{"$f":"IF(Y46=\"\",\"\",Y46)","v":""},{"$f":"IF(AD46=\"\",\"\",AD46)","v":""},{"$f":"IF(AI46=\"\",\"\",AI46)","v":""},{"$f":"IF(AN46=\"\",\"\",AN46)","v":""},{"$f":"IF(AS46=\"\",\"\",AS46)","v":""},{"$f":"IF(AX46=\"\",\"\",AX46)","v":""},"",null,{"$f":"AB46+AG46+AL46+AQ46+AV46+BA46+BF46","v":0},"","","","","","","",null,null,null,null,null,null,null,null,null,null,null,null,null,null,null,null,null,null,null,null,null,null,null,null,null,null,null,null,null,null,null,null,null,null,null,null,41,null,null,0,0,0,0,0,0,0,0,0]
[39,null,null,null,0,0,null,"","","","","","","",null,0,"","","","","","","",null,null,null,null,null,null,null,null,null,null,null,null,null,null,null,null,null,null,null,null,null,null,null,null,null,null,null,null,null,null,null,null,null,null,null,null,42,null,null,0,0,0,0,0,0,0,0,0]
[39,null,null,null,0,0,null,"","","","","","","",null,0,"","","","","","","",null,null,null,null,null,null,null,null,null,null,null,null,null,null,null,null,null,null,null,null,null,null,null,null,null,null,null,null,null,null,null,null,null,null,null,null,43,null,null,0,0,0,0,0,0,0,0,0]
[39,null,null,null,0,0,null,"","","","","","","",null,0,"","","","","","","",null,null,null,null,null,null,null,null,null,null,null,null,null,null,null,null,null,null,null,null,null,null,null,null,null,null,null,null,null,null,null,null,null,null,null,null,44,null,null,0,0,0,0,0,0,0,0,0]
[39,null,null,null,0,0,null,"","","","","","","",null,0,"","","","","","","",null,null,null,null,null,null,null,null,null,null,null,null,null,null,null,null,null,null,null,null,null,null,null,null,null,null,null,null,null,null,null,null,null,null,null,null,45,null,null,0,0,0,0,0,0,0,0,0]
[39,null,null,null,0,0,null,"","","","","","","",null,0,"","","","","","","",null,null,null,null,null,null,null,null,null,null,null,null,null,null,null,null,null,null,null,null,null,null,null,null,null,null,null,null,null,null,null,null,null,null,null,null,46,null,null,0,0,0,0,0,0,0,0,0]
[39,null,null,null,0,0,null,"","","","","","","",null,0,"","","","","","","",null,null,null,null,null,null,null,null,null,null,null,null,null,null,null,null,null,null,null,null,null,null,null,null,null,null,null,null,null,null,null,null,null,null,null,null,47,null,null,0,0,0,0,0,0,0,0,0]
[39,null,null,null,{"$f":"P53","v":0},0,null,"","","","","","","",null,0,"","","","","","","",null,null,null,null,null,null,null,null,null,null,null,null,null,null,null,null,null,null,null,null,null,null,null,null,null,null,null,null,null,null,null,null,null,null,null,null,48,null,null,{"$f":"IF(F53>=4,1,0)","v":0},0,0,0,0,0,0,0,0]
[]
[]
[]
[null,null,"Totalt antall løpere",null,{"$f":"SUM(BL6:BL53)","v":38}]
[null,null,"Løpere med minst fire renn",null,{"$f":"SUM(BK6:BK53)","v":9}]
[null,null,"Totalt antall løpere/renn",null,{"$f":"SUM(F6:F53)","v":93}]
[]
[null,null,"Løpere med 7 renn",null,{"$f":"SUM(BM6:BM53)","v":3}]
[null,null,"Løpere med 6 renn",null,{"$f":"SUM(BN6:BN53)","v":0}]
[null,null,"Løpere med 5 renn",null,{"$f":"SUM(BO6:BO53)","v":4}]
[null,null,"Løpere med 4 renn",null,{"$f":"SUM(BP6:BP53)","v":2}]
[null,null,"Løpere med 3 renn",null,{"$f":"SUM(BQ6:BQ53)","v":4}]
[null,null,"Løpere med 2 renn",null,{"$f":"SUM(BR6:BR53)","v":7}]
[null,null,"Løpere med kun 1 renn",null,{"$f":"SUM(BS6:BS53)","v":18}]
[null,null,"Sum/kontroll",null,{"$f":"SUM(E61:E67)","v":38}]

{"sheet":"G11 2013","index":18,"n_rows":73,"n_cols":71,"rows_kept":73,"cut":false,"hidden":false,"merged":[]}
["Resultatliste Oslo Cup 2013 - Gutter 11 år"]
[{"$f":"#REF!","v":{"$error":"#REF!"}}]
[null,null,null,null,null,null,null,"Miss Volvo","Readyrennet","Tropicana","Polarn O. Pyret","Euro-tecfarten","Nordstrand SL","Trollrennet",null,null,"Miss Volvo","Readyrennet","Tropicana","Polarn O. Pyret","Euro-tecfarten","Nordstrand SL","Trollrennet",null,"---------Mr Volvo-----------",null,null,null,null,"-------Readyrennet---------",null,null,null,null,"-----Tropicanerennet-----",null,null,null,null,"---Polarn O. Pyret Cup-----",null,null,null,null,"-----Euro-tecfarten------",null,null,null,null,"------Nordstrand SL-------",null,null,null,null,"-------Trollrennet---------"]
[null,null,null,null,null,"Antall",null,null,null,null,null,null,null,null,null,"Poeng",null,null,null,null,null,null,null,null,null,"-------Poeng---------",null,null,null,null,"-------Poeng---------",null,null,null,null,"-------Poeng---------",null,null,null,null,"-------Poeng---------",null,null,null,null,"-------Poeng---------",null,null,null,null,"-------Poeng---------",null,null,null,null,"-------Poeng---------",null,null,null,null,null,null,"Løpere med ","Løpere som","Løpere med ","Løpere med ","Løpere med ","Løpere med ","Løpere med ","Løpere med ","Løpere med "]
["Plass","Etternavn","Fornavn","Klubb","Poeng","renn",null,"---------Plassering i rennene-------------",null,null,null,null,null,null,null,"brutto","Resultatpoeng hvis mer enn 4 renn",null,null,null,null,null,null,null,"Plass","Res.","Del.","Tot.",null,"Plass","Res.","Del.","Tot.",null,"Plass","Res.","Del.","Tot.",null,"Plass","Res.","Del.","Tot.",null,"Plass","Res.","Del.","Tot.",null,"Plass","Res.","Del.","Tot.",null,"Plass","Res.","Del.","Tot.",null,null,null,null,"minst 4 renn","har vært med","7 renn","6 renn","5 renn","4 renn","3 renn","2 renn","kun 1 renn"]
[1,"Hunshammer","Adrian","NeRo",{"$f":"P6-U6-T6-S6","v":435},{"$f":"COUNT(AA6,AF6,AK6,AP6,AU6,AZ6,BE6)","v":7},null,{"$f":"IF(Y6=\"\",\"\",Y6)","v":"1"},{"$f":"IF(AD6=\"\",\"\",AD6)","v":1},{"$f":"IF(AI6=\"\",\"\",AI6)","v":2},{"$f":"IF(AN6=\"\",\"\",AN6)","v":"3"},{"$f":"IF(AS6=\"\",\"\",AS6)","v":3},{"$f":"IF(AX6=\"\",\"\",AX6)","v":1},{"$f":"IF(BC6=\"\",\"\",BC6)","v":1},null,{"$f":"AB6+AG6+AL6+AQ6+AV6+BA6+BF6","v":635},{"$f":"IF($F6>=5,IF(Z6=\"\",\"\",Z6),\"\")","v":100},{"$f":"IF($F6>=5,IF(AE6=\"\",\"\",AE6),\"\")","v":100},{"$f":"IF($F6>=5,IF(AJ6=\"\",\"\",AJ6),\"\")","v":80},{"$f":"IF($F6>=5,IF(AO6=\"\",\"\",AO6),\"\")","v":60},{"$f":"IF($F6>=5,IF(AT6=\"\",\"\",AT6),\"\")","v":60},{"$f":"IF($F6>=5,IF(AY6=\"\",\"\",AY6),\"\")","v":100},{"$f":"IF($F6>=5,IF(BD6=\"\",\"\",BD6),\"\")","v":100},null,"1",100,5,105,null,1,100,5,{"$f":"AE6+AF6","v":105},null,2,80,5,{"$f":"AJ6+AK6","v":85},null,"3",60,5,{"$f":"AO6+AP6","v":65},null,3,60,5,{"$f":"AT6+AU6","v":65},null,1,100,{"$f":"5","v":5},{"$f":"AY6+AZ6","v":105},null,1,100,{"$f":"5","v":5},{"$f":"BD6+BE6","v":105},null,1,100,null,{"$f":"IF(F6>=4,1,0)","v":1},{"$f":"IF(F6>=1,1,0)","v":1},{"$f":"IF($F6=7,1,0)","v":1},{"$f":"IF($F6=6,1,0)","v":0},{"$f":"IF($F6=5,1,0)","v":0},{"$f":"IF($F6=4,1,0)","v":0},{"$f":"IF($F6=3,1,0)","v":0},{"$f":"IF($F6=2,1,0)","v":0},{"$f":"IF($F6=1,1,0)","v":0}]
[{"$f":"IF(E7<E6,BH7,A6)","v":2},"Wahlqvist","Jesper","Heming",{"$f":"P7-U7-S7-R7","v":375},7,null,"2","3","4",1,5,2,2,null,530,80,60,50,100,45,80,80,null,"2",80,5,85,null,"3",60,5,{"$f":"AE7+AF7","v":65},null,"4",50,5,{"$f":"AJ7+AK7","v":55},null,1,100,5,{"$f":"AO7+AP7","v":105},null,5,45,5,50,null,2,80,{"$f":"5","v":5},85,null,2,80,{"$f":"5","v":5},85,null,2,80,null,1,{"$f":"IF(F7>=1,1,0)","v":1},{"$f":"IF($F7=7,1,0)","v":1},{"$f":"IF($F7=6,1,0)","v":0},{"$f":"IF($F7=5,1,0)","v":0},{"$f":"IF($F7=4,1,0)","v":0},{"$f":"IF($F7=3,1,0)","v":0},{"$f":"IF($F7=2,1,0)","v":0},{"$f":"IF($F7=1,1,0)","v":0}]
[3,"Straume","Fredrik","Ready",{"$f":"P8-U8-V8-Q8","v":355},7,null,"4",2,1,2,10,4,3,null,481,50,80,100,80,26,50,60,null,"4",50,5,55,null,2,80,5,{"$f":"AE8+AF8","v":85},null,1,100,5,{"$f":"AJ8+AK8","v":105},null,2,80,5,{"$f":"AO8+AP8","v":85},null,10,26,5,31,null,4,50,{"$f":"5","v":5},55,null,3,60,{"$f":"5","v":5},65,null,3,60,null,1,1,1,0,0,0,0,0,0]
[4,"Grimkelsrud","Magnus","Kjelsås",{"$f":"P9-T9-S9-R9","v":227},7,null,"7","DSQ","DNF","DNF",2,7,6,null,227,36,0,0,0,80,36,40,null,"7",36,5,41,null,"DSQ",0,5,{"$f":"AE9+AF9","v":5},null,"DNF",0,5,{"$f":"AJ9+AK9","v":5},null,"DNF",0,5,{"$f":"AO9+AP9","v":5},null,2,80,5,85,null,7,36,{"$f":"5","v":5},41,null,6,40,{"$f":"5","v":5},45,null,4,50,null,1,1,1,0,0,0,0,0,0]
[5,"Giskås","Eirik Schau","IRS",{"$f":"P10","v":225},4,null,"5","","","",4,3,4,null,225,"","","","","","","",null,"5",45,5,50,null,null,null,null,null,null,null,null,null,null,null,null,null,null,null,null,4,50,5,55,null,3,60,{"$f":"5","v":5},65,null,4,50,{"$f":"5","v":5},55,null,5,45,null,1,1,0,0,0,1,0,0,0]
[6,"Mondschein","Julius","Kjelsås",{"$f":"P11-U11-S11-Q11","v":207},7,null,"9","4","9","4",12,6,8,null,287,29,50,29,50,22,40,32,null,"9",29,5,34,null,"4",50,5,{"$f":"AE11+AF11","v":55},null,"9",29,5,{"$f":"AJ11+AK11","v":34},null,"4",50,5,{"$f":"AO11+AP11","v":55},null,12,22,5,27,null,6,40,{"$f":"5","v":5},45,null,8,32,{"$f":"5","v":5},37,null,6,40,null,1,1,1,0,0,0,0,0,0]
[7,"Mørck Kristiansen","Joakim","HSIL",{"$f":"P12-U12-Q12","v":200},6,null,"8","6","6","",17,5,5,null,246,32,40,40,"",14,45,45,null,"8",32,5,37,null,"6",40,5,{"$f":"AE12+AF12","v":45},null,"6",40,5,{"$f":"AJ12+AK12","v":45},null,null,null,null,null,null,17,14,5,19,null,5,45,{"$f":"5","v":5},50,null,5,45,{"$f":"5","v":5},50,null,7,36,null,1,1,0,1,0,0,0,0,0]
[8,"Eidstumo","Mikael","IRS",{"$f":"P13-Q13-U13","v":174},6,null,"DSQ","","3","9",13,10,9,null,194,0,"",60,29,20,26,29,null,"DSQ",0,5,5,null,null,null,null,null,null,"3",60,5,{"$f":"AJ13+AK13","v":65},null,"9",29,5,{"$f":"AO13+AP13","v":34},null,13,20,5,25,null,10,26,{"$f":"5","v":5},31,null,9,29,{"$f":"5","v":5},34,null,8,32,null,1,1,0,1,0,0,0,0,0]
[9,"Sanderberg","Martin","Ready",{"$f":"P14-W14","v":168},5,null,"10","5","7","",7,"",10,null,194,26,45,36,"",36,"",26,null,"10",26,5,31,null,"5",45,5,{"$f":"AE14+AF14","v":50},null,"7",36,5,{"$f":"AJ14+AK14","v":41},null,null,null,null,null,null,7,36,5,41,null,null,null,null,null,null,10,26,{"$f":"5","v":5},31,null,9,29,null,1,1,0,0,1,0,0,0,0]
[10,"Fredriksen","Marius","Heming",{"$f":"P15","v":160},3,null,"DSQ","","","5",1,"","",null,160,"","","","","","","",null,"DSQ",0,5,5,null,null,null,null,null,null,null,null,null,null,null,"5",45,5,{"$f":"AO15+AP15","v":50},null,1,100,5,105,null,null,null,null,null,null,null,null,null,null,null,10,26,null,0,1,0,0,0,0,1,0,0]
[11,"Kollandsrud","Martin","IRS",124,4,null,"11","","8","",15,8,"",null,124,"","","","","","","",null,"11",24,5,29,null,null,null,null,null,null,"8",32,5,{"$f":"AJ16+AK16","v":37},null,null,null,null,null,null,15,16,5,21,null,8,32,{"$f":"5","v":5},{"$f":"AY16+AZ16","v":37},null,null,null,null,null,null,11,24,null,1,1,0,0,0,1,0,0,0]
[12,"Fougner","Fredrik Michael","Heming",109,3,null,"","","","10",8,"",7,null,109,"","","","","","","",null,null,null,null,null,null,null,null,null,null,null,null,null,null,null,null,"10",26,5,{"$f":"AO17+AP17","v":31},null,8,32,5,37,null,null,null,null,null,null,7,36,{"$f":"5","v":5},{"$f":"BD17+BE17","v":41},null,12,22,null,0,1,0,0,0,0,1,0,0]
[13,"Altmann","Thomas","IRS",108,3,null,"6","","","",11,9,"",null,108,"","","","","","","",null,"6",40,5,45,null,null,null,null,null,null,null,null,null,null,null,null,null,null,null,null,11,24,5,29,null,9,29,{"$f":"5","v":5},{"$f":"AY18+AZ18","v":34},null,null,null,null,null,null,13,20,null,0,1,0,0,0,0,1,0,0]
[14,"Moe","Johannes","Heming",79,3,null,"","","","12",14,11,"",null,79,"","","","","","","",null,null,null,null,null,null,null,null,null,null,null,null,null,null,null,null,"12",22,5,{"$f":"AO19+AP19","v":27},null,14,18,5,23,null,11,24,{"$f":"5","v":5},{"$f":"AY19+AZ19","v":29},null,null,null,null,null,null,14,18,null,0,1,0,0,0,0,1,0,0]
[15,"Ulven","Anders","Heming",74,2,null,"","","","11",6,"","",null,74,"","","","","","","",null,null,null,null,null,null,null,null,null,null,null,null,null,null,null,null,"11",24,5,{"$f":"AO20+AP20","v":29},null,6,40,5,45,null,null,null,null,null,null,null,null,null,null,null,15,16,null,0,1,0,0,0,0,0,1,0]
[16,"Knudsen","Henrik Gonzales","IRS",66,2,null,"15","","","6","","","",null,66,"","","","","","","",null,"15",16,5,21,null,null,null,null,null,null,null,null,null,null,null,"6",40,5,{"$f":"AO21+AP21","v":45},null,null,null,null,null,null,null,null,null,null,null,null,null,null,null,null,16,15,null,0,1,0,0,0,0,0,1,0]
[17,"Holter","Mikael Oscar","Rælingen",65,1,null,"3","","","","","","",null,65,"","","","","","","",null,"3",60,5,65,null,null,null,null,null,null,null,null,null,null,null,null,null,null,null,null,null,null,null,null,null,null,null,null,null,null,null,null,null,null,null,17,14,null,0,1,0,0,0,0,0,0,1]
[18,"Stuen","Trym Andre","IRS",63,3,null,"14","","",16,16,"","",null,63,"","","","","","","",null,"14",18,5,23,null,null,null,null,null,null,null,null,null,null,null,16,15,5,{"$f":"AO23+AP23","v":20},null,16,15,5,{"$f":"AT23+AU23","v":20},null,null,null,null,null,null,null,null,null,null,null,18,13,null,0,1,0,0,0,0,1,0,0]
[19,"Bang","Eirik Aleksander","HSIL",62,2,null,"13","","","",8,"","",null,62,"","","","","","","",null,"13",20,5,25,null,null,null,null,null,null,null,null,null,null,null,null,null,null,null,null,8,32,5,{"$f":"AT24+AU24","v":37},null,null,null,null,null,null,null,null,null,null,null,19,12,null,0,1,0,0,0,0,0,1,0]
[20,"Ekeberg","Frikk","Kjelsås",54,2,null,"","","13","","","",11,null,54,"","","","","","","",null,null,null,null,null,null,null,null,null,null,null,"13",20,5,{"$f":"AJ25+AK25","v":25},null,null,null,null,null,null,null,null,null,null,null,null,null,null,null,null,11,24,{"$f":"5","v":5},{"$f":"BD25+BE25","v":29},null,20,11,null,0,1,0,0,0,0,0,1,0]
[21,"Ødegaard","Magnus","Ready",50,1,null,"","","5","","","","",null,50,"","","","","","","",null,null,null,null,null,null,null,null,null,null,null,"5",45,5,{"$f":"AJ26+AK26","v":50},null,null,null,null,null,null,null,null,null,null,null,null,null,null,null,null,null,null,null,null,null,21,10,null,0,1,0,0,0,0,0,0,1]
[22,"Strand","Sebastian","Ready",46,2,null,"","7","","DNF","","","",null,46,"","","","","","","",null,null,null,null,null,null,"7",36,5,{"$f":"AE27+AF27","v":41},null,null,null,null,null,null,"DNF",0,5,{"$f":"AO27+AP27","v":5},null,null,null,null,null,null,null,null,null,null,null,null,null,null,null,null,22,9,null,0,1,0,0,0,0,0,1,0]
[22,"Wandem","Andreas","Heming",46,2,null,"","","",17,"",12,"",null,46,"","","","","","","",null,null,null,null,null,null,null,null,null,null,null,null,null,null,null,null,17,14,5,{"$f":"AO28+AP28","v":19},null,null,null,null,null,null,12,22,{"$f":"5","v":5},{"$f":"AY28+AZ28","v":27},null,null,null,null,null,null,23,8,null,0,1,0,0,0,0,0,1,0]
[22,"Melbye","Henrik Hagensen","Nordstrand",46,3,null,"","","","",20,"DSQ",13,null,46,"","","","","","","",null,null,null,null,null,null,null,null,null,null,null,null,null,null,null,null,null,null,null,null,null,20,11,5,{"$f":"AT29+AU29","v":16},null,"DSQ",0,{"$f":"5","v":5},{"$f":"AY29+AZ29","v":5},null,13,20,{"$f":"5","v":5},{"$f":"BD29+BE29","v":25},null,24,7,null,0,1,0,0,0,0,1,0,0]
[25,"Bostad","Ludvig Wormnæs","TRY",45,3,null,"","","DNF",23,"","",12,null,45,"","","","","","","",null,null,null,null,null,null,null,null,null,null,null,"DNF",0,5,{"$f":"AJ30+AK30","v":5},null,23,8,5,{"$f":"AO30+AP30","v":13},null,null,null,null,null,null,null,null,null,null,null,12,22,{"$f":"5","v":5},{"$f":"BD30+BE30","v":27},null,25,6,null,0,1,0,0,0,0,1,0,0]
[26,"Lysklætt","Wilhelm Eliassen","Heming",41,1,null,"","","","7","","","",null,41,"","","","","","","",null,null,null,null,null,null,null,null,null,null,null,null,null,null,null,null,"7",36,5,{"$f":"AO31+AP31","v":41},null,null,null,null,null,null,null,null,null,null,null,null,null,null,null,null,26,5,null,0,1,0,0,0,0,0,0,1]
[27,"Kroken","Elias","Heming",37,1,null,"","","","8","","","",null,37,"","","","","","","",null,null,null,null,null,null,null,null,null,null,null,null,null,null,null,null,"8",32,5,{"$f":"AO32+AP32","v":37},null,null,null,null,null,null,null,null,null,null,null,null,null,null,null,null,27,4,null,0,1,0,0,0,0,0,0,1]
[28,"Naustdal","Sverre Bergseth","Kjelsås",35,2,null,"","","",19,18,"","",null,35,"","","","","","","",null,null,null,null,null,null,null,null,null,null,null,null,null,null,null,null,19,12,5,{"$f":"AO33+AP33","v":17},null,18,13,5,{"$f":"AT33+AU33","v":18},null,null,null,null,null,null,null,null,null,null,null,28,3,null,0,1,0,0,0,0,0,1,0]
[29,"Helgaker","Torjus","Harestua",31,1,null,"","","10","","","","",null,31,"","","","","","","",null,null,null,null,null,null,null,null,null,null,null,"10",26,5,{"$f":"AJ34+AK34","v":31},null,null,null,null,null,null,null,null,null,null,null,null,null,null,null,null,null,null,null,null,null,29,2,null,0,1,0,0,0,0,0,0,1]
[30,"Dahl","Felix Linus","Njård",29,1,null,"","","11","","","","",null,29,"","","","","","","",null,null,null,null,null,null,null,null,null,null,null,"11",24,5,{"$f":"AJ35+AK35","v":29},null,null,null,null,null,null,null,null,null,null,null,null,null,null,null,null,null,null,null,null,null,30,1,null,0,1,0,0,0,0,0,0,1]
[31,"Selte","Nils","Njård",27,1,null,"","","12","","","","",null,27,"","","","","","","",null,null,null,null,null,null,null,null,null,null,null,"12",22,5,{"$f":"AJ36+AK36","v":27},null,null,null,null,null,null,null,null,null,null,null,null,null,null,null,null,null,null,null,null,null,31,null,null,0,1,0,0,0,0,0,0,1]
[32,"Brandt","Jonas","Heming",25,1,null,"","","","13","","","",null,25,"","","","","","","",null,null,null,null,null,null,null,null,null,null,null,null,null,null,null,null,"13",20,5,{"$f":"AO37+AP37","v":25},null,null,null,null,null,null,null,null,null,null,null,null,null,null,null,null,32,null,null,0,1,0,0,0,0,0,0,1]
[32,"Harloff","Nils","Nordstrand",25,1,null,"","","","","",13,"",null,25,"","","","","","","",null,null,null,null,null,null,null,null,null,null,null,null,null,null,null,null,null,null,null,null,null,null,null,null,null,null,13,20,{"$f":"5","v":5},{"$f":"AY38+AZ38","v":25},null,null,null,null,null,null,33,null,null,0,1,0,0,0,0,0,0,1]
[34,"Fegth","Oscar","Heming",23,1,null,"","","","14","","","",null,23,"","","","","","","",null,null,null,null,null,null,null,null,null,null,null,null,null,null,null,null,"14",18,5,{"$f":"AO39+AP39","v":23},null,null,null,null,null,null,null,null,null,null,null,null,null,null,null,null,34,null,null,0,1,0,0,0,0,0,0,1]
[34,"Conradi","Petter","Nordstrand",23,1,null,"","","","","",14,"",null,23,"","","","","","","",null,null,null,null,null,null,null,null,null,null,null,null,null,null,null,null,null,null,null,null,null,null,null,null,null,null,14,18,{"$f":"5","v":5},{"$f":"AY40+AZ40","v":23},null,null,null,null,null,null,35,null,null,0,1,0,0,0,0,0,0,1]
[36,"Strømme","Paul","Heming",21,1,null,"","","","15","","","",null,21,"","","","","","","",null,null,null,null,null,null,null,null,null,null,null,null,null,null,null,null,"15",16,5,{"$f":"AO41+AP41","v":21},null,null,null,null,null,null,null,null,null,null,null,null,null,null,null,null,36,null,null,0,1,0,0,0,0,0,0,1]
[37,"Selte","Nicolai","Heming",20,2,null,"DSQ","","",21,"","","",null,20,"","","","","","","",null,"DSQ",0,5,5,null,null,null,null,null,null,null,null,null,null,null,21,10,5,{"$f":"AO42+AP42","v":15},null,null,null,null,null,null,null,null,null,null,null,null,null,null,null,null,37,null,null,0,1,0,0,0,0,0,1,0]
[38,"Andersgaard","Jesper","Lørenskog",18,1,null,"","","",18,"","","",null,18,"","","","","","","",null,null,null,null,null,null,null,null,null,null,null,null,null,null,null,null,18,13,5,{"$f":"AO43+AP43","v":18},null,null,null,null,null,null,null,null,null,null,null,null,null,null,null,null,38,null,null,0,1,0,0,0,0,0,0,1]
[39,"Jenner","Bo","HSIL",17,1,null,"","","","",19,"","",null,17,"","","","","","","",null,null,null,null,null,null,null,null,null,null,null,null,null,null,null,null,null,null,null,null,null,19,12,5,{"$f":"AT44+AU44","v":17},null,null,null,null,null,null,null,null,null,null,null,39,null,null,0,1,0,0,0,0,0,0,1]
[40,"Bakkevik","Jacob","Heming",16,1,null,"","","",20,"","","",null,16,"","","","","","","",null,null,null,null,null,null,null,null,null,null,null,null,null,null,null,null,20,11,5,{"$f":"AO45+AP45","v":16},null,null,null,null,null,null,null,null,null,null,null,null,null,null,null,null,40,null,null,0,1,0,0,0,0,0,0,1]
[41,"Norstrand","Tobias","Heming",14,1,null,"","","",22,"","","",null,14,"","","","","","","",null,null,null,null,null,null,null,null,null,null,null,null,null,null,null,null,22,9,5,{"$f":"AO46+AP46","v":14},null,null,null,null,null,null,null,null,null,null,null,null,null,null,null,null,41,null,null,0,1,0,0,0,0,0,0,1]
[42,"Arvesen","Christian","BSK",5,1,null,"DSQ","","","","","","",null,5,"","","","","","","",null,"DSQ",0,5,5,null,null,null,null,null,null,null,null,null,null,null,null,null,null,null,null,null,null,null,null,null,null,null,null,null,null,null,null,null,null,null,42,null,null,0,1,0,0,0,0,0,0,1]
[42,"Foss","Christian August","Heming",5,1,null,"DSQ","","","","","","",null,5,"","","","","","","",null,"DSQ",0,5,5,null,null,null,null,null,null,null,null,null,null,null,null,null,null,null,null,null,null,null,null,null,null,null,null,null,null,null,null,null,null,null,43,null,null,0,1,0,0,0,0,0,0,1]
[42,"Hognes-Olsen","Emil","NeRo",5,1,null,"DSQ","","","","","","",null,5,"","","","","","","",null,"DSQ",0,5,5,null,null,null,null,null,null,null,null,null,null,null,null,null,null,null,null,null,null,null,null,null,null,null,null,null,null,null,null,null,null,null,44,null,null,0,1,0,0,0,0,0,0,1]
[45,null,null,null,{"$f":"P50","v":0},{"$f":"COUNT(AA50,AF50,AK50,AP50,AU50,AZ50,BE50)","v":0},null,{"$f":"IF(Y50=\"\",\"\",Y50)","v":""},{"$f":"IF(AD50=\"\",\"\",AD50)","v":""},{"$f":"IF(AI50=\"\",\"\",AI50)","v":""},{"$f":"IF(AN50=\"\",\"\",AN50)","v":""},{"$f":"IF(AS50=\"\",\"\",AS50)","v":""},{"$f":"IF(AX50=\"\",\"\",AX50)","v":""},{"$f":"IF(BC50=\"\",\"\",BC50)","v":""},null,{"$f":"AB50+AG50+AL50+AQ50+AV50+BA50+BF50","v":0},{"$f":"IF($F50>=5,IF(Z50=\"\",\"\",Z50),\"\")","v":""},{"$f":"IF($F50>=5,IF(AE50=\"\",\"\",AE50),\"\")","v":""},{"$f":"IF($F50>=5,IF(AJ50=\"\",\"\",AJ50),\"\")","v":""},{"$f":"IF($F50>=5,IF(AO50=\"\",\"\",AO50),\"\")","v":""},{"$f":"IF($F50>=5,IF(AT50=\"\",\"\",AT50),\"\")","v":""},{"$f":"IF($F50>=5,IF(AY50=\"\",\"\",AY50),\"\")","v":""},{"$f":"IF($F50>=5,IF(BD50=\"\",\"\",BD50),\"\")","v":""},null,null,null,null,null,null,null,null,null,null,null,null,null,null,null,null,null,null,null,null,null,null,null,null,null,null,null,null,null,null,null,null,null,null,null,null,45,null,null,0,0,0,0,0,0,0,0,0]
[45,null,null,null,{"$f":"P51","v":0},{"$f":"COUNT(AA51,AF51,AK51,AP51,AU51,AZ51,BE51)","v":0},null,{"$f":"IF(Y51=\"\",\"\",Y51)","v":""},{"$f":"IF(AD51=\"\",\"\",AD51)","v":""},{"$f":"IF(AI51=\"\",\"\",AI51)","v":""},{"$f":"IF(AN51=\"\",\"\",AN51)","v":""},{"$f":"IF(AS51=\"\",\"\",AS51)","v":""},{"$f":"IF(AX51=\"\",\"\",AX51)","v":""},"",null,{"$f":"AB51+AG51+AL51+AQ51+AV51+BA51+BF51","v":0},"","","","","","","",null,null,null,null,null,null,null,null,null,null,null,null,null,null,null,null,null,null,null,null,null,null,null,null,null,null,null,null,null,null,null,null,null,null,null,null,46,null,null,0,0,0,0,0,0,0,0,0]
[{"$f":"IF(E52<E51,BH52,A51)","v":45},null,null,null,{"$f":"P52","v":0},{"$f":"COUNT(AA52,AF52,AK52,AP52,AU52,AZ52,BE52)","v":0},null,{"$f":"IF(Y52=\"\",\"\",Y52)","v":""},{"$f":"IF(AD52=\"\",\"\",AD52)","v":""},{"$f":"IF(AI52=\"\",\"\",AI52)","v":""},{"$f":"IF(AN52=\"\",\"\",AN52)","v":""},{"$f":"IF(AS52=\"\",\"\",AS52)","v":""},{"$f":"IF(AX52=\"\",\"\",AX52)","v":""},"",null,{"$f":"AB52+AG52+AL52+AQ52+AV52+BA52+BF52","v":0},"","","","","","","",null,null,null,null,null,null,null,null,null,null,null,null,null,null,null,null,null,null,null,null,null,null,null,null,null,null,null,null,null,null,null,null,null,null,null,null,47,null,null,0,0,0,0,0,0,0,0,0]
[45,null,null,null,0,0,null,"","","","","","","",null,0,"","","","","","","",null,null,null,null,null,null,null,null,null,null,null,null,null,null,null,null,null,null,null,null,null,null,null,null,null,null,null,null,null,null,null,null,null,null,null,null,48,null,null,{"$f":"IF(F53>=4,1,0)","v":0},0,0,0,0,0,0,0,0]
[45,null,null,null,0,0,null,"","","","","","","",null,0,"","","","","","","",null,null,null,null,null,null,null,null,null,null,null,null,null,null,null,null,null,null,null,null,null,null,null,null,null,null,null,null,null,null,null,null,null,null,null,null,49,null,null,{"$f":"IF(F54>=4,1,0)","v":0},{"$f":"IF(F54>=1,1,0)","v":0},0,0,0,0,0,0,0]
[45,null,null,null,0,0,null,"","","","","","","",null,0,"","","","","","","",null,null,null,null,null,null,null,null,null,null,null,null,null,null,null,null,null,null,null,null,null,null,null,null,null,null,null,null,null,null,null,null,null,null,null,null,50,null,null,0,0,0,0,0,0,0,0,0]
[45,null,null,null,0,0,null,"","","","","","","",null,0,"","","","","","","",null,null,null,null,null,null,null,null,null,null,null,null,null,null,null,null,null,null,null,null,null,null,null,null,null,null,null,null,null,null,null,null,null,null,null,null,51,null,null,0,0,0,0,0,0,0,0,0]
[45,null,null,null,0,0,null,"","","","","","","",null,0,"","","","","","","",null,null,null,null,null,null,null,null,null,null,null,null,null,null,null,null,null,null,null,null,null,null,null,null,null,null,null,null,null,null,null,null,null,null,null,null,52,null,null,0,0,0,0,0,0,0,0,0]
[]
[]
[]
[]
[null,null,"Totalt antall løpere",null,{"$f":"SUM(BL6:BL58)","v":44}]
[null,null,"Løpere med minst fire renn",null,{"$f":"SUM(BK6:BK58)","v":10}]
[null,null,"Totalt antall løpere/renn",null,{"$f":"SUM(F6:F58)","v":116}]
[]
[null,null,"Løpere med 7 renn",null,{"$f":"SUM(BM6:BM57)","v":5}]
[null,null,"Løpere med 6 renn",null,{"$f":"SUM(BN6:BN57)","v":2}]
[null,null,"Løpere med 5 renn",null,{"$f":"SUM(BO6:BO57)","v":1}]
[null,null,"Løpere med 4 renn",null,{"$f":"SUM(BP6:BP57)","v":2}]
[null,null,"Løpere med 3 renn",null,{"$f":"SUM(BQ6:BQ57)","v":7}]
[null,null,"Løpere med 2 renn",null,{"$f":"SUM(BR6:BR57)","v":8}]
[null,null,"Løpere med kun 1 renn",null,{"$f":"SUM(BS6:BS57)","v":19}]
[null,null,"Sum/kontroll",null,{"$f":"SUM(E66:E72)","v":44}]

{"sheet":"J12 2013","index":19,"n_rows":62,"n_cols":71,"rows_kept":62,"cut":false,"hidden":false,"merged":[]}
["Resultatliste Oslo Cup 2013 - Jenter 12 år"]
[{"$f":"#REF!","v":{"$error":"#REF!"}},null,null,null,null,null,null,null,null,null,null,null,null,null,null,null,null,null,null,null,null,null,null,null,null,null,null,null,null,null,null,null,null,null,null,null,null,null,null,null,null,null,null,null,null,null,null,null,null,null,null,null,null,null,null,null,{"$f":"COUNT(BE6:BE66)","v":11}]
[null,null,null,null,null,null,null,"Miss Volvo","Readyrennet","Tropicana","Polarn O. Pyret","Euro-tecfarten","Nordstrand SL","Trollrennet",null,null,"Miss Volvo","Readyrennet","Tropicana","Polarn O. Pyret","Euro-tecfarten","Nordstrand SL","Trollrennet",null,"--------Miss Volvo----------",null,null,null,null,"-------Readyrennet---------",null,null,null,null,"-----Tropicanerennet-----",null,null,null,null,"---Polarn O. Pyret Cup-----",null,null,null,null,"-----Euro-tecfarten------",null,null,null,null,"------Nordstrand SL-------",null,null,null,null,"-------Trollrennet---------"]
[null,null,null,null,null,"Antall",null,null,null,null,null,null,null,null,null,"Poeng",null,null,null,null,null,null,null,null,null,"-------Poeng---------",null,null,null,null,"-------Poeng---------",null,null,null,null,"-------Poeng---------",null,null,null,null,"-------Poeng---------",null,null,null,null,"-------Poeng---------",null,null,null,null,"-------Poeng---------",null,null,null,null,"-------Poeng---------",null,null,null,null,null,null,"Løpere med ","Løpere som","Løpere med ","Løpere med ","Løpere med ","Løpere med ","Løpere med ","Løpere med ","Løpere med "]
["Plass","Etternavn","Fornavn","Klubb","Poeng","renn",null,"---------Plassering i rennene-------------",null,null,null,null,null,null,null,"brutto","Resultatpoeng hvis mer enn 4 renn",null,null,null,null,null,null,null,"Plass","Res.","Del.","Tot.",null,"Plass","Res.","Del.","Tot.",null,"Plass","Res.","Del.","Tot.",null,"Plass","Res.","Del.","Tot.",null,"Plass","Res.","Del.","Tot.",null,"Plass","Res.","Del.","Tot.",null,"Plass","Res.","Del.","Tot.",null,null,null,null,"minst 4 renn","har vært med","7 renn","6 renn","5 renn","4 renn","3 renn","2 renn","kun 1 renn"]
[1,"Ringvold","Paulina","Ready",{"$f":"P6-T6-Q6","v":370},{"$f":"COUNT(AA6,AF6,AK6,AP6,AU6,AZ6,BE6)","v":6},null,{"$f":"IF(Y6=\"\",\"\",Y6)","v":"DSQ"},{"$f":"IF(AD6=\"\",\"\",AD6)","v":""},{"$f":"IF(AI6=\"\",\"\",AI6)","v":1},{"$f":"IF(AN6=\"\",\"\",AN6)","v":"DSQ"},{"$f":"IF(AS6=\"\",\"\",AS6)","v":2},{"$f":"IF(AX6=\"\",\"\",AX6)","v":3},{"$f":"IF(BC6=\"\",\"\",BC6)","v":1},null,{"$f":"AB6+AG6+AL6+AQ6+AV6+BA6+BF6","v":370},{"$f":"IF($F6>=5,IF(Z6=\"\",\"\",Z6),\"\")","v":0},{"$f":"IF($F6>=5,IF(AE6=\"\",\"\",AE6),\"\")","v":""},{"$f":"IF($F6>=5,IF(AJ6=\"\",\"\",AJ6),\"\")","v":100},{"$f":"IF($F6>=5,IF(AO6=\"\",\"\",AO6),\"\")","v":0},{"$f":"IF($F6>=5,IF(AT6=\"\",\"\",AT6),\"\")","v":80},{"$f":"IF($F6>=5,IF(AY6=\"\",\"\",AY6),\"\")","v":60},{"$f":"IF($F6>=5,IF(BD6=\"\",\"\",BD6),\"\")","v":100},null,"DSQ",0,5,5,null,null,null,null,null,null,1,100,5,{"$f":"AJ6+AK6","v":105},null,"DSQ",0,5,{"$f":"AO6+AP6","v":5},null,2,80,5,{"$f":"AT6+AU6","v":85},null,3,60,{"$f":"5","v":5},{"$f":"AY6+AZ6","v":65},null,1,100,{"$f":"5","v":5},{"$f":"BD6+BE6","v":105},null,1,100,null,{"$f":"IF(F6>=4,1,0)","v":1},{"$f":"IF(F6>=1,1,0)","v":1},{"$f":"IF($F6=7,1,0)","v":0},{"$f":"IF($F6=6,1,0)","v":1},{"$f":"IF($F6=5,1,0)","v":0},{"$f":"IF($F6=4,1,0)","v":0},{"$f":"IF($F6=3,1,0)","v":0},{"$f":"IF($F6=2,1,0)","v":0},{"$f":"IF($F6=1,1,0)","v":0}]
[{"$f":"IF(E7<E6,BH7,A6)","v":2},"Gran Olsen","Erle","Ready",{"$f":"P7-V7-W7","v":350},6,null,3,"",2,2,1,"DSQ",9,null,379,60,"",80,80,100,0,29,null,3,60,5,65,null,null,null,null,null,null,2,80,5,{"$f":"AJ7+AK7","v":85},null,2,80,5,85,null,1,100,5,{"$f":"AT7+AU7","v":105},null,"DSQ",0,{"$f":"5","v":5},{"$f":"AY7+AZ7","v":5},null,9,29,{"$f":"5","v":5},{"$f":"BD7+BE7","v":34},null,2,80,null,1,{"$f":"IF(F7>=1,1,0)","v":1},{"$f":"IF($F7=7,1,0)","v":0},{"$f":"IF($F7=6,1,0)","v":1},{"$f":"IF($F7=5,1,0)","v":0},{"$f":"IF($F7=4,1,0)","v":0},{"$f":"IF($F7=3,1,0)","v":0},{"$f":"IF($F7=2,1,0)","v":0},{"$f":"IF($F7=1,1,0)","v":0}]
[3,"Larsen","Helene","IRS",{"$f":"P8-Q8","v":227},5,null,11,"","",8,6,2,4,null,251,24,"","",32,40,80,50,null,11,24,5,29,null,null,null,null,null,null,null,null,null,null,null,8,32,5,37,null,6,40,5,{"$f":"AT8+AU8","v":45},null,2,80,{"$f":"5","v":5},{"$f":"AY8+AZ8","v":85},null,4,50,{"$f":"5","v":5},{"$f":"BD8+BE8","v":55},null,3,60,null,1,1,0,0,1,0,0,0,0]
[4,"Syversen","Lea Fondevik","IRS",{"$f":"P9","v":218},4,null,9,"","",9,"",1,6,null,218,"","","","","","","",null,9,29,5,34,null,null,null,null,null,null,null,null,null,null,null,9,29,5,34,null,null,null,null,null,null,1,100,{"$f":"5","v":5},{"$f":"AY9+AZ9","v":105},null,6,40,{"$f":"5","v":5},{"$f":"BD9+BE9","v":45},null,4,50,null,1,1,0,0,0,1,0,0,0]
[5,"Fleicher","Julie","Heming",{"$f":"P10","v":205},3,null,5,"","",1,5,"","",null,205,"","","","","","","",null,5,45,5,50,null,null,null,null,null,null,null,null,null,null,null,1,100,5,105,null,5,45,5,{"$f":"AT10+AU10","v":50},null,null,null,null,null,null,null,null,null,null,null,5,45,null,0,1,0,0,0,0,1,0,0]
[6,"Nergaard","Emilie","Heming",{"$f":"P11-W11","v":202},5,null,8,"",5,6,3,"","DNF",null,202,32,"",45,40,60,"",0,null,8,32,5,37,null,null,null,null,null,null,5,45,5,{"$f":"AJ11+AK11","v":50},null,6,40,5,45,null,3,60,5,{"$f":"AT11+AU11","v":65},null,null,null,null,null,null,"DNF",0,{"$f":"5","v":5},{"$f":"BD11+BE11","v":5},null,6,40,null,1,1,0,0,1,0,0,0,0]
[7,"Mogens Karlsson","Cornelia","BSK",{"$f":"P12","v":195},3,null,"DSQ",1,"","","","",2,null,195,"","","","","","","",null,"DSQ",0,5,5,null,1,100,5,{"$f":"AE12+AF12","v":105},null,null,null,null,null,null,null,null,null,null,null,null,null,null,null,null,null,null,null,null,null,2,80,{"$f":"5","v":5},{"$f":"BD12+BE12","v":85},null,7,36,null,0,1,0,0,0,0,1,0,0]
[8,"Norum","Martha","Heming",{"$f":"P13-Q13","v":190},5,null,13,"",6,7,9,"",3,null,210,20,"",40,36,29,"",60,null,13,20,5,25,null,null,null,null,null,null,6,40,5,{"$f":"AJ13+AK13","v":45},null,7,36,5,{"$f":"AO13+AP13","v":41},null,9,29,5,{"$f":"AT13+AU13","v":34},null,null,null,null,null,null,3,60,{"$f":"5","v":5},{"$f":"BD13+BE13","v":65},null,8,32,null,1,1,0,0,1,0,0,0,0]
[9,"Fjeldstad","Tomine","Ready",{"$f":"P14-Q14","v":179},5,null,16,4,12,"","",4,8,null,194,15,50,22,"","",50,32,null,16,15,5,20,null,4,50,5,{"$f":"AE14+AF14","v":55},null,12,22,5,{"$f":"AJ14+AK14","v":27},null,null,null,null,null,null,null,null,null,null,null,4,50,{"$f":"5","v":5},{"$f":"AY14+AZ14","v":55},null,8,32,{"$f":"5","v":5},{"$f":"BD14+BE14","v":37},null,9,29,null,1,1,0,0,1,0,0,0,0]
[10,"Lindstøl","Tinna Jagge","Heming",{"$f":"P15","v":160},3,null,4,"",4,5,"","","",null,160,"","","","","","","",null,4,50,5,55,null,null,null,null,null,null,4,50,5,{"$f":"AJ15+AK15","v":55},null,5,45,5,{"$f":"AO15+AP15","v":50},null,null,null,null,null,null,null,null,null,null,null,null,null,null,null,null,10,26,null,0,1,0,0,0,0,1,0,0]
[11,"Fosse","Ester","Heming",158,4,null,7,"",7,4,15,"","",null,158,"","","","","","","",null,7,36,5,41,null,null,null,null,null,null,7,36,5,{"$f":"AJ16+AK16","v":41},null,4,50,5,{"$f":"AO16+AP16","v":55},null,15,16,5,{"$f":"AT16+AU16","v":21},null,null,null,null,null,null,null,null,null,null,null,11,24,null,1,1,0,0,0,1,0,0,0]
[12,"Melkeraaen","Marte","HSIL",141,3,null,21,2,"","",7,"","",null,141,"","","","","","","",null,21,10,5,15,null,2,80,5,{"$f":"AE17+AF17","v":85},null,null,null,null,null,null,null,null,null,null,null,7,36,5,{"$f":"AT17+AU17","v":41},null,null,null,null,null,null,null,null,null,null,null,12,22,null,0,1,0,0,0,0,1,0,0]
[13,"Røed","Christina Haukenes","Heming",135,3,null,"DSQ","",3,3,"","","",null,135,"","","","","","","",null,"DSQ",0,5,5,null,null,null,null,null,null,3,60,5,{"$f":"AJ18+AK18","v":65},null,3,60,5,{"$f":"AO18+AP18","v":65},null,null,null,null,null,null,null,null,null,null,null,null,null,null,null,null,13,20,null,0,1,0,0,0,0,1,0,0]
[14,"Sjølshagen","Marielle Kiil","Kjelsås",134,4,null,"",6,14,"",13,"",7,null,134,"","","","","","","",null,null,null,null,null,null,6,40,5,{"$f":"AE19+AF19","v":45},null,14,18,5,{"$f":"AJ19+AK19","v":23},null,null,null,null,null,null,13,20,5,{"$f":"AT19+AU19","v":25},null,null,null,null,null,null,7,36,{"$f":"5","v":5},{"$f":"BD19+BE19","v":41},null,14,18,null,1,1,0,0,0,1,0,0,0]
[15,"Nergaard","Ellen","Heming",128,4,null,18,"",10,11,"","",5,null,128,"","","","","","","",null,18,13,5,18,null,null,null,null,null,null,10,26,5,{"$f":"AJ20+AK20","v":31},null,11,24,5,{"$f":"AO20+AP20","v":29},null,null,null,null,null,null,null,null,null,null,null,5,45,{"$f":"5","v":5},{"$f":"BD20+BE20","v":50},null,15,16,null,1,1,0,0,0,1,0,0,0]
[16,"Wilhelmsen","Tiril Alsgaard","Rælingen",105,1,null,1,"","","","","","",null,105,"","","","","","","",null,1,100,5,105,null,null,null,null,null,null,null,null,null,null,null,null,null,null,null,null,null,null,null,null,null,null,null,null,null,null,null,null,null,null,null,16,15,null,0,1,0,0,0,0,0,0,1]
[17,"Weisæth","Maria Lindheim","HSIL",97,3,null,"DSQ",3,"","",12,"","",null,97,"","","","","","","",null,"DSQ",0,5,5,null,3,60,5,{"$f":"AE22+AF22","v":65},null,null,null,null,null,null,null,null,null,null,null,12,22,5,{"$f":"AT22+AU22","v":27},null,null,null,null,null,null,null,null,null,null,null,17,14,null,0,1,0,0,0,0,1,0,0]
[17,"Stormyhr","Nora","HSIL",97,3,null,20,5,"","",10,"","",null,97,"","","","","","","",null,20,11,5,16,null,5,45,5,{"$f":"AE23+AF23","v":50},null,null,null,null,null,null,null,null,null,null,null,10,26,5,{"$f":"AT23+AU23","v":31},null,null,null,null,null,null,null,null,null,null,null,18,13,null,0,1,0,0,0,0,1,0,0]
[19,"Brækken","Marie","IRS",87,3,null,15,"",8,"",11,"","",null,87,"","","","","","","",null,15,16,5,21,null,null,null,null,null,null,8,32,5,{"$f":"AJ24+AK24","v":37},null,null,null,null,null,null,11,24,5,{"$f":"AT24+AU24","v":29},null,null,null,null,null,null,null,null,null,null,null,19,12,null,0,1,0,0,0,0,1,0,0]
[20,"Bang","Anja Helene","HSIL",86,2,null,10,"","","",4,"","",null,86,"","","","","","","",null,10,26,5,31,null,null,null,null,null,null,null,null,null,null,null,null,null,null,null,null,4,50,5,{"$f":"AT25+AU25","v":55},null,null,null,null,null,null,null,null,null,null,null,20,11,null,0,1,0,0,0,0,0,1,0]
[21,"Berge","Tuva","Rena",85,1,null,2,"","","","","","",null,85,"","","","","","","",null,2,80,5,85,null,null,null,null,null,null,null,null,null,null,null,null,null,null,null,null,null,null,null,null,null,null,null,null,null,null,null,null,null,null,null,21,10,null,0,1,0,0,0,0,0,0,1]
[22,"Sørli","Marit Hoksnes","Nordstrand",75,2,null,"","","","",13,5,"",null,75,"","","","","","","",null,null,null,null,null,null,null,null,null,null,null,null,null,null,null,null,null,null,null,null,null,13,20,5,{"$f":"AT27+AU27","v":25},null,5,45,{"$f":"5","v":5},{"$f":"AY27+AZ27","v":50},null,null,null,null,null,null,22,9,null,0,1,0,0,0,0,0,1,0]
[23,"Petterson Nystuen","Lea Gabriella","Heming",73,3,null,19,"",11,12,"","","",null,73,"","","","","","","",null,19,12,5,17,null,null,null,null,null,null,11,24,5,{"$f":"AJ28+AK28","v":29},null,12,22,5,{"$f":"AO28+AP28","v":27},null,null,null,null,null,null,null,null,null,null,null,null,null,null,null,null,23,8,null,0,1,0,0,0,0,1,0,0]
[24,"Eide","Ingrid Moen","Heming",65,2,null,"","",9,10,"","","",null,65,"","","","","","","",null,null,null,null,null,null,null,null,null,null,null,9,29,5,{"$f":"AJ29+AK29","v":34},null,10,26,5,{"$f":"AO29+AP29","v":31},null,null,null,null,null,null,null,null,null,null,null,null,null,null,null,null,24,7,null,0,1,0,0,0,0,0,1,0]
[25,"Berglund","Kaja","HSIL",62,2,null,"","",13,"",8,"","",null,62,"","","","","","","",null,null,null,null,null,null,null,null,null,null,null,13,20,5,{"$f":"AJ30+AK30","v":25},null,null,null,null,null,null,8,32,5,{"$f":"AT30+AU30","v":37},null,null,null,null,null,null,null,null,null,null,null,25,6,null,0,1,0,0,0,0,0,1,0]
[26,"Henni","Matrine","Stabek",45,1,null,6,"","","","","","",null,45,"","","","","","","",null,6,40,5,45,null,null,null,null,null,null,null,null,null,null,null,null,null,null,null,null,null,null,null,null,null,null,null,null,null,null,null,null,null,null,null,26,5,null,0,1,0,0,0,0,0,0,1]
[27,"Frøland","Margrethe","Rælingen",27,1,null,12,"","","","","","",null,27,"","","","","","","",null,12,22,5,27,null,null,null,null,null,null,null,null,null,null,null,null,null,null,null,null,null,null,null,null,null,null,null,null,null,null,null,null,null,null,null,27,4,null,0,1,0,0,0,0,0,0,1]
[28,"Kolstad","Helena","Rælingen",23,1,null,14,"","","","","","",null,23,"","","","","","","",null,14,18,5,23,null,null,null,null,null,null,null,null,null,null,null,null,null,null,null,null,null,null,null,null,null,null,null,null,null,null,null,null,null,null,null,28,3,null,0,1,0,0,0,0,0,0,1]
[29,"Moen","Ingvild","IRS",19,1,null,17,"","","","","","",null,19,"","","","","","","",null,17,14,5,19,null,null,null,null,null,null,null,null,null,null,null,null,null,null,null,null,null,null,null,null,null,null,null,null,null,null,null,null,null,null,null,29,2,null,0,1,0,0,0,0,0,0,1]
[30,"Ensrud","Mabel Margaretha Larssen","Lillehammer",5,1,null,"DSQ","","","","","","",null,5,"","","","","","","",null,"DSQ",0,5,5,null,null,null,null,null,null,null,null,null,null,null,null,null,null,null,null,null,null,null,null,null,null,null,null,null,null,null,null,null,null,null,30,1,null,0,1,0,0,0,0,0,0,1]
[30,"Jonseth","Mille","BSK",5,1,null,"DSQ","","","","","","",null,5,"","","","","","","",null,"DSQ",0,5,5,null,null,null,null,null,null,null,null,null,null,null,null,null,null,null,null,null,null,null,null,null,null,null,null,null,null,null,null,null,null,null,31,null,null,0,1,0,0,0,0,0,0,1]
[30,"Methiesen","Oda","IRS",5,1,null,"DSQ","","","","","","",null,5,"","","","","","","",null,"DSQ",0,5,5,null,null,null,null,null,null,null,null,null,null,null,null,null,null,null,null,null,null,null,null,null,null,null,null,null,null,null,null,null,null,null,32,null,null,0,1,0,0,0,0,0,0,1]
[30,"Astrup","Isabel","Heming",5,1,null,"","","","DNF","","","",null,5,"","","","","","","",null,null,null,null,null,null,null,null,null,null,null,null,null,null,null,null,"DNF",0,5,5,null,null,null,null,null,null,null,null,null,null,null,null,null,null,null,null,33,null,null,0,1,0,0,0,0,0,0,1]
[30,"Nygård","Martine","Kongsberg",5,1,null,"","","","","","","DNF",null,5,"","","","","","","",null,null,null,null,null,null,null,null,null,null,null,null,null,null,null,null,null,null,null,null,null,null,null,null,null,null,null,null,null,null,null,"DNF",0,{"$f":"5","v":5},{"$f":"BD39+BE39","v":5},null,34,null,null,0,1,0,0,0,0,0,0,1]
[35,null,null,null,0,0,null,"","","","","","","",null,0,"","","","","","","",null,null,null,null,null,null,null,null,null,null,null,null,null,null,null,null,null,null,null,null,null,null,null,null,null,null,null,null,null,null,null,null,null,null,null,null,35,null,null,0,0,0,0,0,0,0,0,0]
[35,null,null,null,{"$f":"P41","v":0},{"$f":"COUNT(AA41,AF41,AK41,AP41,AU41,AZ41,BE41)","v":0},null,{"$f":"IF(Y41=\"\",\"\",Y41)","v":""},{"$f":"IF(AD41=\"\",\"\",AD41)","v":""},{"$f":"IF(AI41=\"\",\"\",AI41)","v":""},{"$f":"IF(AN41=\"\",\"\",AN41)","v":""},{"$f":"IF(AS41=\"\",\"\",AS41)","v":""},{"$f":"IF(AX41=\"\",\"\",AX41)","v":""},{"$f":"IF(BC41=\"\",\"\",BC41)","v":""},null,{"$f":"AB41+AG41+AL41+AQ41+AV41+BA41+BF41","v":0},{"$f":"IF($F41>=5,IF(Z41=\"\",\"\",Z41),\"\")","v":""},{"$f":"IF($F41>=5,IF(AE41=\"\",\"\",AE41),\"\")","v":""},{"$f":"IF($F41>=5,IF(AJ41=\"\",\"\",AJ41),\"\")","v":""},{"$f":"IF($F41>=5,IF(AO41=\"\",\"\",AO41),\"\")","v":""},{"$f":"IF($F41>=5,IF(AT41=\"\",\"\",AT41),\"\")","v":""},{"$f":"IF($F41>=5,IF(AY41=\"\",\"\",AY41),\"\")","v":""},{"$f":"IF($F41>=5,IF(BD41=\"\",\"\",BD41),\"\")","v":""},null,null,null,null,null,null,null,null,null,null,null,null,null,null,null,null,null,null,null,null,null,null,null,null,null,null,null,null,null,null,null,null,null,null,null,null,36,null,null,0,0,0,0,0,0,0,0,0]
[35,null,null,null,0,0,null,"","","","","","","",null,0,"","","","","","","",null,null,null,null,null,null,null,null,null,null,null,null,null,null,null,null,null,null,null,null,null,null,null,null,null,null,null,null,null,null,null,null,null,null,null,null,37,null,null,0,0,0,0,0,0,0,0,0]
[35,null,null,null,0,0,null,"","","","","","","",null,0,"","","","","","","",null,null,null,null,null,null,null,null,null,null,null,null,null,null,null,null,null,null,null,null,null,null,null,null,null,null,null,null,null,null,null,null,null,null,null,null,38,null,null,0,0,0,0,0,0,0,0,0]
[35,null,null,null,0,0,null,"","","","","","","",null,0,"","","","","","","",null,null,null,null,null,null,null,null,null,null,null,null,null,null,null,null,null,null,null,null,null,null,null,null,null,null,null,null,null,null,null,null,null,null,null,null,39,null,null,0,0,0,0,0,0,0,0,0]
[35,null,null,null,0,0,null,"","","","","","","",null,0,"","","","","","","",null,null,null,null,null,null,null,null,null,null,null,null,null,null,null,null,null,null,null,null,null,null,null,null,null,null,null,null,null,null,null,null,null,null,null,null,40,null,null,0,0,0,0,0,0,0,0,0]
[]
[]
[]
[]
[]
[null,null,"Totalt antall løpere",null,{"$f":"SUM(BL6:BL45)","v":34}]
[null,null,"Løpere med minst fire renn",null,{"$f":"SUM(BK6:BK45)","v":10}]
[null,null,"Totalt antall løpere/renn",null,{"$f":"SUM(F6:F45)","v":94}]
[]
[null,null,"Løpere med 7 renn",null,{"$f":"SUM(BM6:BM45)","v":0}]
[null,null,"Løpere med 6 renn",null,{"$f":"SUM(BN6:BN45)","v":2}]
[null,null,"Løpere med 5 renn",null,{"$f":"SUM(BO6:BO45)","v":4}]
[null,null,"Løpere med 4 renn",null,{"$f":"SUM(BP6:BP45)","v":4}]
[null,null,"Løpere med 3 renn",null,{"$f":"SUM(BQ6:BQ45)","v":9}]
[null,null,"Løpere med 2 renn",null,{"$f":"SUM(BR6:BR45)","v":4}]
[null,null,"Løpere med kun 1 renn",null,{"$f":"SUM(BS6:BS45)","v":11}]
[null,null,"Sum/kontroll",null,{"$f":"SUM(E55:E61)","v":34}]

{"sheet":"G12 2013","index":20,"n_rows":82,"n_cols":71,"rows_kept":82,"cut":false,"hidden":false,"merged":[]}
["Resultatliste Oslo Cup 2013 - Gutter 12 år"]
[{"$f":"#REF!","v":{"$error":"#REF!"}}]
[null,null,null,null,null,null,null,"Miss Volvo","Readyrennet","Tropicana","Polarn O. Pyret","Euro-tecfarten","Nordstrand SL","Trollrennet",null,null,"Miss Volvo","Readyrennet","Tropicana","Polarn O. Pyret","Euro-tecfarten","Nordstrand SL","Trollrennet",null,"---------Mr Volvo-----------",null,null,null,null,"-------Readyrennet---------",null,null,null,null,"-----Tropicanerennet-----",null,null,null,null,"---Polarn O. Pyret Cup-----",null,null,null,null,"-----Euro-tecfarten------",null,null,null,null,"------Nordstrand SL-------",null,null,null,null,"-------Trollrennet---------"]
[null,null,null,null,null,"Antall",null,null,null,null,null,null,null,null,null,"Poeng",null,null,null,null,null,null,null,null,null,"-------Poeng---------",null,null,null,null,"-------Poeng---------",null,null,null,null,"-------Poeng---------",null,null,null,null,"-------Poeng---------",null,null,null,null,"-------Poeng---------",null,null,null,null,"-------Poeng---------",null,null,null,null,"-------Poeng---------",null,null,null,null,null,null,"Løpere med ","Løpere som","Løpere med ","Løpere med ","Løpere med ","Løpere med ","Løpere med ","Løpere med ","Løpere med "]
["Plass","Etternavn","Fornavn","Klubb","Poeng","renn",null,"---------Plassering i rennene-------------",null,null,null,null,null,null,null,"brutto","Resultatpoeng hvis mer enn 4 renn",null,null,null,null,null,null,null,"Plass","Res.","Del.","Tot.",null,"Plass","Res.","Del.","Tot.",null,"Plass","Res.","Del.","Tot.",null,"Plass","Res.","Del.","Tot.",null,"Plass","Res.","Del.","Tot.",null,"Plass","Res.","Del.","Tot.",null,"Plass","Res.","Del.","Tot.",null,null,null,null,"minst 4 renn","har vært med","7 renn","6 renn","5 renn","4 renn","3 renn","2 renn","kun 1 renn"]
[1,"Zimmer","Oscar","IRS",{"$f":"P6-Q6-T6","v":410},{"$f":"COUNT(AA6,AF6,AK6,AP6,AU6,AZ6,BE6)","v":6},null,{"$f":"IF(Y6=\"\",\"\",Y6)","v":"DNF"},{"$f":"IF(AD6=\"\",\"\",AD6)","v":1},{"$f":"IF(AI6=\"\",\"\",AI6)","v":1},{"$f":"IF(AN6=\"\",\"\",AN6)","v":3},{"$f":"IF(AS6=\"\",\"\",AS6)","v":""},{"$f":"IF(AX6=\"\",\"\",AX6)","v":2},{"$f":"IF(BC6=\"\",\"\",BC6)","v":1},null,{"$f":"AB6+AG6+AL6+AQ6+AV6+BA6+BF6","v":470},{"$f":"IF($F6>=5,IF(Z6=\"\",\"\",Z6),\"\")","v":0},{"$f":"IF($F6>=5,IF(AE6=\"\",\"\",AE6),\"\")","v":100},{"$f":"IF($F6>=5,IF(AJ6=\"\",\"\",AJ6),\"\")","v":100},{"$f":"IF($F6>=5,IF(AO6=\"\",\"\",AO6),\"\")","v":60},{"$f":"IF($F6>=5,IF(AT6=\"\",\"\",AT6),\"\")","v":""},{"$f":"IF($F6>=5,IF(AY6=\"\",\"\",AY6),\"\")","v":80},{"$f":"IF($F6>=5,IF(BD6=\"\",\"\",BD6),\"\")","v":100},null,"DNF",0,5,5,null,1,100,5,{"$f":"AE6+AF6","v":105},null,1,100,5,{"$f":"AJ6+AK6","v":105},null,3,60,5,{"$f":"AO6+AP6","v":65},null,null,null,null,null,null,2,80,{"$f":"5","v":5},{"$f":"AY6+AZ6","v":85},null,1,100,{"$f":"5","v":5},{"$f":"BD6+BE6","v":105},null,1,100,null,{"$f":"IF(F6>=4,1,0)","v":1},{"$f":"IF(F6>=1,1,0)","v":1},{"$f":"IF($F6=7,1,0)","v":0},{"$f":"IF($F6=6,1,0)","v":1},{"$f":"IF($F6=5,1,0)","v":0},{"$f":"IF($F6=4,1,0)","v":0},{"$f":"IF($F6=3,1,0)","v":0},{"$f":"IF($F6=2,1,0)","v":0},{"$f":"IF($F6=1,1,0)","v":0}]
[{"$f":"IF(E7<E6,BH7,A6)","v":2},"Lyng-Jørgensen","Simon","Ready",{"$f":"P7-R7-Q7","v":365},7,null,"DNF","DNF",2,1,4,1,"DNF",null,365,0,0,80,100,50,100,0,null,"DNF",0,5,5,null,"DNF",0,5,5,null,2,80,5,{"$f":"AJ7+AK7","v":85},null,1,100,5,105,null,4,50,5,{"$f":"AT7+AU7","v":55},null,1,100,{"$f":"5","v":5},{"$f":"AY7+AZ7","v":105},null,"DNF",0,{"$f":"5","v":5},5,null,2,80,null,1,{"$f":"IF(F7>=1,1,0)","v":1},{"$f":"IF($F7=7,1,0)","v":1},{"$f":"IF($F7=6,1,0)","v":0},{"$f":"IF($F7=5,1,0)","v":0},{"$f":"IF($F7=4,1,0)","v":0},{"$f":"IF($F7=3,1,0)","v":0},{"$f":"IF($F7=2,1,0)","v":0},{"$f":"IF($F7=1,1,0)","v":0}]
[3,"Wahlqvist","Filip","Heming",{"$f":"P8-R8-Q8","v":254},7,null,"DSQ","DSQ",4,2,9,3,"DNF",null,254,0,0,50,80,29,60,0,null,"DSQ",0,5,5,null,"DSQ",0,5,5,null,4,50,5,{"$f":"AJ8+AK8","v":55},null,2,80,5,85,null,9,29,5,34,null,3,60,{"$f":"5","v":5},{"$f":"AY8+AZ8","v":65},null,"DNF",0,{"$f":"5","v":5},5,null,3,60,null,1,1,1,0,0,0,0,0,0]
[4,"Lund","Fridtjof Følstad","Ready",{"$f":"P9-S9-W9","v":241},6,null,"",4,8,7,2,5,19,null,285,"",50,32,36,80,45,12,null,null,null,null,null,null,4,50,5,55,null,8,32,5,{"$f":"AJ9+AK9","v":37},null,7,36,5,41,null,2,80,5,85,null,5,45,{"$f":"5","v":5},{"$f":"AY9+AZ9","v":50},null,19,12,{"$f":"5","v":5},17,null,4,50,null,1,1,0,1,0,0,0,0,0]
[5,"Bache-Wiig","Andreas","Heming",{"$f":"P10-T10","v":211},5,null,"",6,3,23,7,"",4,null,219,"",40,60,8,36,"",50,null,null,null,null,null,null,6,40,5,45,null,3,60,5,{"$f":"AJ10+AK10","v":65},null,23,8,5,13,null,7,36,5,41,null,null,null,null,null,null,4,50,{"$f":"5","v":5},55,null,5,45,null,1,1,0,0,1,0,0,0,0]
[5,"Grenman","Bendik","Ready",{"$f":"P11-T11-Q11","v":211},6,null,"15",2,"",15,12,4,9,null,243,16,80,"",16,22,50,29,null,"15",16,5,21,null,2,80,5,85,null,null,null,null,null,null,15,16,5,21,null,12,22,5,27,null,4,50,{"$f":"5","v":5},{"$f":"AY11+AZ11","v":55},null,9,29,{"$f":"5","v":5},34,null,6,40,null,1,1,0,1,0,0,0,0,0]
[7,"Søvik","Christian Oliveira","Kjelsås",{"$f":"P12-R12-Q12","v":201},6,null,"DSQ","DNF",6,4,5,"",7,null,201,0,0,40,50,45,"",36,null,"DSQ",0,5,5,null,"DNF",0,5,5,null,6,40,5,{"$f":"AJ12+AK12","v":45},null,4,50,5,55,null,5,45,5,50,null,null,null,null,null,null,7,36,{"$f":"5","v":5},41,null,7,36,null,1,1,0,1,0,0,0,0,0]
[8,"Langaard","Mons Monsen","Heming",{"$f":"P13","v":185},4,null,"DNF","","",5,6,"",2,null,185,"","","","","","","",null,"DNF",0,5,5,null,null,null,null,null,null,null,null,null,null,null,5,45,5,50,null,6,40,5,45,null,null,null,null,null,null,2,80,{"$f":"5","v":5},85,null,8,32,null,1,1,0,0,0,1,0,0,0]
[9,"Lorentzen","Georg N.","Ready",{"$f":"P14-Q14-W14","v":184},6,null,"DNF",5,5,8,"",8,18,null,197,0,45,45,32,"",32,13,null,"DNF",0,5,5,null,5,45,5,{"$f":"AE14+AF14","v":50},null,5,45,5,{"$f":"AJ14+AK14","v":50},null,8,32,5,37,null,null,null,null,null,null,8,32,{"$f":"5","v":5},{"$f":"AY14+AZ14","v":37},null,18,13,{"$f":"5","v":5},18,null,9,29,null,1,1,0,1,0,0,0,0,0]
[9,"Næss","Iver Walday","Kjelsås",{"$f":"P15-U15-R15","v":184},6,null,"7",11,9,9,"DNF","",3,null,208,36,24,29,29,0,"",60,null,"7",36,5,41,null,11,24,5,{"$f":"AE15+AF15","v":29},null,9,29,5,{"$f":"AJ15+AK15","v":34},null,9,29,5,34,null,"DNF",0,5,{"$f":"AT15+AU15","v":5},null,null,null,null,null,null,3,60,{"$f":"5","v":5},65,null,10,26,null,1,1,0,1,0,0,0,0,0]
[11,"Buer","Jonas","Hakadal",{"$f":"P16","v":155},2,null,"1","","","","","",5,null,155,"","","","","","","",null,"1",100,5,105,null,null,null,null,null,null,null,null,null,null,null,null,null,null,null,null,null,null,null,null,null,null,null,null,null,null,5,45,{"$f":"5","v":5},50,null,11,24,null,0,1,0,0,0,0,0,1,0]
[12,"Sehm","Kasper","IRS",{"$f":"P17-S17","v":153},5,null,"","","DSQ",11,8,6,8,null,153,"","",0,24,32,40,32,null,null,null,null,null,null,null,null,null,null,null,"DSQ",0,5,{"$f":"AJ17+AK17","v":5},null,11,24,5,{"$f":"AO17+AP17","v":29},null,8,32,5,{"$f":"AT17+AU17","v":37},null,6,40,{"$f":"5","v":5},{"$f":"AY17+AZ17","v":45},null,8,32,{"$f":"5","v":5},37,null,12,22,null,1,1,0,0,1,0,0,0,0]
[13,"Nordby","Eskil T.","IRS",{"$f":"P18","v":141},3,null,"4","",7,6,"","","",null,141,"","","","","","","",null,"4",50,5,55,null,null,null,null,null,null,7,36,5,{"$f":"AJ18+AK18","v":41},null,6,40,5,45,null,null,null,null,null,null,null,null,null,null,null,null,null,null,null,null,13,20,null,0,1,0,0,0,0,1,0,0]
[14,"Finne","Carl","Heming",{"$f":"P19","v":135},3,null,"DNF","","",13,1,"","",null,135,"","","","","","","",null,"DNF",0,5,5,null,null,null,null,null,null,null,null,null,null,null,13,20,5,25,null,1,100,5,{"$f":"AT19+AU19","v":105},null,null,null,null,null,null,null,null,null,null,null,14,18,null,0,1,0,0,0,0,1,0,0]
[15,"Nymoen","Henrik Bjerke","Kjelsås",{"$f":"P20-T20","v":131},5,null,"",7,10,"DNF",13,"",11,null,131,"",36,26,0,20,"",24,null,null,null,null,null,null,7,36,5,{"$f":"AE20+AF20","v":41},null,10,26,5,{"$f":"AJ20+AK20","v":31},null,"DNF",0,5,5,null,13,20,5,{"$f":"AT20+AU20","v":25},null,null,null,null,null,null,11,24,{"$f":"5","v":5},{"$f":"BD20+BE20","v":29},null,15,16,null,1,1,0,0,1,0,0,0,0]
[16,"Kvammen","Bendik","IRS",{"$f":"P21","v":128},4,null,"8","","",17,"",7,10,null,128,"","","","","","","",null,"8",32,5,37,null,null,null,null,null,null,null,null,null,null,null,17,14,5,19,null,null,null,null,null,null,7,36,{"$f":"5","v":5},{"$f":"AY21+AZ21","v":41},null,10,26,{"$f":"5","v":5},31,null,16,15,null,1,1,0,0,0,1,0,0,0]
[17,"Stokke","Kip Øen","Ready",{"$f":"P22-T22-U22","v":127},6,null,"",8,13,21,16,9,15,null,152,"",32,20,10,15,29,16,null,null,null,null,null,null,8,32,5,{"$f":"AE22+AF22","v":37},null,13,20,5,{"$f":"AJ22+AK22","v":25},null,21,10,5,15,null,16,15,5,{"$f":"AT22+AU22","v":20},null,9,29,{"$f":"5","v":5},{"$f":"AY22+AZ22","v":34},null,15,16,{"$f":"5","v":5},21,null,17,14,null,1,1,0,1,0,0,0,0,0]
[18,"Solli","Robin Lysebråte","Heming",{"$f":"P23","v":117},4,null,"13","",11,18,"","",6,null,117,"","","","","","","",null,"13",20,5,25,null,null,null,null,null,null,11,24,5,{"$f":"AJ23+AK23","v":29},null,18,13,5,18,null,null,null,null,null,null,null,null,null,null,null,6,40,{"$f":"5","v":5},45,null,18,13,null,1,1,0,0,0,1,0,0,0]
[19,"Akerjordet","Vemund","Kjelsås",{"$f":"P24-T24-S24","v":112},6,null,"14",13,"DNF","DNF",11,"",13,null,112,18,20,0,0,24,"",20,null,"14",18,5,23,null,13,20,5,{"$f":"AE24+AF24","v":25},null,"DNF",0,5,{"$f":"AJ24+AK24","v":5},null,"DNF",0,5,5,null,11,24,5,{"$f":"AT24+AU24","v":29},null,null,null,null,null,null,13,20,{"$f":"5","v":5},25,null,19,12,null,1,1,0,1,0,0,0,0,0]
[19,"Thelle","Leander","Kjelsås",{"$f":"P25","v":112},3,null,"",3,"",16,"","",12,null,112,"","","","","","","",null,null,null,null,null,null,3,60,5,{"$f":"AE25+AF25","v":65},null,null,null,null,null,null,16,15,5,20,null,null,null,null,null,null,null,null,null,null,null,12,22,{"$f":"5","v":5},27,null,20,11,null,0,1,0,0,0,0,1,0,0]
[21,"Berg","Bendik H.","IRS",{"$f":"P26","v":102},4,null,"DNF","","",12,3,"","",null,102,"","","","","","","",null,"DNF",0,5,5,null,null,null,null,null,null,null,null,null,null,null,12,22,5,27,null,3,60,5,{"$f":"AT26+AU26","v":65},null,null,null,null,null,null,null,null,{"$f":"5","v":5},5,null,21,10,null,1,1,0,0,0,1,0,0,0]
[22,"Steen-Olsen","Sander","Heming",{"$f":"P27","v":90},2,null,"2","","DNF","","","","",null,90,"","","","","","","",null,"2",80,5,85,null,null,null,null,null,null,"DNF",0,5,{"$f":"AJ27+AK27","v":5},null,null,null,null,null,null,null,null,null,null,null,null,null,null,null,null,null,null,null,null,null,22,9,null,0,1,0,0,0,0,0,1,0]
[23,"Bottolfsen","Sigurd","Kjelsås",{"$f":"P28-T28","v":85},5,null,"12","",15,30,20,"",20,null,86,22,"",16,1,11,"",11,null,"12",22,5,27,null,null,null,null,null,null,15,16,5,{"$f":"AJ28+AK28","v":21},null,30,1,5,{"$f":"AO28+AP28","v":6},null,20,11,5,{"$f":"AT28+AU28","v":16},null,null,null,null,null,null,20,11,{"$f":"5","v":5},{"$f":"BD28+BE28","v":16},null,23,8,null,1,1,0,0,1,0,0,0,0]
[24,"Olson","Morris Kyrre Hovde","Njård",{"$f":"P29","v":78},4,null,"",10,12,"DNF",21,"","",null,78,"","","","","","","",null,null,null,null,null,null,10,26,5,{"$f":"AE29+AF29","v":31},null,12,22,5,{"$f":"AJ29+AK29","v":27},null,"DNF",0,5,{"$f":"AO29+AP29","v":5},null,21,10,5,{"$f":"AT29+AU29","v":15},null,null,null,null,null,null,null,null,null,null,null,24,7,null,1,1,0,0,0,1,0,0,0]
[25,"Underthun","Christopher","Njård",74,4,null,"DNF",12,14,"","","",17,null,74,"","","","","","","",null,"DNF",0,5,5,null,12,22,5,{"$f":"AE30+AF30","v":27},null,14,18,5,{"$f":"AJ30+AK30","v":23},null,null,null,null,null,null,null,null,null,null,null,null,null,null,null,null,17,14,{"$f":"5","v":5},{"$f":"BD30+BE30","v":19},null,25,6,null,1,1,0,0,0,1,0,0,0]
[26,"Haug","Fredrik Willumsen","BSK",65,1,null,"3","","","","","","",null,65,"","","","","","","",null,"3",60,5,65,null,null,null,null,null,null,null,null,null,null,null,null,null,null,null,null,null,null,null,null,null,null,null,null,null,null,null,null,null,null,null,26,5,null,0,1,0,0,0,0,0,0,1]
[27,"Manley","Ferdinand Klæboe","Kjelsås",64,3,null,"18","","","",10,"",21,null,64,"","","","","","","",null,"18",13,5,18,null,null,null,null,null,null,null,null,null,null,null,null,null,null,null,null,10,26,5,{"$f":"AT32+AU32","v":31},null,null,null,null,null,null,21,10,{"$f":"5","v":5},{"$f":"BD32+BE32","v":15},null,27,4,null,0,1,0,0,0,0,1,0,0]
[28,"Refsum","Axel","Heming",62,3,null,"",9,"DNF",14,"","","",null,62,"","","","","","","",null,null,null,null,null,null,9,29,5,{"$f":"AE33+AF33","v":34},null,"DNF",0,5,{"$f":"AJ33+AK33","v":5},null,14,18,5,{"$f":"AO33+AP33","v":23},null,null,null,null,null,null,null,null,null,null,null,null,null,null,null,null,28,3,null,0,1,0,0,0,0,1,0,0]
[29,"Jørundland","Filip","Ready",60,2,null,"11","","",10,"","","",null,60,"","","","","","","",null,"11",24,5,29,null,null,null,null,null,null,null,null,null,null,null,10,26,5,{"$f":"AO34+AP34","v":31},null,null,null,null,null,null,null,null,null,null,null,null,null,null,null,null,29,2,null,0,1,0,0,0,0,0,1,0]
[30,"Riis","Johan","Heming",56,3,null,"","","",24,15,"",14,null,56,"","","","","","","",null,null,null,null,null,null,null,null,null,null,null,null,null,null,null,null,24,7,5,{"$f":"AO35+AP35","v":12},null,15,16,5,{"$f":"AT35+AU35","v":21},null,null,null,null,null,null,14,18,{"$f":"5","v":5},{"$f":"BD35+BE35","v":23},null,30,1,null,0,1,0,0,0,0,1,0,0]
[31,"Espeseth","Christian","Heming",54,4,null,"","DSQ",17,25,17,"","",null,54,"","","","","","","",null,null,null,null,null,null,"DSQ",0,5,{"$f":"AE36+AF36","v":5},null,17,14,5,{"$f":"AJ36+AK36","v":19},null,25,6,5,{"$f":"AO36+AP36","v":11},null,17,14,5,{"$f":"AT36+AU36","v":19},null,null,null,null,null,null,null,null,null,null,null,31,0,null,1,1,0,0,0,1,0,0,0]
[32,"Silset","Christoffer Westerby","Rælingen",50,1,null,"5","","","","","","",null,50,"","","","","","","",null,"5",45,5,50,null,null,null,null,null,null,null,null,null,null,null,null,null,null,null,null,null,null,null,null,null,null,null,null,null,null,null,null,null,null,null,32,0,null,0,1,0,0,0,0,0,0,1]
[32,"Wettre","Anders","IRS",50,{"$f":"COUNT(AA38,AF38,AK38,AP38,AU38,AZ38,BE38)","v":2},null,{"$f":"IF(Y38=\"\",\"\",Y38)","v":"17"},{"$f":"IF(AD38=\"\",\"\",AD38)","v":""},{"$f":"IF(AI38=\"\",\"\",AI38)","v":""},{"$f":"IF(AN38=\"\",\"\",AN38)","v":""},{"$f":"IF(AS38=\"\",\"\",AS38)","v":""},{"$f":"IF(AX38=\"\",\"\",AX38)","v":10},{"$f":"IF(BC38=\"\",\"\",BC38)","v":""},null,{"$f":"AB38+AG38+AL38+AQ38+AV38+BA38+BF38","v":50},{"$f":"IF($F38>=5,IF(Z38=\"\",\"\",Z38),\"\")","v":""},{"$f":"IF($F38>=5,IF(AE38=\"\",\"\",AE38),\"\")","v":""},{"$f":"IF($F38>=5,IF(AJ38=\"\",\"\",AJ38),\"\")","v":""},{"$f":"IF($F38>=5,IF(AO38=\"\",\"\",AO38),\"\")","v":""},{"$f":"IF($F38>=5,IF(AT38=\"\",\"\",AT38),\"\")","v":""},{"$f":"IF($F38>=5,IF(AY38=\"\",\"\",AY38),\"\")","v":""},{"$f":"IF($F38>=5,IF(BD38=\"\",\"\",BD38),\"\")","v":""},null,"17",14,5,19,null,null,null,null,null,null,null,null,null,null,null,null,null,null,null,null,null,null,null,null,null,10,26,{"$f":"5","v":5},{"$f":"AY38+AZ38","v":31},null,null,null,null,null,null,33,0,null,0,1,0,0,0,0,0,1,0]
[{"$f":"IF(E39<E38,BH39,A38)","v":34},"Selvaag","Nikolas","BSK",45,1,null,"6","","","","","","",null,45,"","","","","","","",null,"6",40,5,45,null,null,null,null,null,null,null,null,null,null,null,null,null,null,null,null,null,null,null,null,null,null,null,null,null,null,null,null,null,null,null,34,0,null,0,1,0,0,0,0,0,0,1]
[35,"Horgen","Thomas Astrup","Heming",43,2,null,"12","","",20,"","","",null,43,"","","","","","","",null,"12",22,5,27,null,null,null,null,null,null,null,null,null,null,null,20,11,5,{"$f":"AO40+AP40","v":16},null,null,null,null,null,null,null,null,null,null,null,null,null,null,null,null,35,0,null,0,1,0,0,0,0,0,1,0]
[36,"Dramstad","Sander","Ready",42,3,null,"","DSQ",19,"","","",16,null,42,"","","","","","","",null,null,null,null,null,null,"DSQ",0,5,{"$f":"AE41+AF41","v":5},null,19,12,5,{"$f":"AJ41+AK41","v":17},null,null,null,null,null,null,null,null,null,null,null,null,null,null,null,null,16,15,{"$f":"5","v":5},{"$f":"BD41+BE41","v":20},null,36,0,null,0,1,0,0,0,0,1,0,0]
[37,"Nordhus","Nils S-l","Heming",37,2,null,"","","",22,14,"","",null,37,"","","","","","","",null,null,null,null,null,null,null,null,null,null,null,null,null,null,null,null,22,9,5,{"$f":"AO42+AP42","v":14},null,14,18,5,{"$f":"AT42+AU42","v":23},null,null,null,null,null,null,null,null,null,null,null,37,0,null,0,1,0,0,0,0,0,1,0]
[38,"Larsen","Fredrik","Njård",35,2,null,"","",18,"",19,"","",null,35,"","","","","","","",null,null,null,null,null,null,null,null,null,null,null,18,13,5,{"$f":"AJ43+AK43","v":18},null,null,null,null,null,null,19,12,5,{"$f":"AT43+AU43","v":17},null,null,null,null,null,null,null,null,null,null,null,38,0,null,0,1,0,0,0,0,0,1,0]
[39,"Tajet","Petter","Brumunddal",34,1,null,"9","","","","","","",null,34,"","","","","","","",null,"9",29,5,34,null,null,null,null,null,null,null,null,null,null,null,null,null,null,null,null,null,null,null,null,null,null,null,null,null,null,null,null,null,null,null,39,0,null,0,1,0,0,0,0,0,0,1]
[40,"Pettersen","Casper","Rælingen",31,1,null,"10","","","","","","",null,31,"","","","","","","",null,"10",26,5,31,null,null,null,null,null,null,null,null,null,null,null,null,null,null,null,null,null,null,null,null,null,null,null,null,null,null,null,null,null,null,null,40,0,null,0,1,0,0,0,0,0,0,1]
[41,"Amundsen","Henrik R.","Heming",30,3,null,"","DNF",16,"DNF","","","",null,30,"","","","","","","",null,null,null,null,null,null,"DNF",0,5,{"$f":"AE46+AF46","v":5},null,16,15,5,{"$f":"AJ46+AK46","v":20},null,"DNF",0,5,{"$f":"AO46+AP46","v":5},null,null,null,null,null,null,null,null,null,null,null,null,null,null,null,null,41,0,null,0,1,0,0,0,0,1,0,0]
[42,"Fjeldstad","Sander","Ready",23,1,null,"",14,"","","","","",null,23,"","","","","","","",null,null,null,null,null,null,14,18,5,{"$f":"AE47+AF47","v":23},null,null,null,null,null,null,null,null,null,null,null,null,null,null,null,null,null,null,null,null,null,null,null,null,null,null,42,0,null,0,1,0,0,0,0,0,0,1]
[43,"Kolstad","Per","Heming",20,1,null,"16","","","","","","",null,20,"","","","","","","",null,"16",15,5,20,null,null,null,null,null,null,null,null,null,null,null,null,null,null,null,null,null,null,null,null,null,null,null,null,null,null,null,null,null,null,null,43,0,null,0,1,0,0,0,0,0,0,1]
[44,"Orskaug","Markus","HSIL",18,1,null,"","","","",18,"","",null,18,"","","","","","","",null,null,null,null,null,null,null,null,null,null,null,null,null,null,null,null,null,null,null,null,null,18,13,5,{"$f":"AT49+AU49","v":18},null,null,null,null,null,null,null,null,null,null,null,44,0,null,0,1,0,0,0,0,0,0,1]
[45,"Andersen","Christian Johan","Rælingen",17,1,null,"19","","","","","","",null,17,"","","","","","","",null,"19",12,5,17,null,null,null,null,null,null,null,null,null,null,null,null,null,null,null,null,null,null,null,null,null,null,null,null,null,null,null,null,null,null,null,45,0,null,0,1,0,0,0,0,0,0,1]
[45,"Forbrigd","Alexander","Heming",17,1,null,"","","",19,"","","",null,17,"","","","","","","",null,null,null,null,null,null,null,null,null,null,null,null,null,null,null,null,19,12,5,{"$f":"AO51+AP51","v":17},null,null,null,null,null,null,null,null,null,null,null,null,null,null,null,null,46,0,null,0,1,0,0,0,0,0,0,1]
[47,"Wessel","Christian","Ready",13,2,null,"","","DNF",28,"","","",null,13,"","","","","","","",null,null,null,null,null,null,null,null,null,null,null,"DNF",0,5,{"$f":"AJ52+AK52","v":5},null,28,3,5,{"$f":"AO52+AP52","v":8},null,null,null,null,null,null,null,null,null,null,null,null,null,null,null,null,47,0,null,0,1,0,0,0,0,0,1,0]
[48,"Bergmann","Felix K.","Heming",10,1,null,"","","",26,"","","",null,10,"","","","","","","",null,null,null,null,null,null,null,null,null,null,null,null,null,null,null,null,26,5,5,{"$f":"AO53+AP53","v":10},null,null,null,null,null,null,null,null,null,null,null,null,null,null,null,null,48,0,null,{"$f":"IF(F53>=4,1,0)","v":0},1,0,0,0,0,0,0,1]
[49,"Bengston","Lucas","Heming",9,1,null,"","","",27,"","","",null,9,"","","","","","","",null,null,null,null,null,null,null,null,null,null,null,null,null,null,null,null,27,4,5,{"$f":"AO54+AP54","v":9},null,null,null,null,null,null,null,null,null,null,null,null,null,null,null,null,49,0,null,{"$f":"IF(F54>=4,1,0)","v":0},1,0,0,0,0,0,0,1]
[50,"Wahl","Thomas Bu","Heming",7,1,null,"","","",29,"","","",null,7,"","","","","","","",null,null,null,null,null,null,null,null,null,null,null,null,null,null,null,null,29,2,5,{"$f":"AO55+AP55","v":7},null,null,null,null,null,null,null,null,null,null,null,null,null,null,null,null,50,0,null,0,1,0,0,0,0,0,0,1]
[51,"Berger","Joakim","USK",5,1,null,"DNF","","","","","","",null,5,"","","","","","","",null,"DNF",0,5,5,null,null,null,null,null,null,null,null,null,null,null,null,null,null,null,null,null,null,null,null,null,null,null,null,null,null,null,null,null,null,null,51,0,null,0,1,0,0,0,0,0,0,1]
[51,"Nersund","Vegard","Rælingen",5,1,null,"DSQ","","","","","","",null,5,"","","","","","","",null,"DSQ",0,5,5,null,null,null,null,null,null,null,null,null,null,null,null,null,null,null,null,null,null,null,null,null,null,null,null,null,null,null,null,null,null,null,52,null,null,0,1,0,0,0,0,0,0,1]
[51,"Nitteberg","Oscar","Rælingen",5,1,null,"DSQ","","","","","","",null,5,"","","","","","","",null,"DSQ",0,5,5,null,null,null,null,null,null,null,null,null,null,null,null,null,null,null,null,null,null,null,null,null,null,null,null,null,null,null,null,null,null,null,53,null,null,{"$f":"IF(F58>=4,1,0)","v":0},{"$f":"IF(F58>=1,1,0)","v":1},0,0,0,0,0,0,1]
[51,"Røvde","Sebastian Ryen","Rælingen",5,1,null,"DSQ","","","","","","",null,5,"","","","","","","",null,"DSQ",0,5,5,null,null,null,null,null,null,null,null,null,null,null,null,null,null,null,null,null,null,null,null,null,null,null,null,null,null,null,null,null,null,null,54,null,null,0,1,0,0,0,0,0,0,1]
[51,"Giverin","Albert","Heming",5,1,null,"","","",31,"","","",null,5,"","","","","","","",null,null,null,null,null,null,null,null,null,null,null,null,null,null,null,null,31,0,5,{"$f":"AO60+AP60","v":5},null,null,null,null,null,null,null,null,null,null,null,null,null,null,null,null,55,null,null,0,1,0,0,0,0,0,0,1]
[51,"Mæle","Martinius","Heming",5,1,null,"","","",32,"","","",null,5,"","","","","","","",null,null,null,null,null,null,null,null,null,null,null,null,null,null,null,null,32,0,5,{"$f":"AO61+AP61","v":5},null,null,null,null,null,null,null,null,null,null,null,null,null,null,null,null,56,null,null,0,1,0,0,0,0,0,0,1]
[57,null,null,null,{"$f":"P62","v":0},{"$f":"COUNT(AA62,AF62,AK62,AP62,AU62,AZ62,BE62)","v":0},null,{"$f":"IF(Y62=\"\",\"\",Y62)","v":""},{"$f":"IF(AD62=\"\",\"\",AD62)","v":""},{"$f":"IF(AI62=\"\",\"\",AI62)","v":""},{"$f":"IF(AN62=\"\",\"\",AN62)","v":""},{"$f":"IF(AS62=\"\",\"\",AS62)","v":""},{"$f":"IF(AX62=\"\",\"\",AX62)","v":""},{"$f":"IF(BC62=\"\",\"\",BC62)","v":""},null,{"$f":"AB62+AG62+AL62+AQ62+AV62+BA62+BF62","v":0},{"$f":"IF($F62>=5,IF(Z62=\"\",\"\",Z62),\"\")","v":""},{"$f":"IF($F62>=5,IF(AE62=\"\",\"\",AE62),\"\")","v":""},{"$f":"IF($F62>=5,IF(AJ62=\"\",\"\",AJ62),\"\")","v":""},{"$f":"IF($F62>=5,IF(AO62=\"\",\"\",AO62),\"\")","v":""},{"$f":"IF($F62>=5,IF(AT62=\"\",\"\",AT62),\"\")","v":""},{"$f":"IF($F62>=5,IF(AY62=\"\",\"\",AY62),\"\")","v":""},{"$f":"IF($F62>=5,IF(BD62=\"\",\"\",BD62),\"\")","v":""},null,null,null,null,null,null,null,null,null,null,null,null,null,null,null,null,null,null,null,null,null,null,null,null,null,null,null,null,null,null,null,null,null,null,null,null,57,null,null,0,0,0,0,0,0,0,0,0]
[57,null,null,null,0,0,null,"","","","","","","",null,0,"","","","","","","",null,null,null,null,null,null,null,null,null,null,null,null,null,null,null,null,null,null,null,null,null,null,null,null,null,null,null,null,null,null,null,null,null,null,null,null,58,null,null,0,0,0,0,0,0,0,0,0]
[57,null,null,null,0,0,null,"","","","","","","",null,0,"","","","","","","",null,null,null,null,null,null,null,null,null,null,null,null,null,null,null,null,null,null,null,null,null,null,null,null,null,null,null,null,null,null,null,null,null,null,null,null,59,null,null,0,0,0,0,0,0,0,0,0]
[57,null,null,null,0,0,null,"","","","","","","",null,0,"","","","","","","",null,null,null,null,null,null,null,null,null,null,null,null,null,null,null,null,null,null,null,null,null,null,null,null,null,null,null,null,null,null,null,null,null,null,null,null,60,null,null,0,0,0,0,0,0,0,0,0]
[57,null,null,null,0,0,null,"","","","","","","",null,0,"","","","","","","",null,null,null,null,null,null,null,null,null,null,null,null,null,null,null,null,null,null,null,null,null,null,null,null,null,null,null,null,null,null,null,null,null,null,null,null,61,null,null,0,0,0,0,0,0,0,0,0]
[]
[]
[]
[]
[null,null,"Totalt antall løpere",null,{"$f":"SUM(BL6:BL67)","v":56}]
[null,null,"Løpere med minst fire renn",null,{"$f":"SUM(BK6:BK67)","v":21}]
[null,null,"Totalt antall løpere/renn",null,{"$f":"SUM(F6:F67)","v":169}]
[]
[null,null,"Løpere med 7 renn",null,{"$f":"SUM(BM6:BM66)","v":2}]
[null,null,"Løpere med 6 renn",null,{"$f":"SUM(BN6:BN66)","v":8}]
[null,null,"Løpere med 5 renn",null,{"$f":"SUM(BO6:BO66)","v":4}]
[null,null,"Løpere med 4 renn",null,{"$f":"SUM(BP6:BP66)","v":7}]
[null,null,"Løpere med 3 renn",null,{"$f":"SUM(BQ6:BQ66)","v":8}]
[null,null,"Løpere med 2 renn",null,{"$f":"SUM(BR6:BR66)","v":8}]
[null,null,"Løpere med kun 1 renn",null,{"$f":"SUM(BS6:BS66)","v":19}]
[null,null,"Sum/kontroll",null,{"$f":"SUM(E75:E81)","v":56}]

{"sheet":"Ark1","index":21,"n_rows":0,"n_cols":0,"rows_kept":0,"cut":false,"hidden":false,"merged":[]}